{"text_format":"1","workbook":"xlsx","n_sheets":23,"sheets":["OBSAH","Cenová ponuka","Objednávka","Lakoplastovaný odkvapový systém","Pozinkovaný odkvapový systém","Pozinkovaný odkvapový systém La","CEDA","COROTOP","GALECO STAL2","GALECO NOVA","GALECO PVC2","GALECO PVC","KRONOPLAST-hlavice, priechodky","KRONOPLAST-ostatné","BAUDER - asfaltové pásy","BAUDER - PVC,TPO fólie","BAUDER - PIR","BAUDER - PIR SD","BAUDER - LES","PLECHY","STREŠNÉ KRYTINY","DOPLNKY KU KRYTINÁM","EVROMAT strešné krytiny"],"not_rendered":{"charts":0,"images":441,"macros":1,"external_links":2,"defined_names":1,"comments":2,"pivot_tables":0},"unopened":[],"bounds":{"document_bytes":16777216,"sheet_cells":100000,"rows_first":2000,"rows_last":500,"rows_between":2000,"halvings":0,"cell_chars":16384,"cell_head_chars":4096},"cells_cut":0,"cells_raw":0,"read":"whole","date_system":"1900"}

{"sheet":"OBSAH","index":0,"n_rows":2,"n_cols":1,"rows_kept":2,"cut":false,"hidden":false,"merged":[]}
[]
[3]

{"sheet":"Cenová ponuka","index":1,"n_rows":2,"n_cols":8,"rows_kept":2,"cut":false,"hidden":false,"merged":[[0,3,0,4],[0,0,0,1]]}
["CENOVÁ PONUKA ",null,"Firma:","TEST",null,null,null,10]
["Tovar","PLU","Množ.","Cena za MJ","Cena spolu "]

{"sheet":"Objednávka","index":2,"n_rows":2,"n_cols":5,"rows_kept":2,"cut":false,"hidden":false,"merged":[[0,3,0,4]]}
["OBJEDNÁVKA",null,"Firma:","TEST"]
["Tovar","PLU","Množ.","Cena za MJ","Cena spolu "]

{"sheet":"Lakoplastovaný odkvapový systém","index":3,"n_rows":62,"n_cols":16,"rows_kept":62,"cut":false,"hidden":false,"merged":[[60,15,61,15],[57,15,59,15],[6,5,6,14],[47,15,49,15],[44,15,46,15],[41,15,43,15],[51,15,53,15],[38,15,40,15],[20,15,28,15],[18,15,19,15],[55,15,56,15],[35,15,37,15],[33,15,34,15],[31,15,32,15],[29,15,30,15]]}
[null,null,null,null,null,null,null,null,null,null,null,null,null,null,null,"Vaša zľava v %"]
[null,null,null,null,null,null,null,null,null,null,null,null,null,null,null,0]
[null,null,null,null,null,null,null,null,null,null,null,null,null,null,null,"Ceny sú uvádzané bez DPH."]
[]
[]
[]
[null,"Lakoplastovaný odkvapový systém",null,null,null,"Objednané množstvá"]
["PLU","Model","Cena ","Cena po zľave","MJ",3009,5010,7016,8004,8017,8019,9005,9006,9010,8028,"Obrázok"]
["5ffff022","Žľab polkruhový  | 250 mm | 2 m",{"$f":"_xlfn.XLOOKUP(VALUE(REPLACE(A9,2,4,9005)),'[1]Worksheet 1'!$A$2:$A$18880,'[1]Worksheet 1'!$C$2:$C$18880)","v":10.4},{"$f":"IFERROR(C9*(1-$P$2/100),\"-\")","v":10.4},"ks"]
["5ffff023","Žľab polkruhový  | 250 mm | 3 m",{"$f":"_xlfn.XLOOKUP(VALUE(REPLACE(A10,2,4,9005)),'[1]Worksheet 1'!$A$2:$A$18880,'[1]Worksheet 1'!$C$2:$C$18880)","v":15.6},15.6,"ks"]
["5ffff024","Žľab polkruhový  | 250 mm | 4 m",{"$f":"_xlfn.XLOOKUP(VALUE(REPLACE(A11,2,4,9005)),'[1]Worksheet 1'!$A$2:$A$18880,'[1]Worksheet 1'!$C$2:$C$18880)","v":20.8},20.8,"ks"]
["5ffff026","Žľab polkruhový  | 250 mm | 6 m",{"$f":"_xlfn.XLOOKUP(VALUE(REPLACE(A12,2,4,9005)),'[1]Worksheet 1'!$A$2:$A$18880,'[1]Worksheet 1'!$C$2:$C$18880)","v":31.2},31.2,"ks"]
["5ffff012","Žľab polkruhový  | 330 mm | 2 m",{"$f":"_xlfn.XLOOKUP(VALUE(REPLACE(A13,2,4,9005)),'[1]Worksheet 1'!$A$2:$A$18880,'[1]Worksheet 1'!$C$2:$C$18880)","v":12},12,"ks"]
["5ffff013","Žľab polkruhový  | 330 mm | 3 m",{"$f":"_xlfn.XLOOKUP(VALUE(REPLACE(A14,2,4,9005)),'[1]Worksheet 1'!$A$2:$A$18880,'[1]Worksheet 1'!$C$2:$C$18880)","v":18},18,"ks"]
["5ffff014","Žľab polkruhový  | 330 mm | 4 m",{"$f":"_xlfn.XLOOKUP(VALUE(REPLACE(A15,2,4,9005)),'[1]Worksheet 1'!$A$2:$A$18880,'[1]Worksheet 1'!$C$2:$C$18880)","v":24},24,"ks"]
["5ffff016","Žľab polkruhový  | 330 mm | 6 m",{"$f":"_xlfn.XLOOKUP(VALUE(REPLACE(A16,2,4,9005)),'[1]Worksheet 1'!$A$2:$A$18880,'[1]Worksheet 1'!$C$2:$C$18880)","v":36},36,"ks"]
["5ffff110","Žľabový hák | 250 mm | 25x5 | 480",{"$f":"_xlfn.XLOOKUP(VALUE(REPLACE(A17,2,4,9005)),'[1]Worksheet 1'!$A$2:$A$18880,'[1]Worksheet 1'!$C$2:$C$18880)","v":3.6},3.6,"ks"]
["5ffff100","Žľabový hák | 330 mm | 30x5 | 550",{"$f":"_xlfn.XLOOKUP(VALUE(REPLACE(A18,2,4,9005)),'[1]Worksheet 1'!$A$2:$A$18880,'[1]Worksheet 1'!$C$2:$C$18880)","v":4.2},4.2,"ks"]
["5ffff116","Žľabový hák čelový s pätkou | 250 mm",{"$f":"_xlfn.XLOOKUP(VALUE(REPLACE(A19,2,4,9005)),'[1]Worksheet 1'!$A$2:$A$18880,'[1]Worksheet 1'!$C$2:$C$18880)","v":3.6},3.6,"ks"]
["5ffff106","Žľabový hák čelový s pätkou | 330 mm",{"$f":"_xlfn.XLOOKUP(VALUE(REPLACE(A20,2,4,9005)),'[1]Worksheet 1'!$A$2:$A$18880,'[1]Worksheet 1'!$C$2:$C$18880)","v":4},4,"ks"]
["5ffff051","Zvodová rúra | Ø 80 | 1 m",{"$f":"_xlfn.XLOOKUP(VALUE(REPLACE(A21,2,4,9005)),'[1]Worksheet 1'!$A$2:$A$18880,'[1]Worksheet 1'!$C$2:$C$18880)","v":6},6,"ks"]
["5ffff053","Zvodová rúra | Ø 80 | 3 m",{"$f":"_xlfn.XLOOKUP(VALUE(REPLACE(A22,2,4,9005)),'[1]Worksheet 1'!$A$2:$A$18880,'[1]Worksheet 1'!$C$2:$C$18880)","v":18},18,"ks"]
["5ffff054","Zvodová rúra | Ø 80 | 4 m",{"$f":"_xlfn.XLOOKUP(VALUE(REPLACE(A23,2,4,9005)),'[1]Worksheet 1'!$A$2:$A$18880,'[1]Worksheet 1'!$C$2:$C$18880)","v":24},24,"ks"]
["5ffff041","Zvodová rúra | Ø 100 | 1 m",{"$f":"_xlfn.XLOOKUP(VALUE(REPLACE(A24,2,4,9005)),'[1]Worksheet 1'!$A$2:$A$18880,'[1]Worksheet 1'!$C$2:$C$18880)","v":6.2},6.2,"ks"]
["5ffff043","Zvodová rúra | Ø 100 | 3 m",{"$f":"_xlfn.XLOOKUP(VALUE(REPLACE(A25,2,4,9005)),'[1]Worksheet 1'!$A$2:$A$18880,'[1]Worksheet 1'!$C$2:$C$18880)","v":18.600000000000001},18.600000000000001,"ks"]
["5ffff044","Zvodová rúra | Ø 100 | 4 m",{"$f":"_xlfn.XLOOKUP(VALUE(REPLACE(A26,2,4,9005)),'[1]Worksheet 1'!$A$2:$A$18880,'[1]Worksheet 1'!$C$2:$C$18880)","v":24.8},24.8,"ks"]
["5ffff031","Zvodová rúra | Ø 120 | 1 m",{"$f":"_xlfn.XLOOKUP(VALUE(REPLACE(A27,2,4,9005)),'[1]Worksheet 1'!$A$2:$A$18880,'[1]Worksheet 1'!$C$2:$C$18880)","v":9.5},9.5,"ks"]
["5ffff033","Zvodová rúra | Ø 120 | 3 m",{"$f":"_xlfn.XLOOKUP(VALUE(REPLACE(A28,2,4,9005)),'[1]Worksheet 1'!$A$2:$A$18880,'[1]Worksheet 1'!$C$2:$C$18880)","v":28.5},28.5,"ks"]
["5ffff034","Zvodová rúra | Ø 120 | 4 m",{"$f":"_xlfn.XLOOKUP(VALUE(REPLACE(A29,2,4,9005)),'[1]Worksheet 1'!$A$2:$A$18880,'[1]Worksheet 1'!$C$2:$C$18880)","v":38},38,"ks"]
["5ffff080","Žľabový roh vonkajší | 250 mm",{"$f":"_xlfn.XLOOKUP(VALUE(REPLACE(A30,2,4,9005)),'[1]Worksheet 1'!$A$2:$A$18880,'[1]Worksheet 1'!$C$2:$C$18880)","v":11.8},11.8,"ks"]
["5ffff060","Žľabový roh vonkajší | 330 mm",{"$f":"_xlfn.XLOOKUP(VALUE(REPLACE(A31,2,4,9005)),'[1]Worksheet 1'!$A$2:$A$18880,'[1]Worksheet 1'!$C$2:$C$18880)","v":12},12,"ks"]
["5ffff090","Žľabový roh vnútorný | 250 mm",{"$f":"_xlfn.XLOOKUP(VALUE(REPLACE(A32,2,4,9005)),'[1]Worksheet 1'!$A$2:$A$18880,'[1]Worksheet 1'!$C$2:$C$18880)","v":11.8},11.8,"ks"]
["5ffff070","Žľabový roh vnútorný | 330 mm",{"$f":"_xlfn.XLOOKUP(VALUE(REPLACE(A33,2,4,9005)),'[1]Worksheet 1'!$A$2:$A$18880,'[1]Worksheet 1'!$C$2:$C$18880)","v":12},12,"ks"]
["5ffff220","Žľabové čelo falcovacie | 250 mm",{"$f":"_xlfn.XLOOKUP(VALUE(REPLACE(A34,2,4,9005)),'[1]Worksheet 1'!$A$2:$A$18880,'[1]Worksheet 1'!$C$2:$C$18880)","v":1.3},1.3,"ks"]
["5ffff210","Žľabové čelo falcovacie | 330 mm",{"$f":"_xlfn.XLOOKUP(VALUE(REPLACE(A35,2,4,9005)),'[1]Worksheet 1'!$A$2:$A$18880,'[1]Worksheet 1'!$C$2:$C$18880)","v":1.6},1.6,"ks"]
["5ffff200","Kotlík kónický | 250 | 80",{"$f":"_xlfn.XLOOKUP(VALUE(REPLACE(A36,2,4,9005)),'[1]Worksheet 1'!$A$2:$A$18880,'[1]Worksheet 1'!$C$2:$C$18880)","v":6},6,"ks"]
["5ffff190","Kotlík kónický | 330 | 100",{"$f":"_xlfn.XLOOKUP(VALUE(REPLACE(A37,2,4,9005)),'[1]Worksheet 1'!$A$2:$A$18880,'[1]Worksheet 1'!$C$2:$C$18880)","v":7.3},7.3,"ks"]
["5ffff180","Kotlík kónický | 330 | 120",{"$f":"_xlfn.XLOOKUP(VALUE(REPLACE(A38,2,4,9005)),'[1]Worksheet 1'!$A$2:$A$18880,'[1]Worksheet 1'!$C$2:$C$18880)","v":8.6},8.6,"ks"]
["5ffff255","Koleno zvárané | Ø 80",{"$f":"_xlfn.XLOOKUP(VALUE(REPLACE(A39,2,4,9005)),'[1]Worksheet 1'!$A$2:$A$18880,'[1]Worksheet 1'!$C$2:$C$18880)","v":5.6},5.6,"ks"]
["5ffff245","Koleno zvárané | Ø 100",{"$f":"_xlfn.XLOOKUP(VALUE(REPLACE(A40,2,4,9005)),'[1]Worksheet 1'!$A$2:$A$18880,'[1]Worksheet 1'!$C$2:$C$18880)","v":5.8},5.8,"ks"]
["5ffff235","Koleno zvárané | Ø 120",{"$f":"_xlfn.XLOOKUP(VALUE(REPLACE(A41,2,4,9005)),'[1]Worksheet 1'!$A$2:$A$18880,'[1]Worksheet 1'!$C$2:$C$18880)","v":8.5},{"$f":"IFERROR(C41*(1-$P$2/100),\"-\")","v":8.5},"ks"]
["5ffff422","Koleno soklové 60 ° | Ø 80",{"$f":"_xlfn.XLOOKUP(VALUE(REPLACE(A42,2,4,9005)),'[1]Worksheet 1'!$A$2:$A$18880,'[1]Worksheet 1'!$C$2:$C$18880)","v":10.5},10.5,"ks"]
["5ffff421","Koleno soklové 60 ° | Ø 100",{"$f":"_xlfn.XLOOKUP(VALUE(REPLACE(A43,2,4,9005)),'[1]Worksheet 1'!$A$2:$A$18880,'[1]Worksheet 1'!$C$2:$C$18880)","v":11},11,"ks"]
["5ffff420","Koleno soklové 60 ° | Ø 120",{"$f":"_xlfn.XLOOKUP(VALUE(REPLACE(A44,2,4,9005)),'[1]Worksheet 1'!$A$2:$A$18880,'[1]Worksheet 1'!$C$2:$C$18880)","v":16},16,"ks"]
["5ffff411","Výpust dažďovej vody | Ø 80",{"$f":"_xlfn.XLOOKUP(VALUE(REPLACE(A45,2,4,9005)),'[1]Worksheet 1'!$A$2:$A$18880,'[1]Worksheet 1'!$C$2:$C$18880)","v":13},13,"ks"]
["5ffff410","Výpust dažďovej vody | Ø 100",{"$f":"_xlfn.XLOOKUP(VALUE(REPLACE(A46,2,4,9005)),'[1]Worksheet 1'!$A$2:$A$18880,'[1]Worksheet 1'!$C$2:$C$18880)","v":14},14,"ks"]
["5ffff400","Výpust dažďovej vody | Ø 120",{"$f":"_xlfn.XLOOKUP(VALUE(REPLACE(A47,2,4,9005)),'[1]Worksheet 1'!$A$2:$A$18880,'[1]Worksheet 1'!$C$2:$C$18880)","v":18},18,"ks"]
["5ffff163","Objímka | Ø 80",{"$f":"_xlfn.XLOOKUP(VALUE(REPLACE(A48,2,4,9005)),'[1]Worksheet 1'!$A$2:$A$18880,'[1]Worksheet 1'!$C$2:$C$18880)","v":2.6},2.6,"ks"]
["5ffff143","Objímka | Ø 100",{"$f":"_xlfn.XLOOKUP(VALUE(REPLACE(A49,2,4,9005)),'[1]Worksheet 1'!$A$2:$A$18880,'[1]Worksheet 1'!$C$2:$C$18880)","v":2.8},2.8,"ks"]
["5ffff123","Objímka | Ø 120",{"$f":"_xlfn.XLOOKUP(VALUE(REPLACE(A50,2,4,9005)),'[1]Worksheet 1'!$A$2:$A$18880,'[1]Worksheet 1'!$C$2:$C$18880)","v":3},3,"ks"]
[82,"Hmoždina do zateplenia M10 (IPL 95 DS)",{"$f":"_xlfn.XLOOKUP(A51,'[1]Worksheet 1'!$A$2:$A$18880,'[1]Worksheet 1'!$C$2:$C$18880)","v":6.1},6.1,"ks"]
[171,"Tŕň objímky M10 | 160 mm",{"$f":"_xlfn.XLOOKUP(A52,'[1]Worksheet 1'!$A$2:$A$18880,'[1]Worksheet 1'!$C$2:$C$18880)","v":1.5},1.5,"ks"]
[172,"Tŕň objímky M10 | 205 mm",{"$f":"_xlfn.XLOOKUP(A53,'[1]Worksheet 1'!$A$2:$A$18880,'[1]Worksheet 1'!$C$2:$C$18880)","v":1.8},1.8,"ks"]
[174,"Tŕň objímky M10 | 305 mm",{"$f":"_xlfn.XLOOKUP(A54,'[1]Worksheet 1'!$A$2:$A$18880,'[1]Worksheet 1'!$C$2:$C$18880)","v":2.1},2.1,"ks"]
[56,"Držiak objímky na fasádu M10",{"$f":"_xlfn.XLOOKUP(A55,'[1]Worksheet 1'!$A$2:$A$18880,'[1]Worksheet 1'!$C$2:$C$18880)","v":1.2},1.2,"ks"]
["5ffff029","LP žľabová spojka | 250 mm",{"$f":"_xlfn.XLOOKUP(VALUE(REPLACE(A56,2,4,9005)),'[1]Worksheet 1'!$A$2:$A$18880,'[1]Worksheet 1'!$C$2:$C$18880)","v":4},4,"ks"]
["5ffff019","LP žľabová spojka | 330 mm",{"$f":"_xlfn.XLOOKUP(VALUE(REPLACE(A57,2,4,9005)),'[1]Worksheet 1'!$A$2:$A$18880,'[1]Worksheet 1'!$C$2:$C$18880)","v":4.2},4.2,"ks"]
["5ffff059","LP spojka zvodovej rúry | Ø 80",{"$f":"_xlfn.XLOOKUP(VALUE(REPLACE(A58,2,4,9005)),'[1]Worksheet 1'!$A$2:$A$18880,'[1]Worksheet 1'!$C$2:$C$18880)","v":4},4,"ks"]
["5ffff049","LP spojka zvodovej rúry | Ø 100",{"$f":"_xlfn.XLOOKUP(VALUE(REPLACE(A59,2,4,9005)),'[1]Worksheet 1'!$A$2:$A$18880,'[1]Worksheet 1'!$C$2:$C$18880)","v":4},4,"ks"]
["5ffff039","LP spojka zvodovej rúry | Ø 120",{"$f":"_xlfn.XLOOKUP(VALUE(REPLACE(A60,2,4,9005)),'[1]Worksheet 1'!$A$2:$A$18880,'[1]Worksheet 1'!$C$2:$C$18880)","v":4.8},4.8,"ks"]
["5ffff221","LP žľabové čelo s gumovým tesnením | 250 mm",{"$f":"_xlfn.XLOOKUP(VALUE(REPLACE(A61,2,4,9005)),'[1]Worksheet 1'!$A$2:$A$18880,'[1]Worksheet 1'!$C$2:$C$18880)","v":3.2},{"$f":"IFERROR(C61*(1-$P$2/100),\"-\")","v":3.2},"ks"]
["5ffff211","LP žľabové čelo s gumovým tesnením | 333 mm",{"$f":"_xlfn.XLOOKUP(VALUE(REPLACE(A62,2,4,9005)),'[1]Worksheet 1'!$A$2:$A$18880,'[1]Worksheet 1'!$C$2:$C$18880)","v":3.4},3.4,"ks"]

{"sheet":"Pozinkovaný odkvapový systém","index":4,"n_rows":104,"n_cols":8,"rows_kept":104,"cut":false,"hidden":false,"merged":[[28,6,29,6],[31,6,45,6],[24,6,27,6],[8,6,23,6],[6,1,6,6],[46,6,53,6],[54,6,57,6],[58,6,59,6],[60,6,61,6],[62,6,67,6],[68,6,69,6],[70,6,74,6],[75,6,79,6],[81,6,83,6],[85,6,87,6],[88,6,90,6],[91,6,93,6],[94,6,99,6],[100,6,101,6],[102,6,103,6]]}
[null,null,null,null,null,null,null,"Vaša zľava v %"]
[null,null,null,null,null,null,null,0]
[null,null,null,null,null,null,null,"Ceny sú uvádzané bez DPH."]
[]
[]
[]
[null,"Pozinkovaný odkvapový systém "]
["PLU","Model","Cena ","Cena po zľave","MJ","Objednané množstvá","Obrázok"]
[60000011,"PZ žľab polkruhový | 200 mm | 1 m",{"$f":"_xlfn.XLOOKUP(A9,'[1]Worksheet 1'!$A$2:$A$18880,'[1]Worksheet 1'!$C$2:$C$18880)","v":3.8},{"$f":"C9*(1-$H$2/100)","v":3.8},"ks"]
[60000012,"PZ žľab polkruhový | 200 mm | 2 m",{"$f":"_xlfn.XLOOKUP(A10,'[1]Worksheet 1'!$A$2:$A$18880,'[1]Worksheet 1'!$C$2:$C$18880)","v":7.6},7.6,"ks"]
[60000013,"PZ žľab polkruhový | 200 mm | 3 m ",{"$f":"_xlfn.XLOOKUP(A11,'[1]Worksheet 1'!$A$2:$A$18880,'[1]Worksheet 1'!$C$2:$C$18880)","v":11.4},11.4,"ks"]
[60000014,"PZ žľab polkruhový | 200 mm | 4 m",{"$f":"_xlfn.XLOOKUP(A12,'[1]Worksheet 1'!$A$2:$A$18880,'[1]Worksheet 1'!$C$2:$C$18880)","v":18},18,"ks"]
[707,"PZ žľab polkruhový | 250 mm | 2 m",{"$f":"_xlfn.XLOOKUP(A13,'[1]Worksheet 1'!$A$2:$A$18880,'[1]Worksheet 1'!$C$2:$C$18880)","v":5},5,"ks"]
[708,"PZ žľab polkruhový | 250 mm | 3 m ",{"$f":"_xlfn.XLOOKUP(A14,'[1]Worksheet 1'!$A$2:$A$18880,'[1]Worksheet 1'!$C$2:$C$18880)","v":7.5},7.5,"ks"]
[709,"PZ žľab polkruhový | 250 mm | 4 m",{"$f":"_xlfn.XLOOKUP(A15,'[1]Worksheet 1'!$A$2:$A$18880,'[1]Worksheet 1'!$C$2:$C$18880)","v":10},10,"ks"]
[710,"PZ žľab polkruhový | 250 mm | 5 m",{"$f":"_xlfn.XLOOKUP(A16,'[1]Worksheet 1'!$A$2:$A$18880,'[1]Worksheet 1'!$C$2:$C$18880)","v":12.5},12.5,"ks"]
[711,"PZ žľab polkruhový | 250 mm | 6 m",{"$f":"_xlfn.XLOOKUP(A17,'[1]Worksheet 1'!$A$2:$A$18880,'[1]Worksheet 1'!$C$2:$C$18880)","v":15},15,"ks"]
[700,"PZ žľab polkruhový | 330 mm | 2 m",{"$f":"_xlfn.XLOOKUP(A18,'[1]Worksheet 1'!$A$2:$A$18880,'[1]Worksheet 1'!$C$2:$C$18880)","v":6.2},6.2,"ks"]
[701,"PZ žľab polkruhový | 330 mm | 3 m ",{"$f":"_xlfn.XLOOKUP(A19,'[1]Worksheet 1'!$A$2:$A$18880,'[1]Worksheet 1'!$C$2:$C$18880)","v":9.3000000000000007},9.3000000000000007,"ks"]
[702,"PZ žľab polkruhový | 330 mm | 4 m",{"$f":"_xlfn.XLOOKUP(A20,'[1]Worksheet 1'!$A$2:$A$18880,'[1]Worksheet 1'!$C$2:$C$18880)","v":12.4},12.4,"ks"]
[703,"PZ žľab polkruhový | 330 mm | 5 m",{"$f":"_xlfn.XLOOKUP(A21,'[1]Worksheet 1'!$A$2:$A$18880,'[1]Worksheet 1'!$C$2:$C$18880)","v":15.5},15.5,"ks"]
[704,"PZ žľab polkruhový | 330 mm | 6 m",{"$f":"_xlfn.XLOOKUP(A22,'[1]Worksheet 1'!$A$2:$A$18880,'[1]Worksheet 1'!$C$2:$C$18880)","v":18.600000000000001},18.600000000000001,"ks"]
[768,"PZ žľab polkruhový | 400 mm | 4 m",{"$f":"_xlfn.XLOOKUP(A23,'[1]Worksheet 1'!$A$2:$A$18880,'[1]Worksheet 1'!$C$2:$C$18880)","v":29.2},29.2,"ks"]
[767,"PZ žľab polkruhový | 400 mm | 6 m",{"$f":"_xlfn.XLOOKUP(A24,'[1]Worksheet 1'!$A$2:$A$18880,'[1]Worksheet 1'!$C$2:$C$18880)","v":43.8},43.8,"ks"]
[60000111,"PZ žľabový hák | 200 mm | 25x5/380",{"$f":"_xlfn.XLOOKUP(A25,'[1]Worksheet 1'!$A$2:$A$18880,'[1]Worksheet 1'!$C$2:$C$18880)","v":3.2},3.2,"ks"]
[737,"PZ žľabový hák | 250 mm | 30x4/440",{"$f":"_xlfn.XLOOKUP(A26,'[1]Worksheet 1'!$A$2:$A$18880,'[1]Worksheet 1'!$C$2:$C$18880)","v":1.7},1.7,"ks"]
[738,"PZ žľabový hák | 330 mm | 30x5/550",{"$f":"_xlfn.XLOOKUP(A27,'[1]Worksheet 1'!$A$2:$A$18880,'[1]Worksheet 1'!$C$2:$C$18880)","v":2},2,"ks"]
[763,"PZ žľabový hák | 400 mm | 30x5",{"$f":"_xlfn.XLOOKUP(A28,'[1]Worksheet 1'!$A$2:$A$18880,'[1]Worksheet 1'!$C$2:$C$18880)","v":3.7},3.7,"ks"]
[794,"PZ žľabový hák čelový s pätkou | 250 mm",{"$f":"_xlfn.XLOOKUP(A29,'[1]Worksheet 1'!$A$2:$A$18880,'[1]Worksheet 1'!$C$2:$C$18880)","v":3.2},3.2,"ks"]
[795,"PZ žľabový hák čelový s pätkou | 330 mm",{"$f":"_xlfn.XLOOKUP(A30,'[1]Worksheet 1'!$A$2:$A$18880,'[1]Worksheet 1'!$C$2:$C$18880)","v":3.6},3.6,"ks"]
[778,"PZ žľabový hák krátky | 330 mm | 30x5/460",{"$f":"_xlfn.XLOOKUP(A31,'[1]Worksheet 1'!$A$2:$A$18880,'[1]Worksheet 1'!$C$2:$C$18880)","v":1.89},1.89,"ks"]
[60000056,"PZ zvodová rúra | Ø 60 | 2 m",{"$f":"_xlfn.XLOOKUP(A32,'[1]Worksheet 1'!$A$2:$A$18880,'[1]Worksheet 1'!$C$2:$C$18880)","v":13},13,"ks"]
[60000057,"PZ zvodová rúra | Ø 60 | 3 m ",{"$f":"_xlfn.XLOOKUP(A33,'[1]Worksheet 1'!$A$2:$A$18880,'[1]Worksheet 1'!$C$2:$C$18880)","v":19.5},19.5,"ks"]
[780,"PZ zvodová rúra | Ø 80 | 1m",{"$f":"_xlfn.XLOOKUP(A34,'[1]Worksheet 1'!$A$2:$A$18880,'[1]Worksheet 1'!$C$2:$C$18880)","v":3.7},3.7,"ks"]
[723,"PZ zvodová rúra | Ø 80 | 3 m ",{"$f":"_xlfn.XLOOKUP(A35,'[1]Worksheet 1'!$A$2:$A$18880,'[1]Worksheet 1'!$C$2:$C$18880)","v":9.6},9.6,"ks"]
[724,"PZ zvodová rúra | Ø 80 | 4 m",{"$f":"_xlfn.XLOOKUP(A36,'[1]Worksheet 1'!$A$2:$A$18880,'[1]Worksheet 1'!$C$2:$C$18880)","v":12.8},12.8,"ks"]
[718,"PZ zvodová rúra | Ø 100 | 2 m",{"$f":"_xlfn.XLOOKUP(A37,'[1]Worksheet 1'!$A$2:$A$18880,'[1]Worksheet 1'!$C$2:$C$18880)","v":7},7,"ks"]
[719,"PZ zvodová rúra | Ø 100 | 3 m ",{"$f":"_xlfn.XLOOKUP(A38,'[1]Worksheet 1'!$A$2:$A$18880,'[1]Worksheet 1'!$C$2:$C$18880)","v":10.5},10.5,"ks"]
[720,"PZ zvodová rúra | Ø 100 | 4 m",{"$f":"_xlfn.XLOOKUP(A39,'[1]Worksheet 1'!$A$2:$A$18880,'[1]Worksheet 1'!$C$2:$C$18880)","v":14},14,"ks"]
[721,"PZ zvodová rúra | Ø 100 | 5 m",{"$f":"_xlfn.XLOOKUP(A40,'[1]Worksheet 1'!$A$2:$A$18880,'[1]Worksheet 1'!$C$2:$C$18880)","v":17.5},17.5,"ks"]
[714,"PZ zvodová rúra | Ø 120 | 2 m",{"$f":"_xlfn.XLOOKUP(A41,'[1]Worksheet 1'!$A$2:$A$18880,'[1]Worksheet 1'!$C$2:$C$18880)","v":10},{"$f":"C41*(1-$H$2/100)","v":10},"ks"]
[715,"PZ zvodová rúra | Ø 120 | 3 m ",{"$f":"_xlfn.XLOOKUP(A42,'[1]Worksheet 1'!$A$2:$A$18880,'[1]Worksheet 1'!$C$2:$C$18880)","v":15},15,"ks"]
[716,"PZ zvodová rúra | Ø 120 | 4 m",{"$f":"_xlfn.XLOOKUP(A43,'[1]Worksheet 1'!$A$2:$A$18880,'[1]Worksheet 1'!$C$2:$C$18880)","v":20},20,"ks"]
[717,"PZ zvodová rúra | Ø 120 | 5 m",{"$f":"_xlfn.XLOOKUP(A44,'[1]Worksheet 1'!$A$2:$A$18880,'[1]Worksheet 1'!$C$2:$C$18880)","v":25},25,"ks"]
[766,"PZ zvodová rúra | Ø 150 | 2 m",{"$f":"_xlfn.XLOOKUP(A45,'[1]Worksheet 1'!$A$2:$A$18880,'[1]Worksheet 1'!$C$2:$C$18880)","v":22},22,"ks"]
[770,"PZ zvodová rúra | Ø 150 | 4 m",{"$f":"_xlfn.XLOOKUP(A46,'[1]Worksheet 1'!$A$2:$A$18880,'[1]Worksheet 1'!$C$2:$C$18880)","v":44},44,"ks"]
[60000070,"PZ žľabový roh vnútorný | 200 mm",{"$f":"_xlfn.XLOOKUP(A47,'[1]Worksheet 1'!$A$2:$A$18880,'[1]Worksheet 1'!$C$2:$C$18880)","v":15},15,"ks"]
[60000060,"PZ žľabový roh vonkajší | 200 mm",{"$f":"_xlfn.XLOOKUP(A48,'[1]Worksheet 1'!$A$2:$A$18880,'[1]Worksheet 1'!$C$2:$C$18880)","v":15},15,"ks"]
[728,"PZ žľabový roh vnútorný | 250 mm",{"$f":"_xlfn.XLOOKUP(A49,'[1]Worksheet 1'!$A$2:$A$18880,'[1]Worksheet 1'!$C$2:$C$18880)","v":6.2},6.2,"ks"]
[727,"PZ žľabový roh vonkajší | 250 mm",{"$f":"_xlfn.XLOOKUP(A50,'[1]Worksheet 1'!$A$2:$A$18880,'[1]Worksheet 1'!$C$2:$C$18880)","v":6.2},6.2,"ks"]
[726,"PZ žľabový roh vnútorný | 330 mm",{"$f":"_xlfn.XLOOKUP(A51,'[1]Worksheet 1'!$A$2:$A$18880,'[1]Worksheet 1'!$C$2:$C$18880)","v":6.4},6.4,"ks"]
[725,"PZ žľabový roh vonkajší | 330 mm",{"$f":"_xlfn.XLOOKUP(A52,'[1]Worksheet 1'!$A$2:$A$18880,'[1]Worksheet 1'!$C$2:$C$18880)","v":6.4},6.4,"ks"]
[765,"PZ žľabový roh vnútorný | 400 mm",{"$f":"_xlfn.XLOOKUP(A53,'[1]Worksheet 1'!$A$2:$A$18880,'[1]Worksheet 1'!$C$2:$C$18880)","v":25},25,"ks"]
[764,"PZ žľabový roh vonkajší | 400 mm",{"$f":"_xlfn.XLOOKUP(A54,'[1]Worksheet 1'!$A$2:$A$18880,'[1]Worksheet 1'!$C$2:$C$18880)","v":25},25,"ks"]
[60000221,"PZ žľabové čelo falcovacie | 200 mm",{"$f":"_xlfn.XLOOKUP(A55,'[1]Worksheet 1'!$A$2:$A$18880,'[1]Worksheet 1'!$C$2:$C$18880)","v":0.8},0.8,"ks"]
[730,"PZ žľabové čelo falcovacie | 250 mm",{"$f":"_xlfn.XLOOKUP(A56,'[1]Worksheet 1'!$A$2:$A$18880,'[1]Worksheet 1'!$C$2:$C$18880)","v":0.44},0.44,"ks"]
[729,"PZ žľabové čelo falcovacie | 330 mm",{"$f":"_xlfn.XLOOKUP(A57,'[1]Worksheet 1'!$A$2:$A$18880,'[1]Worksheet 1'!$C$2:$C$18880)","v":0.45},0.45,"ks"]
[762,"PZ žľabové čelo falcovacie | 400 mm",{"$f":"_xlfn.XLOOKUP(A58,'[1]Worksheet 1'!$A$2:$A$18880,'[1]Worksheet 1'!$C$2:$C$18880)","v":1.9},1.9,"ks"]
[799,"PZ žľabové čelo s tesniacou gumou | 250 mm",{"$f":"_xlfn.XLOOKUP(A59,'[1]Worksheet 1'!$A$2:$A$18880,'[1]Worksheet 1'!$C$2:$C$18880)","v":1.6},1.6,"ks"]
[798,"PZ žľabové čelo s tesniacou gumou | 330 mm",{"$f":"_xlfn.XLOOKUP(A60,'[1]Worksheet 1'!$A$2:$A$18880,'[1]Worksheet 1'!$C$2:$C$18880)","v":1.6},1.6,"ks"]
[797,"PZ žľabové čelo nafalcované | 250 mm",{"$f":"_xlfn.XLOOKUP(A61,'[1]Worksheet 1'!$A$2:$A$18880,'[1]Worksheet 1'!$C$2:$C$18880)","v":2.4},2.4,"ks"]
[796,"PZ žľabové čelo nafalcované | 330 mm",{"$f":"_xlfn.XLOOKUP(A62,'[1]Worksheet 1'!$A$2:$A$18880,'[1]Worksheet 1'!$C$2:$C$18880)","v":2.7},2.7,"ks"]
[60000205,"PZ kotlík kónický | 200 mm | 60",{"$f":"_xlfn.XLOOKUP(A63,'[1]Worksheet 1'!$A$2:$A$18880,'[1]Worksheet 1'!$C$2:$C$18880)","v":8.6999999999999993},8.6999999999999993,"ks"]
[731,"PZ kotlík kónický | 250 mm | 80",{"$f":"_xlfn.XLOOKUP(A64,'[1]Worksheet 1'!$A$2:$A$18880,'[1]Worksheet 1'!$C$2:$C$18880)","v":2.6},2.6,"ks"]
[732,"PZ kotlík kónický | 330 mm | 100",{"$f":"_xlfn.XLOOKUP(A65,'[1]Worksheet 1'!$A$2:$A$18880,'[1]Worksheet 1'!$C$2:$C$18880)","v":3},3,"ks"]
[733,"PZ kotlík kónický | 330 mm | 120",{"$f":"_xlfn.XLOOKUP(A66,'[1]Worksheet 1'!$A$2:$A$18880,'[1]Worksheet 1'!$C$2:$C$18880)","v":3.6},3.6,"ks"]
[760,"PZ kotlík kónický | 400 mm | 120",{"$f":"_xlfn.XLOOKUP(A67,'[1]Worksheet 1'!$A$2:$A$18880,'[1]Worksheet 1'!$C$2:$C$18880)","v":12},12,"ks"]
[761,"PZ kotlík kónický | 400 mm | 150",{"$f":"_xlfn.XLOOKUP(A68,'[1]Worksheet 1'!$A$2:$A$18880,'[1]Worksheet 1'!$C$2:$C$18880)","v":13},13,"ks"]
[79,"PZ kotlík zlučovací | Ø 100",{"$f":"_xlfn.XLOOKUP(A69,'[1]Worksheet 1'!$A$2:$A$18880,'[1]Worksheet 1'!$C$2:$C$18880)","v":20.3},20.3,"ks"]
[78,"PZ kotlík zlučovací | Ø 120",{"$f":"_xlfn.XLOOKUP(A70,'[1]Worksheet 1'!$A$2:$A$18880,'[1]Worksheet 1'!$C$2:$C$18880)","v":21},21,"ks"]
[60000255,"PZ koleno 72 ° | Ø 60",{"$f":"_xlfn.XLOOKUP(A71,'[1]Worksheet 1'!$A$2:$A$18880,'[1]Worksheet 1'!$C$2:$C$18880)","v":6.9},6.9,"ks"]
[734,"PZ koleno 72 ° | Ø 80",{"$f":"_xlfn.XLOOKUP(A72,'[1]Worksheet 1'!$A$2:$A$18880,'[1]Worksheet 1'!$C$2:$C$18880)","v":1.7},{"$f":"C72*(1-$H$2/100)","v":1.7},"ks"]
[735,"PZ koleno 72 ° | Ø 100",{"$f":"_xlfn.XLOOKUP(A73,'[1]Worksheet 1'!$A$2:$A$18880,'[1]Worksheet 1'!$C$2:$C$18880)","v":2.1},2.1,"ks"]
[736,"PZ koleno 72 ° | Ø 120",{"$f":"_xlfn.XLOOKUP(A74,'[1]Worksheet 1'!$A$2:$A$18880,'[1]Worksheet 1'!$C$2:$C$18880)","v":4.5},4.5,"ks"]
[769,"PZ koleno 72 ° | Ø 150",{"$f":"_xlfn.XLOOKUP(A75,'[1]Worksheet 1'!$A$2:$A$18880,'[1]Worksheet 1'!$C$2:$C$18880)","v":20.5},20.5,"ks"]
[60000165,"PZ objímka M10 | Ø 60",{"$f":"_xlfn.XLOOKUP(A76,'[1]Worksheet 1'!$A$2:$A$18880,'[1]Worksheet 1'!$C$2:$C$18880)","v":2.4},2.4,"ks"]
[169,"PZ objímka M10 | Ø 80",{"$f":"_xlfn.XLOOKUP(A77,'[1]Worksheet 1'!$A$2:$A$18880,'[1]Worksheet 1'!$C$2:$C$18880)","v":1.35},1.35,"ks"]
[167,"PZ objímka M10 | Ø 100",{"$f":"_xlfn.XLOOKUP(A78,'[1]Worksheet 1'!$A$2:$A$18880,'[1]Worksheet 1'!$C$2:$C$18880)","v":1.4},1.4,"ks"]
[165,"PZ objímka M10 | Ø 120",{"$f":"_xlfn.XLOOKUP(A79,'[1]Worksheet 1'!$A$2:$A$18880,'[1]Worksheet 1'!$C$2:$C$18880)","v":1.6},1.6,"ks"]
[163,"PZ objímka M10 | Ø 150",{"$f":"_xlfn.XLOOKUP(A80,'[1]Worksheet 1'!$A$2:$A$18880,'[1]Worksheet 1'!$C$2:$C$18880)","v":3.4},3.4,"ks"]
[56,"Držiak objímky na fasádu M10",{"$f":"_xlfn.XLOOKUP(A81,'[1]Worksheet 1'!$A$2:$A$18880,'[1]Worksheet 1'!$C$2:$C$18880)","v":1.2},1.2,"ks"]
[171,"Tŕň objímky M10 | 160 mm",{"$f":"_xlfn.XLOOKUP(A82,'[1]Worksheet 1'!$A$2:$A$18880,'[1]Worksheet 1'!$C$2:$C$18880)","v":1.5},1.5,"ks"]
[172,"Tŕň objímky M10 | 205 mm",{"$f":"_xlfn.XLOOKUP(A83,'[1]Worksheet 1'!$A$2:$A$18880,'[1]Worksheet 1'!$C$2:$C$18880)","v":1.8},1.8,"ks"]
[174,"Tŕň objímky M10 | 305 mm",{"$f":"_xlfn.XLOOKUP(A84,'[1]Worksheet 1'!$A$2:$A$18880,'[1]Worksheet 1'!$C$2:$C$18880)","v":2.1},2.1,"ks"]
[82,"Hmoždina do zateplenia M10",{"$f":"_xlfn.XLOOKUP(A85,'[1]Worksheet 1'!$A$2:$A$18880,'[1]Worksheet 1'!$C$2:$C$18880)","v":6.1},6.1,"ks"]
[755,"PZ koleno výtokové 72 ° | Ø 80",{"$f":"_xlfn.XLOOKUP(A86,'[1]Worksheet 1'!$A$2:$A$18880,'[1]Worksheet 1'!$C$2:$C$18880)","v":3.2},3.2,"ks"]
[756,"PZ koleno výtokové 72 ° | Ø 100",{"$f":"_xlfn.XLOOKUP(A87,'[1]Worksheet 1'!$A$2:$A$18880,'[1]Worksheet 1'!$C$2:$C$18880)","v":3.4},3.4,"ks"]
[757,"PZ koleno výtokové 72 ° | Ø 120",{"$f":"_xlfn.XLOOKUP(A88,'[1]Worksheet 1'!$A$2:$A$18880,'[1]Worksheet 1'!$C$2:$C$18880)","v":4.9000000000000004},4.9000000000000004,"ks"]
[744,"PZ koleno soklové, odskok 60 mm | Ø 80",{"$f":"_xlfn.XLOOKUP(A89,'[1]Worksheet 1'!$A$2:$A$18880,'[1]Worksheet 1'!$C$2:$C$18880)","v":7},7,"ks"]
[745,"PZ koleno soklové, odskok 60 mm | Ø 100",{"$f":"_xlfn.XLOOKUP(A90,'[1]Worksheet 1'!$A$2:$A$18880,'[1]Worksheet 1'!$C$2:$C$18880)","v":9.8000000000000007},9.8000000000000007,"ks"]
[746,"PZ koleno soklové, odskok 60 mm | Ø 120",{"$f":"_xlfn.XLOOKUP(A91,'[1]Worksheet 1'!$A$2:$A$18880,'[1]Worksheet 1'!$C$2:$C$18880)","v":13.5},13.5,"ks"]
[741,"PZ výpust dažďovej vody  | Ø 80",{"$f":"_xlfn.XLOOKUP(A92,'[1]Worksheet 1'!$A$2:$A$18880,'[1]Worksheet 1'!$C$2:$C$18880)","v":10.5},10.5,"ks"]
[742,"PZ výpust dažďovej vody  | Ø 100",{"$f":"_xlfn.XLOOKUP(A93,'[1]Worksheet 1'!$A$2:$A$18880,'[1]Worksheet 1'!$C$2:$C$18880)","v":11},11,"ks"]
[743,"PZ výpust dažďovej vody  | Ø 120",{"$f":"_xlfn.XLOOKUP(A94,'[1]Worksheet 1'!$A$2:$A$18880,'[1]Worksheet 1'!$C$2:$C$18880)","v":13},13,"ks"]
[188,"PZ odbočka atypická 72 ° | 80/80",{"$f":"_xlfn.XLOOKUP(A95,'[1]Worksheet 1'!$A$2:$A$18880,'[1]Worksheet 1'!$C$2:$C$18880)","v":14.93},14.93,"ks"]
[189,"PZ odbočka atypická 72 ° | 100/80",{"$f":"_xlfn.XLOOKUP(A96,'[1]Worksheet 1'!$A$2:$A$18880,'[1]Worksheet 1'!$C$2:$C$18880)","v":15.05},15.05,"ks"]
[190,"PZ odbočka atypická 72 ° | 100/100",{"$f":"_xlfn.XLOOKUP(A97,'[1]Worksheet 1'!$A$2:$A$18880,'[1]Worksheet 1'!$C$2:$C$18880)","v":15.07},15.07,"ks"]
[191,"PZ odbočka atypická 72 ° | 120/80",{"$f":"_xlfn.XLOOKUP(A98,'[1]Worksheet 1'!$A$2:$A$18880,'[1]Worksheet 1'!$C$2:$C$18880)","v":15.29},15.29,"ks"]
[192,"PZ odbočka atypická 72 ° | 120/100",{"$f":"_xlfn.XLOOKUP(A99,'[1]Worksheet 1'!$A$2:$A$18880,'[1]Worksheet 1'!$C$2:$C$18880)","v":15.31},15.31,"ks"]
[193,"PZ odbočka atypická 72 ° | 120/120",{"$f":"_xlfn.XLOOKUP(A100,'[1]Worksheet 1'!$A$2:$A$18880,'[1]Worksheet 1'!$C$2:$C$18880)","v":32},32,"ks"]
[774,"PZ lapač lístia  | Ø 80",{"$f":"_xlfn.XLOOKUP(A101,'[1]Worksheet 1'!$A$2:$A$18880,'[1]Worksheet 1'!$C$2:$C$18880)","v":3.8},3.8,"ks"]
[750,"PZ lapač lístia  | Ø 120",{"$f":"_xlfn.XLOOKUP(A102,'[1]Worksheet 1'!$A$2:$A$18880,'[1]Worksheet 1'!$C$2:$C$18880)","v":4.8},4.8,"ks"]
[790,"PZ žľabová spojka | 250 mm",{"$f":"_xlfn.XLOOKUP(A103,'[1]Worksheet 1'!$A$2:$A$18880,'[1]Worksheet 1'!$C$2:$C$18880)","v":3.2},3.2,"ks"]
[789,"PZ žľabová spojka | 330 mm",{"$f":"_xlfn.XLOOKUP(A104,'[1]Worksheet 1'!$A$2:$A$18880,'[1]Worksheet 1'!$C$2:$C$18880)","v":3.4},{"$f":"C104*(1-$H$2/100)","v":3.4},"ks"]

{"sheet":"Pozinkovaný odkvapový systém La","index":5,"n_rows":69,"n_cols":8,"rows_kept":69,"cut":false,"hidden":false,"merged":[[8,6,9,6],[10,6,11,6],[16,6,17,6],[21,6,22,6],[23,6,24,6],[6,1,6,6],[67,6,68,6],[46,6,48,6],[49,6,51,6],[35,6,37,6],[52,6,57,6],[42,6,44,6],[38,6,40,6],[58,6,66,6],[25,6,27,6],[28,6,29,6],[30,6,32,6],[33,6,34,6],[12,6,13,6],[14,6,15,6],[18,6,20,6]]}
[null,null,null,null,null,null,null,"Vaša zľava v %"]
[null,null,null,null,null,null,null,0]
[null,null,null,null,null,null,null,"Ceny sú uvádzané bez DPH."]
[]
[]
[]
[null,"Pozinkovaný odkvapový systém Lamina s návalkammi dovnútra"]
["PLU","Model","Cena ","Cena po zľave","MJ","Objednané množstvá","Obrázok"]
[4,"PZ žľab polkruhový | 250 mm | 2 m",{"$f":"_xlfn.XLOOKUP(A9,'[1]Worksheet 1'!$A$2:$A$18880,'[1]Worksheet 1'!$C$2:$C$18880)","v":8.6999999999999993},{"$f":"C9*(1-$H$2/100)","v":8.6999999999999993},"ks"]
[2,"PZ žľab polkruhový | 330 mm | 2 m",{"$f":"_xlfn.XLOOKUP(A10,'[1]Worksheet 1'!$A$2:$A$18880,'[1]Worksheet 1'!$C$2:$C$18880)","v":10.8},10.8,"ks"]
[8,"PZ žľab polkruhový s čelom | 250 mm | 2 m",{"$f":"_xlfn.XLOOKUP(A11,'[1]Worksheet 1'!$A$2:$A$18880,'[1]Worksheet 1'!$C$2:$C$18880)","v":13.7},13.7,"ks"]
[6,"PZ žľab polkruhový s čelom | 330 mm | 2 m",{"$f":"_xlfn.XLOOKUP(A12,'[1]Worksheet 1'!$A$2:$A$18880,'[1]Worksheet 1'!$C$2:$C$18880)","v":15.7},15.7,"ks"]
[42,"PZ žľabový hák | 250 mm",{"$f":"_xlfn.XLOOKUP(A13,'[1]Worksheet 1'!$A$2:$A$18880,'[1]Worksheet 1'!$C$2:$C$18880)","v":3},3,"ks"]
[40,"PZ žľabový hák | 330 mm",{"$f":"_xlfn.XLOOKUP(A14,'[1]Worksheet 1'!$A$2:$A$18880,'[1]Worksheet 1'!$C$2:$C$18880)","v":3.7},3.7,"ks"]
[46,"PZ žľabový hák očíslovaný 1- 10 | 250 mm",{"$f":"_xlfn.XLOOKUP(A15,'[1]Worksheet 1'!$A$2:$A$18880,'[1]Worksheet 1'!$C$2:$C$18880)","v":3.7},3.7,"ks"]
[44,"PZ žľabový hák očíslovaný 1- 11 | 330 mm",{"$f":"_xlfn.XLOOKUP(A16,'[1]Worksheet 1'!$A$2:$A$18880,'[1]Worksheet 1'!$C$2:$C$18880)","v":4},4,"ks"]
[50,"PZ žlabový hák čelový | 250 mm",{"$f":"_xlfn.XLOOKUP(A17,'[1]Worksheet 1'!$A$2:$A$18880,'[1]Worksheet 1'!$C$2:$C$18880)","v":2},2,"ks"]
[48,"PZ žlabový hák čelový | 330 mm",{"$f":"_xlfn.XLOOKUP(A18,'[1]Worksheet 1'!$A$2:$A$18880,'[1]Worksheet 1'!$C$2:$C$18880)","v":2.4},2.4,"ks"]
[12,"PZ zvodová rúra | Ø 80 | 1 m",{"$f":"_xlfn.XLOOKUP(A19,'[1]Worksheet 1'!$A$2:$A$18880,'[1]Worksheet 1'!$C$2:$C$18880)","v":5.5},5.5,"ks"]
[11,"PZ zvodová rúra | Ø 100 | 1 m",{"$f":"_xlfn.XLOOKUP(A20,'[1]Worksheet 1'!$A$2:$A$18880,'[1]Worksheet 1'!$C$2:$C$18880)","v":6.3},6.3,"ks"]
[10,"PZ zvodová rúra | Ø 120 | 1 m",{"$f":"_xlfn.XLOOKUP(A21,'[1]Worksheet 1'!$A$2:$A$18880,'[1]Worksheet 1'!$C$2:$C$18880)","v":7.2},7.2,"ks"]
[24,"PZ žľabový roh | 250 mm",{"$f":"_xlfn.XLOOKUP(A22,'[1]Worksheet 1'!$A$2:$A$18880,'[1]Worksheet 1'!$C$2:$C$18880)","v":7.3},7.3,"ks"]
[22,"PZ žľabový roh | 330 mm",{"$f":"_xlfn.XLOOKUP(A23,'[1]Worksheet 1'!$A$2:$A$18880,'[1]Worksheet 1'!$C$2:$C$18880)","v":8.1},8.1,"ks"]
[28,"PZ žľabové čelo falcovacie | 250 mm",{"$f":"_xlfn.XLOOKUP(A24,'[1]Worksheet 1'!$A$2:$A$18880,'[1]Worksheet 1'!$C$2:$C$18880)","v":1.3},1.3,"ks"]
[26,"PZ žľabové čelo falcovacie | 330 mm",{"$f":"_xlfn.XLOOKUP(A25,'[1]Worksheet 1'!$A$2:$A$18880,'[1]Worksheet 1'!$C$2:$C$18880)","v":1.4},1.4,"ks"]
[33,"PZ kotlík kónický | 250 mm | 100",{"$f":"_xlfn.XLOOKUP(A26,'[1]Worksheet 1'!$A$2:$A$18880,'[1]Worksheet 1'!$C$2:$C$18880)","v":7.2},7.2,"ks"]
[31,"PZ kotlík kónický | 330 mm | 100",{"$f":"_xlfn.XLOOKUP(A27,'[1]Worksheet 1'!$A$2:$A$18880,'[1]Worksheet 1'!$C$2:$C$18880)","v":8.1},8.1,"ks"]
[30,"PZ kotlík kónický | 330 mm | 120",{"$f":"_xlfn.XLOOKUP(A28,'[1]Worksheet 1'!$A$2:$A$18880,'[1]Worksheet 1'!$C$2:$C$18880)","v":8.1999999999999993},8.1999999999999993,"ks"]
[79,"PZ kotlík zlučovací | Ø 100",{"$f":"_xlfn.XLOOKUP(A29,'[1]Worksheet 1'!$A$2:$A$18880,'[1]Worksheet 1'!$C$2:$C$18880)","v":20.3},20.3,"ks"]
[78,"PZ kotlík zlučovací | Ø 120",{"$f":"_xlfn.XLOOKUP(A30,'[1]Worksheet 1'!$A$2:$A$18880,'[1]Worksheet 1'!$C$2:$C$18880)","v":21},21,"ks"]
[41,"PZ kotlík hranatý | Ø 80 | 200x200x250",{"$f":"_xlfn.XLOOKUP(A31,'[1]Worksheet 1'!$A$2:$A$18880,'[1]Worksheet 1'!$C$2:$C$18880)","v":35},35,"ks"]
[34,"PZ kotlík hranatý | Ø 100 | 200x200x250",{"$f":"_xlfn.XLOOKUP(A32,'[1]Worksheet 1'!$A$2:$A$18880,'[1]Worksheet 1'!$C$2:$C$18880)","v":37.5},37.5,"ks"]
[35,"PZ kotlík hranatý | Ø 120 | 200x200x250",{"$f":"_xlfn.XLOOKUP(A33,'[1]Worksheet 1'!$A$2:$A$18880,'[1]Worksheet 1'!$C$2:$C$18880)","v":37.799999999999997},37.799999999999997,"ks"]
[37,"PZ žľabové hrdlo | 250 mm | 100",{"$f":"_xlfn.XLOOKUP(A34,'[1]Worksheet 1'!$A$2:$A$18880,'[1]Worksheet 1'!$C$2:$C$18880)","v":3.5},3.5,"ks"]
[36,"PZ žľabové hrdlo | 330 mm | 120",{"$f":"_xlfn.XLOOKUP(A35,'[1]Worksheet 1'!$A$2:$A$18880,'[1]Worksheet 1'!$C$2:$C$18880)","v":4},4,"ks"]
[16,"PZ koleno horné | Ø 80",{"$f":"_xlfn.XLOOKUP(A36,'[1]Worksheet 1'!$A$2:$A$18880,'[1]Worksheet 1'!$C$2:$C$18880)","v":8.6999999999999993},8.6999999999999993,"ks"]
[15,"PZ koleno horné | Ø 100",{"$f":"_xlfn.XLOOKUP(A37,'[1]Worksheet 1'!$A$2:$A$18880,'[1]Worksheet 1'!$C$2:$C$18880)","v":9.1},9.1,"ks"]
[14,"PZ koleno horné | Ø 120",{"$f":"_xlfn.XLOOKUP(A38,'[1]Worksheet 1'!$A$2:$A$18880,'[1]Worksheet 1'!$C$2:$C$18880)","v":9.6999999999999993},9.6999999999999993,"ks"]
[169,"PZ objímka M10 | Ø 80",{"$f":"_xlfn.XLOOKUP(A39,'[1]Worksheet 1'!$A$2:$A$18880,'[1]Worksheet 1'!$C$2:$C$18880)","v":1.35},1.35,"ks"]
[167,"PZ objímka M10 | Ø 100",{"$f":"_xlfn.XLOOKUP(A40,'[1]Worksheet 1'!$A$2:$A$18880,'[1]Worksheet 1'!$C$2:$C$18880)","v":1.4},1.4,"ks"]
[165,"PZ objímka M10 | Ø 120",{"$f":"_xlfn.XLOOKUP(A41,'[1]Worksheet 1'!$A$2:$A$18880,'[1]Worksheet 1'!$C$2:$C$18880)","v":1.6},{"$f":"C41*(1-$H$2/100)","v":1.6},"ks"]
[56,"PZ držiak objímky na fasádu M10",{"$f":"_xlfn.XLOOKUP(A42,'[1]Worksheet 1'!$A$2:$A$18880,'[1]Worksheet 1'!$C$2:$C$18880)","v":1.2},1.2,"ks"]
[171,"Tŕň objímky M10 | 160 mm",{"$f":"_xlfn.XLOOKUP(A43,'[1]Worksheet 1'!$A$2:$A$18880,'[1]Worksheet 1'!$C$2:$C$18880)","v":1.5},1.5,"ks"]
[172,"Tŕň objímky M10 | 205 mm",{"$f":"_xlfn.XLOOKUP(A44,'[1]Worksheet 1'!$A$2:$A$18880,'[1]Worksheet 1'!$C$2:$C$18880)","v":1.8},1.8,"ks"]
[174,"Tŕň objímky M10 | 305 mm",{"$f":"_xlfn.XLOOKUP(A45,'[1]Worksheet 1'!$A$2:$A$18880,'[1]Worksheet 1'!$C$2:$C$18880)","v":2.1},2.1,"ks"]
[82,"Hmoždina do zateplenia M10",{"$f":"_xlfn.XLOOKUP(A46,'[1]Worksheet 1'!$A$2:$A$18880,'[1]Worksheet 1'!$C$2:$C$18880)","v":6.1},6.1,"ks"]
[20,"PZ koleno výtokové | Ø 80",{"$f":"_xlfn.XLOOKUP(A47,'[1]Worksheet 1'!$A$2:$A$18880,'[1]Worksheet 1'!$C$2:$C$18880)","v":5.0999999999999996},5.0999999999999996,"ks"]
[19,"PZ koleno výtokové | Ø 100",{"$f":"_xlfn.XLOOKUP(A48,'[1]Worksheet 1'!$A$2:$A$18880,'[1]Worksheet 1'!$C$2:$C$18880)","v":5.4},5.4,"ks"]
[18,"PZ koleno výtokové | Ø 120",{"$f":"_xlfn.XLOOKUP(A49,'[1]Worksheet 1'!$A$2:$A$18880,'[1]Worksheet 1'!$C$2:$C$18880)","v":5.6},5.6,"ks"]
[70,"PZ výpusť dažďovej vody | Ø 80",{"$f":"_xlfn.XLOOKUP(A50,'[1]Worksheet 1'!$A$2:$A$18880,'[1]Worksheet 1'!$C$2:$C$18880)","v":14.7},14.7,"ks"]
[69,"PZ výpusť dažďovej vody | Ø 100",{"$f":"_xlfn.XLOOKUP(A51,'[1]Worksheet 1'!$A$2:$A$18880,'[1]Worksheet 1'!$C$2:$C$18880)","v":15.1},15.1,"ks"]
[68,"PZ výpusť dažďovej vody | Ø 120",{"$f":"_xlfn.XLOOKUP(A52,'[1]Worksheet 1'!$A$2:$A$18880,'[1]Worksheet 1'!$C$2:$C$18880)","v":15.7},15.7,"ks"]
[97,"PZ odobočka atypická X ° | 80/80",{"$f":"_xlfn.XLOOKUP(A53,'[1]Worksheet 1'!$A$2:$A$18880,'[1]Worksheet 1'!$C$2:$C$18880)","v":21.9},21.9,"ks"]
[96,"PZ odobočka atypická X ° | 100/80",{"$f":"_xlfn.XLOOKUP(A54,'[1]Worksheet 1'!$A$2:$A$18880,'[1]Worksheet 1'!$C$2:$C$18880)","v":22},22,"ks"]
[95,"PZ odobočka atypická X ° | 100/100",{"$f":"_xlfn.XLOOKUP(A55,'[1]Worksheet 1'!$A$2:$A$18880,'[1]Worksheet 1'!$C$2:$C$18880)","v":22.2},22.2,"ks"]
[98,"PZ odobočka atypická X ° | 120/80",{"$f":"_xlfn.XLOOKUP(A56,'[1]Worksheet 1'!$A$2:$A$18880,'[1]Worksheet 1'!$C$2:$C$18880)","v":22.4},22.4,"ks"]
[94,"PZ odobočka atypická X ° | 120/100",{"$f":"_xlfn.XLOOKUP(A57,'[1]Worksheet 1'!$A$2:$A$18880,'[1]Worksheet 1'!$C$2:$C$18880)","v":22.5},22.5,"ks"]
[93,"PZ odobočka atypická X ° | 120/120",{"$f":"_xlfn.XLOOKUP(A58,'[1]Worksheet 1'!$A$2:$A$18880,'[1]Worksheet 1'!$C$2:$C$18880)","v":22.8},22.8,"ks"]
[99,"PZ komínový kohút  | Ø 118 | dĺ. 1000 mm",{"$f":"_xlfn.XLOOKUP(A59,'[1]Worksheet 1'!$A$2:$A$18880,'[1]Worksheet 1'!$C$2:$C$18880)","v":28.1},28.1,"ks"]
[100,"PZ komínový kohút  | Ø 120 | dĺ. 1000 mm",{"$f":"_xlfn.XLOOKUP(A60,'[1]Worksheet 1'!$A$2:$A$18880,'[1]Worksheet 1'!$C$2:$C$18880)","v":28.1},28.1,"ks"]
[101,"PZ komínový kohút  | Ø 125 | dĺ. 1000 mm",{"$f":"_xlfn.XLOOKUP(A61,'[1]Worksheet 1'!$A$2:$A$18880,'[1]Worksheet 1'!$C$2:$C$18880)","v":28.4},28.4,"ks"]
[102,"PZ komínový kohút  | Ø 132 | dĺ. 1000 mm",{"$f":"_xlfn.XLOOKUP(A62,'[1]Worksheet 1'!$A$2:$A$18880,'[1]Worksheet 1'!$C$2:$C$18880)","v":28.7},28.7,"ks"]
[103,"PZ komínový kohút  | Ø 145 | dĺ. 1000 mm",{"$f":"_xlfn.XLOOKUP(A63,'[1]Worksheet 1'!$A$2:$A$18880,'[1]Worksheet 1'!$C$2:$C$18880)","v":29.2},29.2,"ks"]
[104,"PZ komínový kohút  | Ø 152 | dĺ. 1000 mm",{"$f":"_xlfn.XLOOKUP(A64,'[1]Worksheet 1'!$A$2:$A$18880,'[1]Worksheet 1'!$C$2:$C$18880)","v":29.5},29.5,"ks"]
[105,"PZ komínový kohút  | Ø 160 | dĺ. 1000 mm",{"$f":"_xlfn.XLOOKUP(A65,'[1]Worksheet 1'!$A$2:$A$18880,'[1]Worksheet 1'!$C$2:$C$18880)","v":29.9},29.9,"ks"]
[106,"PZ komínový kohút  | Ø 180 | dĺ. 1000 mm",{"$f":"_xlfn.XLOOKUP(A66,'[1]Worksheet 1'!$A$2:$A$18880,'[1]Worksheet 1'!$C$2:$C$18880)","v":30.7},30.7,"ks"]
[107,"PZ komínový kohút  | Ø 200 | dĺ. 1000 mm",{"$f":"_xlfn.XLOOKUP(A67,'[1]Worksheet 1'!$A$2:$A$18880,'[1]Worksheet 1'!$C$2:$C$18880)","v":31.4},31.4,"ks"]
[81,"PZ plech pod pec | 625x500 mm",{"$f":"_xlfn.XLOOKUP(A68,'[1]Worksheet 1'!$A$2:$A$18880,'[1]Worksheet 1'!$C$2:$C$18880)","v":7.1},7.1,"ks"]
[80,"PZ plech pod pec | 625x1000 mm",{"$f":"_xlfn.XLOOKUP(A69,'[1]Worksheet 1'!$A$2:$A$18880,'[1]Worksheet 1'!$C$2:$C$18880)","v":11.2},11.2,"ks"]

{"sheet":"CEDA","index":6,"n_rows":91,"n_cols":10,"rows_kept":91,"cut":false,"hidden":false,"merged":[[86,1,86,9],[80,1,80,9],[6,1,6,9],[8,9,13,9],[14,9,19,9],[20,9,22,9],[57,9,63,9],[65,9,71,9],[72,9,78,9],[48,1,48,9],[50,9,56,9],[24,9,29,9],[30,9,35,9],[36,9,38,9]]}
[null,null,null,null,null,null,null,"Vaša zľava v %"]
[null,null,null,null,null,null,null,0]
[null,null,null,null,null,null,null,"Ceny sú uvádzané bez DPH."]
[]
[]
[]
[null,"Snehové zábrany"]
["PLU","Model","Cena","Cena po zľave","Farba","Výška zámku",null,"MJ","Objednané množstvá","Obrázok"]
[1230090201,"SNEHOVÝ SET pre CLIP PANEL - 240 cm",{"$f":"_xlfn.XLOOKUP(A9,'[1]Worksheet 1'!$A$2:$A$18880,'[1]Worksheet 1'!$C$2:$C$18880)","v":133.6},{"$f":"C9*(1-$H$2/100)","v":133.6},"RAL 3009","32 mm",null,"ks"]
[1270160201,"SNEHOVÝ SET pre CLIP PANEL - 240 cm",{"$f":"_xlfn.XLOOKUP(A10,'[1]Worksheet 1'!$A$2:$A$18880,'[1]Worksheet 1'!$C$2:$C$18880)","v":133.6},133.6,"RAL 7016","32 mm",null,"ks"]
[1280040201,"SNEHOVÝ SET pre CLIP PANEL - 240 cm",{"$f":"_xlfn.XLOOKUP(A11,'[1]Worksheet 1'!$A$2:$A$18880,'[1]Worksheet 1'!$C$2:$C$18880)","v":133.6},133.6,"RAL 8004","32 mm",null,"ks"]
[1280170201,"SNEHOVÝ SET pre CLIP PANEL - 240 cm",{"$f":"_xlfn.XLOOKUP(A12,'[1]Worksheet 1'!$A$2:$A$18880,'[1]Worksheet 1'!$C$2:$C$18880)","v":133.6},133.6,"RAL 8017","32 mm",null,"ks"]
[1290050201,"SNEHOVÝ SET pre CLIP PANEL - 240 cm",{"$f":"_xlfn.XLOOKUP(A13,'[1]Worksheet 1'!$A$2:$A$18880,'[1]Worksheet 1'!$C$2:$C$18880)","v":133.6},133.6,"RAL 9005","32 mm",null,"ks"]
[1290060201,"SNEHOVÝ SET pre CLIP PANEL - 240 cm",{"$f":"_xlfn.XLOOKUP(A14,'[1]Worksheet 1'!$A$2:$A$18880,'[1]Worksheet 1'!$C$2:$C$18880)","v":133.6},133.6,"RAL 9006","32 mm",null,"ks"]
[1230090301,"SNEHOVÝ SET pre CLIP PANEL - 360 cm",{"$f":"_xlfn.XLOOKUP(A15,'[1]Worksheet 1'!$A$2:$A$18880,'[1]Worksheet 1'!$C$2:$C$18880)","v":185},185,"RAL 3009","32 mm",null,"ks"]
[1270160301,"SNEHOVÝ SET pre CLIP PANEL - 360 cm",{"$f":"_xlfn.XLOOKUP(A16,'[1]Worksheet 1'!$A$2:$A$18880,'[1]Worksheet 1'!$C$2:$C$18880)","v":185},185,"RAL 7016","32 mm",null,"ks"]
[1280040301,"SNEHOVÝ SET pre CLIP PANEL - 360 cm",{"$f":"_xlfn.XLOOKUP(A17,'[1]Worksheet 1'!$A$2:$A$18880,'[1]Worksheet 1'!$C$2:$C$18880)","v":185},185,"RAL 8004","32 mm",null,"ks"]
[1280170301,"SNEHOVÝ SET pre CLIP PANEL - 360 cm",{"$f":"_xlfn.XLOOKUP(A18,'[1]Worksheet 1'!$A$2:$A$18880,'[1]Worksheet 1'!$C$2:$C$18880)","v":185},185,"RAL 8017","32 mm",null,"ks"]
[1290050301,"SNEHOVÝ SET pre CLIP PANEL - 360 cm",{"$f":"_xlfn.XLOOKUP(A19,'[1]Worksheet 1'!$A$2:$A$18880,'[1]Worksheet 1'!$C$2:$C$18880)","v":185},185,"RAL 9005","32 mm",null,"ks"]
[1290060201,"SNEHOVÝ SET pre CLIP PANEL - 360 cm",{"$f":"_xlfn.XLOOKUP(A20,'[1]Worksheet 1'!$A$2:$A$18880,'[1]Worksheet 1'!$C$2:$C$18880)","v":133.6},133.6,"RAL 9006","32 mm",null,"ks"]
[1270160001,"Dvojrúrková konzola sneholamu na CLIP PANEL",{"$f":"_xlfn.XLOOKUP(A21,'[1]Worksheet 1'!$A$2:$A$18880,'[1]Worksheet 1'!$C$2:$C$18880)","v":13.9},13.9,"RAL 7016",null,null,"ks"]
[1280170001,"Dvojrúrková konzola sneholamu na CLIP PANEL",{"$f":"_xlfn.XLOOKUP(A22,'[1]Worksheet 1'!$A$2:$A$18880,'[1]Worksheet 1'!$C$2:$C$18880)","v":13.9},13.9,"RAL 8017",null,null,"ks"]
[1290050001,"Dvojrúrková konzola sneholamu na CLIP PANEL",{"$f":"_xlfn.XLOOKUP(A23,'[1]Worksheet 1'!$A$2:$A$18880,'[1]Worksheet 1'!$C$2:$C$18880)","v":13.9},13.9,"RAL 9005",null,null,"ks"]
[null,"Model","Cena","Cena po zľave","Farba","Dĺžka vlny","Výška vlny","MJ","Objednané množstvá","Obrázok"]
[1230090210,"SNEHOVÝ SET - škridloplechy - 240 cm",{"$f":"_xlfn.XLOOKUP(A25,'[1]Worksheet 1'!$A$2:$A$18880,'[1]Worksheet 1'!$C$2:$C$18880)","v":97.5},{"$f":"C25*(1-$H$2/100)","v":97.5},"RAL 3009","350 mm","20 mm","ks"]
[1270160210,"SNEHOVÝ SET - škridloplechy - 240 cm",{"$f":"_xlfn.XLOOKUP(A26,'[1]Worksheet 1'!$A$2:$A$18880,'[1]Worksheet 1'!$C$2:$C$18880)","v":97.5},97.5,"RAL 7016","350 mm","20 mm","ks"]
[1280040210,"SNEHOVÝ SET - škridloplechy - 240 cm",{"$f":"_xlfn.XLOOKUP(A27,'[1]Worksheet 1'!$A$2:$A$18880,'[1]Worksheet 1'!$C$2:$C$18880)","v":97.5},97.5,"RAL 8004","350 mm","20 mm","ks"]
[1280170210,"SNEHOVÝ SET - škridloplechy - 240 cm",{"$f":"_xlfn.XLOOKUP(A28,'[1]Worksheet 1'!$A$2:$A$18880,'[1]Worksheet 1'!$C$2:$C$18880)","v":97.5},97.5,"RAL 8017","350 mm","20 mm","ks"]
[1290050210,"SNEHOVÝ SET - škridloplechy - 240 cm",{"$f":"_xlfn.XLOOKUP(A29,'[1]Worksheet 1'!$A$2:$A$18880,'[1]Worksheet 1'!$C$2:$C$18880)","v":97.5},97.5,"RAL 9005","350 mm","20 mm","ks"]
[1290060210,"SNEHOVÝ SET - škridloplechy - 240 cm",{"$f":"_xlfn.XLOOKUP(A30,'[1]Worksheet 1'!$A$2:$A$18880,'[1]Worksheet 1'!$C$2:$C$18880)","v":97.5},97.5,"RAL 9006","350 mm","20 mm","ks"]
[1230090310,"SNEHOVÝ SET - škridloplechy - 360 cm",{"$f":"_xlfn.XLOOKUP(A31,'[1]Worksheet 1'!$A$2:$A$18880,'[1]Worksheet 1'!$C$2:$C$18880)","v":137.80000000000001},137.80000000000001,"RAL 3009","350 mm","20 mm","ks"]
[1270160310,"SNEHOVÝ SET - škridloplechy - 360 cm",{"$f":"_xlfn.XLOOKUP(A32,'[1]Worksheet 1'!$A$2:$A$18880,'[1]Worksheet 1'!$C$2:$C$18880)","v":137.80000000000001},137.80000000000001,"RAL 7016","350 mm","20 mm","ks"]
[1280040310,"SNEHOVÝ SET - škridloplechy - 360 cm",{"$f":"_xlfn.XLOOKUP(A33,'[1]Worksheet 1'!$A$2:$A$18880,'[1]Worksheet 1'!$C$2:$C$18880)","v":137.80000000000001},137.80000000000001,"RAL 8004","350 mm","20 mm","ks"]
[1280170310,"SNEHOVÝ SET - škridloplechy - 360 cm",{"$f":"_xlfn.XLOOKUP(A34,'[1]Worksheet 1'!$A$2:$A$18880,'[1]Worksheet 1'!$C$2:$C$18880)","v":137.80000000000001},137.80000000000001,"RAL 8017","350 mm","20 mm","ks"]
[1290050310,"SNEHOVÝ SET - škridloplechy - 360 cm",{"$f":"_xlfn.XLOOKUP(A35,'[1]Worksheet 1'!$A$2:$A$18880,'[1]Worksheet 1'!$C$2:$C$18880)","v":137.80000000000001},137.80000000000001,"RAL 9005","350 mm","20 mm","ks"]
[1290060310,"SNEHOVÝ SET - škridloplechy - 360 cm",{"$f":"_xlfn.XLOOKUP(A36,'[1]Worksheet 1'!$A$2:$A$18880,'[1]Worksheet 1'!$C$2:$C$18880)","v":137.80000000000001},137.80000000000001,"RAL 9006","350 mm","20 mm","ks"]
[1270160010,"Dvojrúrková konzola sneholamu na škridloplech ",{"$f":"_xlfn.XLOOKUP(A37,'[1]Worksheet 1'!$A$2:$A$18880,'[1]Worksheet 1'!$C$2:$C$18880)","v":8.3000000000000007},8.3000000000000007,"RAL 7016","350 mm","20 mm","ks"]
[1280170010,"Dvojrúrková konzola sneholamu na škridloplech ",{"$f":"_xlfn.XLOOKUP(A38,'[1]Worksheet 1'!$A$2:$A$18880,'[1]Worksheet 1'!$C$2:$C$18880)","v":8.3000000000000007},8.3000000000000007,"RAL 8017","350 mm","20 mm","ks"]
[null,"Dvojrúrková konzola sneholamu na škridloplech ",8.3000000000000007,8.3000000000000007,"RAL 9005","350 mm","20 mm","ks"]
[null,"Model","Cena","Cena po zľave","Farba","Dĺžka","Priemer","MJ","Objednané množstvá","Obrázok"]
[1300000002,"Dvojrúrková konzola sneholamu pre falcované krytiny ",{"$f":"_xlfn.XLOOKUP(A41,'[1]Worksheet 1'!$A$2:$A$18880,'[1]Worksheet 1'!$C$2:$C$18880)","v":9},9,"prírodny hliník",null,"30 mm","ks",null,{"$error":"#VALUE!"}]
[1300000001,"Jednorúrková konzola sneholamu pre falcované krytiny ",{"$f":"_xlfn.XLOOKUP(A42,'[1]Worksheet 1'!$A$2:$A$18880,'[1]Worksheet 1'!$C$2:$C$18880)","v":5.8},5.8,"prírodny hliník",null,"30 mm","ks",null,{"$error":"#VALUE!"}]
[1300000011,"Rúrka sneholamu ",{"$f":"_xlfn.XLOOKUP(A43,'[1]Worksheet 1'!$A$2:$A$18880,'[1]Worksheet 1'!$C$2:$C$18880)","v":13.4},13.4,"prírodny hliník","2000 mm","30 mm","ks",null,{"$error":"#VALUE!"}]
[1300000016,"Spojka hliníkovej rúrky sneholamu",{"$f":"_xlfn.XLOOKUP(A44,'[1]Worksheet 1'!$A$2:$A$18880,'[1]Worksheet 1'!$C$2:$C$18880)","v":4.5999999999999996},4.5999999999999996,"čierna",null,"30 mm","ks",null,{"$error":"#VALUE!"}]
[1300000015,"Blokáda hliníkovej rúrky sneholamu",{"$f":"_xlfn.XLOOKUP(A45,'[1]Worksheet 1'!$A$2:$A$18880,'[1]Worksheet 1'!$C$2:$C$18880)","v":2.6},2.6,"prírodny hliník",null,"30 mm","ks",null,{"$error":"#VALUE!"}]
[7098,"Plastová koncovka rúrky sneholamu ",{"$f":"_xlfn.XLOOKUP(A46,'[1]Worksheet 1'!$A$2:$A$18880,'[1]Worksheet 1'!$C$2:$C$18880)","v":0.35},0.35,"biela",null,"30 mm","ks",null,{"$error":"#VALUE!"}]
[7099,"Plastová koncovka rúrky sneholamu ",{"$f":"_xlfn.XLOOKUP(A47,'[1]Worksheet 1'!$A$2:$A$18880,'[1]Worksheet 1'!$C$2:$C$18880)","v":0.35},0.35,"čierna",null,"30 mm","ks",null,{"$error":"#VALUE!"}]
[]
[null,"Strešné lávky"]
[null,"Model","Cena","Cena po zľave","Farba","Výška zámku",null,"MJ","Objednané množstvá","Obrázok"]
[1230010009,"Strešná lávka na CLIP PANEL 60 cm ",{"$f":"_xlfn.XLOOKUP(A51,'[1]Worksheet 1'!$A$2:$A$25000,'[1]Worksheet 1'!$C$2:$C$25000)","v":68},{"$f":"C51*(1-$H$2/100)","v":68},"PZ","do 32 mm",null,"ks"]
[1230090016,"Strešná lávka na CLIP PANEL 60 cm ",{"$f":"_xlfn.XLOOKUP(A52,'[1]Worksheet 1'!$A$2:$A$25000,'[1]Worksheet 1'!$C$2:$C$25000)","v":68},68,"RAL 3009","do 32 mm",null,"ks"]
[1270160011,"Strešná lávka na CLIP PANEL 60 cm ",{"$f":"_xlfn.XLOOKUP(A53,'[1]Worksheet 1'!$A$2:$A$25000,'[1]Worksheet 1'!$C$2:$C$25000)","v":68},68,"RAL 7016","do 32 mm",null,"ks"]
[1280040013,"Strešná lávka na CLIP PANEL 60 cm ",{"$f":"_xlfn.XLOOKUP(A54,'[1]Worksheet 1'!$A$2:$A$25000,'[1]Worksheet 1'!$C$2:$C$25000)","v":68},68,"RAL 8004","do 32 mm",null,"ks"]
[1280170012,"Strešná lávka na CLIP PANEL 60 cm ",{"$f":"_xlfn.XLOOKUP(A55,'[1]Worksheet 1'!$A$2:$A$25000,'[1]Worksheet 1'!$C$2:$C$25000)","v":68},68,"RAL 8017","do 32 mm",null,"ks"]
[1290050014,"Strešná lávka na CLIP PANEL 60 cm ",{"$f":"_xlfn.XLOOKUP(A56,'[1]Worksheet 1'!$A$2:$A$25000,'[1]Worksheet 1'!$C$2:$C$25000)","v":68},68,"RAL 9005","do 32 mm",null,"ks"]
[1290060015,"Strešná lávka na CLIP PANEL 60 cm ",{"$f":"_xlfn.XLOOKUP(A57,'[1]Worksheet 1'!$A$2:$A$25000,'[1]Worksheet 1'!$C$2:$C$25000)","v":68},68,"RAL 9006","do 32 mm",null,"ks"]
[1230020008,"Strešná lávka na CLIP PANEL 120 cm ",{"$f":"_xlfn.XLOOKUP(A58,'[1]Worksheet 1'!$A$2:$A$18880,'[1]Worksheet 1'!$C$2:$C$18880)","v":109},109,"PZ","do 32 mm",null,"ks"]
[1230090007,"Strešná lávka na CLIP PANEL 120 cm ",{"$f":"_xlfn.XLOOKUP(A59,'[1]Worksheet 1'!$A$2:$A$18880,'[1]Worksheet 1'!$C$2:$C$18880)","v":109},109,"RAL 3009","do 32 mm",null,"ks"]
[1270160002,"Strešná lávka na CLIP PANEL 120 cm ",{"$f":"_xlfn.XLOOKUP(A60,'[1]Worksheet 1'!$A$2:$A$18880,'[1]Worksheet 1'!$C$2:$C$18880)","v":109},109,"RAL 7016","do 32 mm",null,"ks"]
[1280040006,"Strešná lávka na CLIP PANEL 120 cm ",{"$f":"_xlfn.XLOOKUP(A61,'[1]Worksheet 1'!$A$2:$A$18880,'[1]Worksheet 1'!$C$2:$C$18880)","v":109},109,"RAL 8004","do 32 mm",null,"ks"]
[1280170003,"Strešná lávka na CLIP PANEL 120 cm ",{"$f":"_xlfn.XLOOKUP(A62,'[1]Worksheet 1'!$A$2:$A$18880,'[1]Worksheet 1'!$C$2:$C$18880)","v":109},109,"RAL 8017","do 32 mm",null,"ks"]
[1290050004,"Strešná lávka na CLIP PANEL 120 cm ",{"$f":"_xlfn.XLOOKUP(A63,'[1]Worksheet 1'!$A$2:$A$18880,'[1]Worksheet 1'!$C$2:$C$18880)","v":109},109,"RAL 9005","do 32 mm",null,"ks"]
[1290060005,"Strešná lávka na CLIP PANEL 120 cm ",{"$f":"_xlfn.XLOOKUP(A64,'[1]Worksheet 1'!$A$2:$A$18880,'[1]Worksheet 1'!$C$2:$C$18880)","v":109},109,"RAL 9006","do 32 mm",null,"ks"]
[null,"Model","Cena","Cena po zľave","Farba","Dĺžka vlny","Výška vlny","MJ","Objednané množstvá","Obrázok"]
[1240100017,"Strešná lávka na škridloplechy   40 cm",{"$f":"_xlfn.XLOOKUP(A66,'[1]Worksheet 1'!$A$2:$A$25000,'[1]Worksheet 1'!$C$2:$C$25000)","v":51},{"$f":"C66*(1-$H$2/100)","v":51},"PZ","350 mm","20 mm","ks"]
[1230090022,"Strešná lávka na škridloplechy   40 cm",{"$f":"_xlfn.XLOOKUP(A67,'[1]Worksheet 1'!$A$2:$A$25000,'[1]Worksheet 1'!$C$2:$C$25000)","v":51},51,"RAL 3009","350 mm","20 mm","ks"]
[1270160023,"Strešná lávka na škridloplechy   40 cm",{"$f":"_xlfn.XLOOKUP(A68,'[1]Worksheet 1'!$A$2:$A$25000,'[1]Worksheet 1'!$C$2:$C$25000)","v":51},51,"RAL 7016","350 mm","20 mm","ks"]
[1280040021,"Strešná lávka na škridloplechy   40 cm",{"$f":"_xlfn.XLOOKUP(A69,'[1]Worksheet 1'!$A$2:$A$25000,'[1]Worksheet 1'!$C$2:$C$25000)","v":51},51,"RAL 8004","350 mm","20 mm","ks"]
[1280170018,"Strešná lávka na škridloplechy   40 cm",{"$f":"_xlfn.XLOOKUP(A70,'[1]Worksheet 1'!$A$2:$A$25000,'[1]Worksheet 1'!$C$2:$C$25000)","v":51},51,"RAL 8017","350 mm","20 mm","ks"]
[1290050019,"Strešná lávka na škridloplechy   40 cm",{"$f":"_xlfn.XLOOKUP(A71,'[1]Worksheet 1'!$A$2:$A$25000,'[1]Worksheet 1'!$C$2:$C$25000)","v":51},51,"RAL 9005","350 mm","20 mm","ks"]
[1290060020,"Strešná lávka na škridloplechy   40 cm",{"$f":"_xlfn.XLOOKUP(A72,'[1]Worksheet 1'!$A$2:$A$25000,'[1]Worksheet 1'!$C$2:$C$25000)","v":51},51,"RAL 9006","350 mm","20 mm","ks"]
[1241100024,"Strešná lávka na škridloplechy 80 cm",{"$f":"_xlfn.XLOOKUP(A73,'[1]Worksheet 1'!$A$2:$A$18880,'[1]Worksheet 1'!$C$2:$C$18880)","v":60},60,"PZ","350 mm","20 mm","ks"]
[1230090029,"Strešná lávka na škridloplechy 80 cm",{"$f":"_xlfn.XLOOKUP(A74,'[1]Worksheet 1'!$A$2:$A$18880,'[1]Worksheet 1'!$C$2:$C$18880)","v":60},60,"RAL 3009","350 mm","20 mm","ks"]
[1270160025,"Strešná lávka na škridloplechy 80 cm",{"$f":"_xlfn.XLOOKUP(A75,'[1]Worksheet 1'!$A$2:$A$18880,'[1]Worksheet 1'!$C$2:$C$18880)","v":60},60,"RAL 7016","350 mm","20 mm","ks"]
[1280040030,"Strešná lávka na škridloplechy 80 cm",{"$f":"_xlfn.XLOOKUP(A76,'[1]Worksheet 1'!$A$2:$A$18880,'[1]Worksheet 1'!$C$2:$C$18880)","v":60},60,"RAL 8004","350 mm","20 mm","ks"]
[1280170026,"Strešná lávka na škridloplechy 80 cm",{"$f":"_xlfn.XLOOKUP(A77,'[1]Worksheet 1'!$A$2:$A$18880,'[1]Worksheet 1'!$C$2:$C$18880)","v":60},60,"RAL 8017","350 mm","20 mm","ks"]
[1290050027,"Strešná lávka na škridloplechy 80 cm",{"$f":"_xlfn.XLOOKUP(A78,'[1]Worksheet 1'!$A$2:$A$18880,'[1]Worksheet 1'!$C$2:$C$18880)","v":60},60,"RAL 9005","350 mm","20 mm","ks"]
[1290060028,"Strešná lávka na škridloplechy 80 cm",{"$f":"_xlfn.XLOOKUP(A79,'[1]Worksheet 1'!$A$2:$A$18880,'[1]Worksheet 1'!$C$2:$C$18880)","v":60},60,"RAL 9006","350 mm","20 mm","ks"]
[]
[null,"Fotovoltika"]
[null,"Model","Cena","Cena po zľave","Výška zámku/falcu","Dĺžka vlny","Výška vlny","MJ","Objednané množstvá","Obrázok"]
[1500000003,"Nehrdzavejúca konzola – držiak solárnych panelov pre falcované krytiny ",{"$f":"_xlfn.XLOOKUP(A83,'[1]Worksheet 1'!$A$2:$A$18880,'[1]Worksheet 1'!$C$2:$C$18880)","v":11},{"$f":"C83*(1-$H$2/100)","v":11},"do 46 mm","-","-","ks"]
[1500000010,"Nehrdzavejúca konzola – držiak solárnych panelov pre škridloplechy LAMINKA",{"$f":"_xlfn.XLOOKUP(A84,'[1]Worksheet 1'!$A$2:$A$18880,'[1]Worksheet 1'!$C$2:$C$18880)","v":14.6},14.6,"-","350 mm","20 mm","ks"]
[1500000002,"Nehrdzavejúca konzola – držiak solárnych panelov pre CLIP PANEL",{"$f":"_xlfn.XLOOKUP(A85,'[1]Worksheet 1'!$A$2:$A$18880,'[1]Worksheet 1'!$C$2:$C$18880)","v":12.6},12.6,"do 32 mm","-","-","ks"]
[]
[null,"Ochrana proti pádu / kotviace body"]
[null,"Model","Cena","Cena po zľave","Šírka","Výška","Dĺžka","MJ","Objednané množstvá","Obrázok"]
[1500001900,"1-očkový otáčací úchyt do kotviacich bodov z nehrdzavejúcej ocele",{"$f":"_xlfn.XLOOKUP(A89,'[1]Worksheet 1'!$A$2:$A$18880,'[1]Worksheet 1'!$C$2:$C$18880)","v":46},{"$f":"C89*(1-$H$2/100)","v":46},"60 mm","98  mm","-","ks"]
[null,"Kotviaci bod COPPO na škridloplechy LAMINKA z nehrdzavejúcej ocele",200,200,"322 mm","20 mm","420 mm","ks"]
[1500001500,"Kotviaci bod na strechy so stojatou drážkou SIANK z nehrdzavejúcej ocele",{"$f":"_xlfn.XLOOKUP(A91,'[1]Worksheet 1'!$A$2:$A$18880,'[1]Worksheet 1'!$C$2:$C$18880)","v":184},184,"163 mm","65 mm","400 mm","ks"]

{"sheet":"COROTOP","index":7,"n_rows":55,"n_cols":9,"rows_kept":55,"cut":false,"hidden":false,"merged":[[19,1,19,8],[28,1,28,8],[36,1,36,8],[41,1,41,8],[6,1,6,8]]}
[null,null,null,null,null,null,null,"Vaša zľava v %"]
[null,null,null,null,null,null,null,0]
[null,null,null,null,null,null,null,"Ceny sú uvádzané bez DPH."]
[]
[]
[]
[null,"Strešné fólie"]
["PLU","Model","Cena","Cena po zľave","Hmotnosť","Sklon strechy","MJ","Objednané množstvá","Obrázok"]
[7221,"Fólia Corotop CLASSIC 130; 1,5 x 50m",{"$f":"_xlfn.XLOOKUP(A9,'[1]Worksheet 1'!$A$2:$A$18880,'[1]Worksheet 1'!$C$2:$C$18880)","v":60},{"$f":"C9*(1-$H$2/100)","v":60},"130g/m2    ","≥ 35°","rol"]
[7222,"Fólia s páskou  Corotop CLASSIC Plus 130; 1,5 x 50m",{"$f":"_xlfn.XLOOKUP(A10,'[1]Worksheet 1'!$A$2:$A$18880,'[1]Worksheet 1'!$C$2:$C$18880)","v":80},{"$f":"C10*(1-$H$2/100)","v":80},"130g/m2    ","≥ 35°","rol"]
[7223,"Fólia s páskou  Corotop BLUE Plus 140; 1,5 x 50m",{"$f":"_xlfn.XLOOKUP(A11,'[1]Worksheet 1'!$A$2:$A$18880,'[1]Worksheet 1'!$C$2:$C$18880)","v":84},84,"140g/m2    ","≥ 26°","rol"]
[7225,"Fólia s páskou Corotop STRONG Plus 160; 1,5 x 50m",{"$f":"_xlfn.XLOOKUP(A12,'[1]Worksheet 1'!$A$2:$A$18880,'[1]Worksheet 1'!$C$2:$C$18880)","v":95},95,"160g/m2    ","≥ 21°","rol"]
[7228,"Fólia s páskou Corotop EXTRA PROTECT Plus 165",{"$f":"_xlfn.XLOOKUP(A13,'[1]Worksheet 1'!$A$2:$A$18880,'[1]Worksheet 1'!$C$2:$C$18880)","v":135},135,"165g/m2    ","≥ 21°","rol"]
[7226,"Fólia s páskou Corotop REDstrong plus 180; 1,5x50m",{"$f":"_xlfn.XLOOKUP(A14,'[1]Worksheet 1'!$A$2:$A$18880,'[1]Worksheet 1'!$C$2:$C$18880)","v":112.5},112.5,"180g/m2    ","≥ 15°","rol"]
[7227,"Fólia s páskou Corotop PURE plus 205; 1,5x50m",{"$f":"_xlfn.XLOOKUP(A15,'[1]Worksheet 1'!$A$2:$A$18880,'[1]Worksheet 1'!$C$2:$C$18880)","v":130},130,"205g/m2    ","≥ 11°","rol"]
[7233,"Fólia s páskou Corotop MONO plus 330; 1,5x25m",{"$f":"_xlfn.XLOOKUP(A16,'[1]Worksheet 1'!$A$2:$A$18880,'[1]Worksheet 1'!$C$2:$C$18880)","v":225},225,"330g/m2    ","5-10°","rol"]
[7231,"Fólia s drátenkou Corotop METAL 440; 1,5 x 25m",{"$f":"_xlfn.XLOOKUP(A17,'[1]Worksheet 1'!$A$2:$A$18880,'[1]Worksheet 1'!$C$2:$C$18880)","v":210},210,"440g/m2    ","-","rol"]
[7239,"Fólia Corotop OPEN 200g (fasada); 1,5 x 50m",{"$f":"_xlfn.XLOOKUP(A18,'[1]Worksheet 1'!$A$2:$A$18880,'[1]Worksheet 1'!$C$2:$C$18880)","v":4.2},4.2,"200g/m2    ","-","rol"]
[]
[null,"Pásky"]
[null,"Model","Cena","Cena pre nás","Dĺžka ","Šírka","MJ","Objednané množstvá","Obrázok"]
[7270,"Páska lep. obojstranná Corotop MIX ",{"$f":"_xlfn.XLOOKUP(A22,'[1]Worksheet 1'!$A$2:$A$18880,'[1]Worksheet 1'!$C$2:$C$18880)","v":5},{"$f":"C22*(1-$H$2/100)","v":5},"25 m","20 mm","ks"]
[7275,"Páska lep. jednostr. Corotop FIX ",{"$f":"_xlfn.XLOOKUP(A23,'[1]Worksheet 1'!$A$2:$A$18880,'[1]Worksheet 1'!$C$2:$C$18880)","v":8.8000000000000007},{"$f":"C23*(1-$H$2/100)","v":8.8000000000000007},"25 m","50 mm","ks"]
[7278,"Páska lep. jednostr. Corotop FIX  PRO ",{"$f":"_xlfn.XLOOKUP(A24,'[1]Worksheet 1'!$A$2:$A$18880,'[1]Worksheet 1'!$C$2:$C$18880)","v":12.5},12.5,"25 m","60 mm","ks"]
[7276,"Páska lep.jednostr.opravná Corotop BAND",{"$f":"_xlfn.XLOOKUP(A25,'[1]Worksheet 1'!$A$2:$A$18880,'[1]Worksheet 1'!$C$2:$C$18880)","v":8.6999999999999993},8.6999999999999993,"25 m","50 mm","ks"]
[7277,"Páska butylová obojstr. Corotop BUTYL ",{"$f":"_xlfn.XLOOKUP(A26,'[1]Worksheet 1'!$A$2:$A$18880,'[1]Worksheet 1'!$C$2:$C$18880)","v":7.28},7.28,"25 m","15 mm","ks"]
[7281,"Tesnenie pod kontralaty Corotop PUR ",{"$f":"_xlfn.XLOOKUP(A27,'[1]Worksheet 1'!$A$2:$A$18880,'[1]Worksheet 1'!$C$2:$C$18880)","v":6},6,"30 m","50 mm","ks"]
[]
[null,"Hrebeň"]
[null,"Model","Cena","Cena pre nás","Dĺžka ","Šírka","MJ","Objednané množstvá","Obrázok"]
[7285,"ROLL hrebeň. páska CoroVENT 310 RAL 8004",{"$f":"_xlfn.XLOOKUP(A31,'[1]Worksheet 1'!$A$2:$A$18880,'[1]Worksheet 1'!$C$2:$C$18880)","v":12.9},{"$f":"C31*(1-$H$2/100)","v":12.9},"5 m","310 mm","ks"]
[7286,"ROLL hrebeň. páska CoroVENT 310 RAL 8017",{"$f":"_xlfn.XLOOKUP(A32,'[1]Worksheet 1'!$A$2:$A$18880,'[1]Worksheet 1'!$C$2:$C$18880)","v":12.9},{"$f":"C32*(1-$H$2/100)","v":12.9},"5 m","310 mm","ks"]
[7287,"ROLL hrebeň. páska CoroVENT 310 RAL 9005",{"$f":"_xlfn.XLOOKUP(A33,'[1]Worksheet 1'!$A$2:$A$18880,'[1]Worksheet 1'!$C$2:$C$18880)","v":12.9},12.9,"5 m","310 mm","ks"]
[7293,"Držiak hrebeň. laty  CoroBLACH 40/210",{"$f":"_xlfn.XLOOKUP(A34,'[1]Worksheet 1'!$A$2:$A$18880,'[1]Worksheet 1'!$C$2:$C$18880)","v":0.55000000000000004},0.55000000000000004,"0,21 m ","40 mm","ks"]
[7294,"Držiak hrebeň. laty  CoroNIT 50/210",{"$f":"_xlfn.XLOOKUP(A35,'[1]Worksheet 1'!$A$2:$A$18880,'[1]Worksheet 1'!$C$2:$C$18880)","v":0.62},0.62,"0,21 m ","50 mm","ks"]
[]
[null,"Úžľabie"]
[null,"Model","Cena","Cena pre nás","Dĺžka","Šírka x výška","MJ","Objednané množstvá","Obrázok"]
[7295,"UNI lepiaci klin CoroCLIN antracit",{"$f":"_xlfn.XLOOKUP(A39,'[1]Worksheet 1'!$A$2:$A$18880,'[1]Worksheet 1'!$C$2:$C$18880)","v":0.33},{"$f":"C39*(1-$H$2/100)","v":0.33},"1 m","60 mm x 27 mm","ks"]
[7296,"UNI lepiaci klin CoroCLIN tehlová ",{"$f":"_xlfn.XLOOKUP(A40,'[1]Worksheet 1'!$A$2:$A$18880,'[1]Worksheet 1'!$C$2:$C$18880)","v":0.33},{"$f":"C40*(1-$H$2/100)","v":0.33},"1 m","60 mm x 27 mm","ks"]
[]
[null,"Riešenia odkvapovej hrany"]
[null,"Model","Cena","Cena pre nás","Dĺžka","Šírka","MJ","Objednané množstvá","Obrázok"]
[7300,"Vetrací hrebeň CoroKAP tehlová 1 m",{"$f":"_xlfn.XLOOKUP(A44,'[1]Worksheet 1'!$A$2:$A$18880,'[1]Worksheet 1'!$C$2:$C$18880)","v":0.45},{"$f":"C44*(1-$H$2/100)","v":0.45},"1 m","-","ks"]
[7301,"Vetrací hrebeň CoroKAP hnedá 1 m",{"$f":"_xlfn.XLOOKUP(A45,'[1]Worksheet 1'!$A$2:$A$18880,'[1]Worksheet 1'!$C$2:$C$18880)","v":0.45},{"$f":"C45*(1-$H$2/100)","v":0.45},"1 m","-","ks"]
[7302,"Vetrací hrebeň CoroKAP čierna 1 m",{"$f":"_xlfn.XLOOKUP(A46,'[1]Worksheet 1'!$A$2:$A$18880,'[1]Worksheet 1'!$C$2:$C$18880)","v":0.45},0.45,"1 m","-","ks"]
[7320,"Ochrana proti vtákom CoroBIRD PRO dĺžka 33cm",{"$f":"_xlfn.XLOOKUP(A47,'[1]Worksheet 1'!$A$2:$A$18880,'[1]Worksheet 1'!$C$2:$C$18880)","v":3},3,"0,33 m","-","ks"]
[7332,"Ochr.vetr.mriežka CoroCRAT 80mm hnedá  (5m)",{"$f":"_xlfn.XLOOKUP(A48,'[1]Worksheet 1'!$A$2:$A$18880,'[1]Worksheet 1'!$C$2:$C$18880)","v":2.8},2.8,"5 m","80 mm","ks"]
[7333,"Ochr.vetr.mriežka CoroCRAT 80mm čierna (5m)",{"$f":"_xlfn.XLOOKUP(A49,'[1]Worksheet 1'!$A$2:$A$18880,'[1]Worksheet 1'!$C$2:$C$18880)","v":2.9},2.9,"5 m","80 mm","ks"]
[7330,"Ochr.vetr.mriežka CoroCRAT 100mm tehlová (5m)",{"$f":"_xlfn.XLOOKUP(A50,'[1]Worksheet 1'!$A$2:$A$18880,'[1]Worksheet 1'!$C$2:$C$18880)","v":3.2},3.2,"5 m","100 mm","ks"]
[7331,"Ochr.vetr.mriežka CoroCRAT 100mm hnedá (5m)",{"$f":"_xlfn.XLOOKUP(A51,'[1]Worksheet 1'!$A$2:$A$18880,'[1]Worksheet 1'!$C$2:$C$18880)","v":3.2},3.2,"5 m","100 mm","ks"]
[7317,"Ochr.vetr.mriežka CoroCRAT 100mm čierna (5m)",{"$f":"_xlfn.XLOOKUP(A52,'[1]Worksheet 1'!$A$2:$A$18880,'[1]Worksheet 1'!$C$2:$C$18880)","v":3.2},3.2,"5 m","100 mm","ks"]
[]
[4236,"Al - ochr.vetr.mriežka 100mm biela-hnedá (60m)",{"$f":"_xlfn.XLOOKUP(A54,'[1]Worksheet 1'!$A$2:$A$18880,'[1]Worksheet 1'!$C$2:$C$18880)","v":4.7},{"$f":"C54*(1-$H$2/100)","v":4.7},"60 m","100 mm","m"]
[4235,"Al - ochr.vetr.mriežka 100mm červeno-čierna (60m)",4.7,{"$f":"C55*(1-$H$2/100)","v":4.7},"60 m","100 mm","m"]

{"sheet":"GALECO STAL2","index":8,"n_rows":65,"n_cols":8,"rows_kept":65,"cut":false,"hidden":false,"merged":[[29,7,31,7],[6,1,6,7],[53,7,55,7],[56,7,58,7],[59,7,61,7],[32,7,34,7],[8,7,13,7],[14,7,22,7],[23,7,25,7],[26,7,28,7],[62,7,64,7],[35,7,37,7],[38,7,40,7],[41,7,43,7],[44,7,46,7],[47,7,49,7],[50,7,52,7]]}
[null,null,null,null,null,null,null,"Vaša zľava v %"]
[null,null,null,null,null,null,null,0]
[null,null,null,null,null,null,null,"Ceny sú uvádzané bez DPH."]
[]
[]
[]
[null,"GALECO STAL2"]
["PLU","Model","Cena","Cena po zľave","Farba","MJ","Objednané množstvá","Obrázok"]
[187015013,"Hranatý žľab 125 3bm",{"$f":"_xlfn.XLOOKUP(A9,'[1]Worksheet 1'!$A$2:$A$18880,'[1]Worksheet 1'!$C$2:$C$18880)","v":35.5},{"$f":"C9*(1-$H$2/100)","v":35.5},"RAL 7015","ks"]
[189005013,"Hranatý žľab 125 3bm",{"$f":"_xlfn.XLOOKUP(A10,'[1]Worksheet 1'!$A$2:$A$18880,'[1]Worksheet 1'!$C$2:$C$18880)","v":35.5},{"$f":"C10*(1-$H$2/100)","v":35.5},"RAL 9005","ks"]
[189007013,"Hranatý žľab 125 3bm",{"$f":"_xlfn.XLOOKUP(A11,'[1]Worksheet 1'!$A$2:$A$18880,'[1]Worksheet 1'!$C$2:$C$18880)","v":35.5},35.5,"RAL 9007","ks"]
[187015014,"Hranatý žľab 125 4bm",{"$f":"_xlfn.XLOOKUP(A12,'[1]Worksheet 1'!$A$2:$A$18880,'[1]Worksheet 1'!$C$2:$C$18880)","v":47.5},47.5,"RAL 7015","ks"]
[189005014,"Hranatý žľab 125 4bm",{"$f":"_xlfn.XLOOKUP(A13,'[1]Worksheet 1'!$A$2:$A$18880,'[1]Worksheet 1'!$C$2:$C$18880)","v":47.5},47.5,"RAL 9005","ks"]
[189007014,"Hranatý žľab 125 4bm",{"$f":"_xlfn.XLOOKUP(A14,'[1]Worksheet 1'!$A$2:$A$18880,'[1]Worksheet 1'!$C$2:$C$18880)","v":47.5},47.5,"RAL 9007","ks"]
[187015071,"Hranatá rúra 80x80 1bm",{"$f":"_xlfn.XLOOKUP(A15,'[1]Worksheet 1'!$A$2:$A$18880,'[1]Worksheet 1'!$C$2:$C$18880)","v":12.6},12.6,"RAL 7015","ks"]
[189005071,"Hranatá rúra 80x80 1bm",{"$f":"_xlfn.XLOOKUP(A16,'[1]Worksheet 1'!$A$2:$A$18880,'[1]Worksheet 1'!$C$2:$C$18880)","v":12.6},12.6,"RAL 9005","ks"]
[189007071,"Hranatá rúra 80x80 1bm",{"$f":"_xlfn.XLOOKUP(A17,'[1]Worksheet 1'!$A$2:$A$18880,'[1]Worksheet 1'!$C$2:$C$18880)","v":12.6},12.6,"RAL 9007","ks"]
[187015073,"Hranatá rúra 80x80 3bm",{"$f":"_xlfn.XLOOKUP(A18,'[1]Worksheet 1'!$A$2:$A$18880,'[1]Worksheet 1'!$C$2:$C$18880)","v":35.6},35.6,"RAL 7015","ks"]
[189005073,"Hranatá rúra 80x80 3bm",{"$f":"_xlfn.XLOOKUP(A19,'[1]Worksheet 1'!$A$2:$A$18880,'[1]Worksheet 1'!$C$2:$C$18880)","v":35.6},35.6,"RAL 9005","ks"]
[189007073,"Hranatá rúra 80x80 3bm",{"$f":"_xlfn.XLOOKUP(A20,'[1]Worksheet 1'!$A$2:$A$18880,'[1]Worksheet 1'!$C$2:$C$18880)","v":35.6},35.6,"RAL 9007","ks"]
[187015074,"Hranatá rúra 80x80 4bm",{"$f":"_xlfn.XLOOKUP(A21,'[1]Worksheet 1'!$A$2:$A$18880,'[1]Worksheet 1'!$C$2:$C$18880)","v":47.5},47.5,"RAL 7015","ks"]
[189005074,"Hranatá rúra 80x80 4bm",{"$f":"_xlfn.XLOOKUP(A22,'[1]Worksheet 1'!$A$2:$A$18880,'[1]Worksheet 1'!$C$2:$C$18880)","v":47.5},47.5,"RAL 9005","ks"]
[189007074,"Hranatá rúra 80x80 4bm",{"$f":"_xlfn.XLOOKUP(A23,'[1]Worksheet 1'!$A$2:$A$18880,'[1]Worksheet 1'!$C$2:$C$18880)","v":47.5},47.5,"RAL 9007","ks"]
[187015141,"Hranatý čelový hák 125",{"$f":"_xlfn.XLOOKUP(A24,'[1]Worksheet 1'!$A$2:$A$18880,'[1]Worksheet 1'!$C$2:$C$18880)","v":4.8},4.8,"RAL 7015","ks"]
[189005141,"Hranatý čelový hák 125",{"$f":"_xlfn.XLOOKUP(A25,'[1]Worksheet 1'!$A$2:$A$18880,'[1]Worksheet 1'!$C$2:$C$18880)","v":4.8},4.8,"RAL 9005","ks"]
[189007141,"Hranatý čelový hák 125",{"$f":"_xlfn.XLOOKUP(A26,'[1]Worksheet 1'!$A$2:$A$18880,'[1]Worksheet 1'!$C$2:$C$18880)","v":4.8},4.8,"RAL 9007","ks"]
[187015111,"Hranatý hák 125",{"$f":"_xlfn.XLOOKUP(A27,'[1]Worksheet 1'!$A$2:$A$18880,'[1]Worksheet 1'!$C$2:$C$18880)","v":4.9000000000000004},4.9000000000000004,"RAL 7015","ks"]
[189005111,"Hranatý hák 125",{"$f":"_xlfn.XLOOKUP(A28,'[1]Worksheet 1'!$A$2:$A$18880,'[1]Worksheet 1'!$C$2:$C$18880)","v":4.8},4.8,"RAL 9005","ks"]
[189007111,"Hranatý hák 125",{"$f":"_xlfn.XLOOKUP(A29,'[1]Worksheet 1'!$A$2:$A$18880,'[1]Worksheet 1'!$C$2:$C$18880)","v":0},0,"RAL 9007","ks"]
[187015151,"Hranatý kotlík 125/80x80",{"$f":"_xlfn.XLOOKUP(A30,'[1]Worksheet 1'!$A$2:$A$18880,'[1]Worksheet 1'!$C$2:$C$18880)","v":10},10,"RAL 7015","ks"]
[189005151,"Hranatý kotlík 125/80x80",{"$f":"_xlfn.XLOOKUP(A31,'[1]Worksheet 1'!$A$2:$A$18880,'[1]Worksheet 1'!$C$2:$C$18880)","v":10},10,"RAL 9005","ks"]
[189007151,"Hranatý kotlík 125/80x80",{"$f":"_xlfn.XLOOKUP(A32,'[1]Worksheet 1'!$A$2:$A$18880,'[1]Worksheet 1'!$C$2:$C$18880)","v":10},10,"RAL 9007","ks"]
[187015171,"Hranatý roh vnútorný 125",{"$f":"_xlfn.XLOOKUP(A33,'[1]Worksheet 1'!$A$2:$A$18880,'[1]Worksheet 1'!$C$2:$C$18880)","v":21},21,"RAL 7015","ks"]
[189005171,"Hranatý roh vnútorný 125",{"$f":"_xlfn.XLOOKUP(A34,'[1]Worksheet 1'!$A$2:$A$18880,'[1]Worksheet 1'!$C$2:$C$18880)","v":21},21,"RAL 9005","ks"]
[189007171,"Hranatý roh vnútorný 125",{"$f":"_xlfn.XLOOKUP(A35,'[1]Worksheet 1'!$A$2:$A$18880,'[1]Worksheet 1'!$C$2:$C$18880)","v":21},21,"RAL 9007","ks"]
[187015181,"Hranatý roh vonkajší 125",{"$f":"_xlfn.XLOOKUP(A36,'[1]Worksheet 1'!$A$2:$A$18880,'[1]Worksheet 1'!$C$2:$C$18880)","v":21},21,"RAL 7015","ks"]
[189005181,"Hranatý roh vonkajší 125",{"$f":"_xlfn.XLOOKUP(A37,'[1]Worksheet 1'!$A$2:$A$18880,'[1]Worksheet 1'!$C$2:$C$18880)","v":21},21,"RAL 9005","ks"]
[189007181,"Hranatý roh vonkajší 125",{"$f":"_xlfn.XLOOKUP(A38,'[1]Worksheet 1'!$A$2:$A$18880,'[1]Worksheet 1'!$C$2:$C$18880)","v":21},21,"RAL 9007","ks"]
[187015161,"Hranatá žľabová spojka 125 ",{"$f":"_xlfn.XLOOKUP(A39,'[1]Worksheet 1'!$A$2:$A$18880,'[1]Worksheet 1'!$C$2:$C$18880)","v":20.5},20.5,"RAL 7015","ks"]
[189005161,"Hranatá žľabová spojka 125 ",{"$f":"_xlfn.XLOOKUP(A40,'[1]Worksheet 1'!$A$2:$A$18880,'[1]Worksheet 1'!$C$2:$C$18880)","v":20.5},20.5,"RAL 9005","ks"]
[189007161,"Hranatá žľabová spojka 125 ",{"$f":"_xlfn.XLOOKUP(A41,'[1]Worksheet 1'!$A$2:$A$18880,'[1]Worksheet 1'!$C$2:$C$18880)","v":20.5},20.5,"RAL 9007","ks"]
[187015201,"Hranaté čelo pravé(uPVC) 125 ",{"$f":"_xlfn.XLOOKUP(A42,'[1]Worksheet 1'!$A$2:$A$18880,'[1]Worksheet 1'!$C$2:$C$18880)","v":5.5},5.5,"RAL 7015","ks"]
[189005201,"Hranaté čelo pravé(uPVC) 125 ",{"$f":"_xlfn.XLOOKUP(A43,'[1]Worksheet 1'!$A$2:$A$18880,'[1]Worksheet 1'!$C$2:$C$18880)","v":5.5},5.5,"RAL 9005","ks"]
[189007201,"Hranaté čelo pravé(uPVC) 125 ",{"$f":"_xlfn.XLOOKUP(A44,'[1]Worksheet 1'!$A$2:$A$18880,'[1]Worksheet 1'!$C$2:$C$18880)","v":5.5},5.5,"RAL 9007","ks"]
[187015211,"Hranaté čelo ľavé(uPVC) 125 ",{"$f":"_xlfn.XLOOKUP(A45,'[1]Worksheet 1'!$A$2:$A$18880,'[1]Worksheet 1'!$C$2:$C$18880)","v":5.5},5.5,"RAL 7015","ks"]
[189005211,"Hranaté čelo ľavé(uPVC) 125 ",{"$f":"_xlfn.XLOOKUP(A46,'[1]Worksheet 1'!$A$2:$A$18880,'[1]Worksheet 1'!$C$2:$C$18880)","v":5.5},{"$f":"C46*(1-$H$2/100)","v":5.5},"RAL 9005","ks"]
[189007211,"Hranaté čelo ľavé(uPVC) 125 ",{"$f":"_xlfn.XLOOKUP(A47,'[1]Worksheet 1'!$A$2:$A$18880,'[1]Worksheet 1'!$C$2:$C$18880)","v":5.5},5.5,"RAL 9007","ks"]
[187015221,"Hranaté čelo pravé 125(oceľ) ",{"$f":"_xlfn.XLOOKUP(A48,'[1]Worksheet 1'!$A$2:$A$18880,'[1]Worksheet 1'!$C$2:$C$18880)","v":16.600000000000001},16.600000000000001,"RAL 7015","ks"]
[189005221,"Hranaté čelo pravé 125(oceľ) ",{"$f":"_xlfn.XLOOKUP(A49,'[1]Worksheet 1'!$A$2:$A$18880,'[1]Worksheet 1'!$C$2:$C$18880)","v":16.600000000000001},16.600000000000001,"RAL 9005","ks"]
[189007221,"Hranaté čelo pravé 125(oceľ) ",{"$f":"_xlfn.XLOOKUP(A50,'[1]Worksheet 1'!$A$2:$A$18880,'[1]Worksheet 1'!$C$2:$C$18880)","v":16.600000000000001},16.600000000000001,"RAL 9007","ks"]
[187015231,"Hranaté čelo ľavé(oceľ) 125",{"$f":"_xlfn.XLOOKUP(A51,'[1]Worksheet 1'!$A$2:$A$18880,'[1]Worksheet 1'!$C$2:$C$18880)","v":16.600000000000001},16.600000000000001,"RAL 7015","ks"]
[189005231,"Hranaté čelo ľavé(oceľ) 125",{"$f":"_xlfn.XLOOKUP(A52,'[1]Worksheet 1'!$A$2:$A$18880,'[1]Worksheet 1'!$C$2:$C$18880)","v":16.600000000000001},16.600000000000001,"RAL 9005","ks"]
[189007231,"Hranaté čelo ľavé(oceľ) 125",{"$f":"_xlfn.XLOOKUP(A53,'[1]Worksheet 1'!$A$2:$A$18880,'[1]Worksheet 1'!$C$2:$C$18880)","v":16.600000000000001},16.600000000000001,"RAL 9007","ks"]
[187015301,"Hranaté koleno 72° 80x80 ",{"$f":"_xlfn.XLOOKUP(A54,'[1]Worksheet 1'!$A$2:$A$18880,'[1]Worksheet 1'!$C$2:$C$18880)","v":12},12,"RAL 7015","ks"]
[189005301,"Hranaté koleno 72° 80x80 ",{"$f":"_xlfn.XLOOKUP(A55,'[1]Worksheet 1'!$A$2:$A$18880,'[1]Worksheet 1'!$C$2:$C$18880)","v":12},12,"RAL 9005","ks"]
[189007301,"Hranaté koleno 72° 80x80 ",{"$f":"_xlfn.XLOOKUP(A56,'[1]Worksheet 1'!$A$2:$A$18880,'[1]Worksheet 1'!$C$2:$C$18880)","v":12},12,"RAL 9007","ks"]
[187015311,"Hranatá spojka rúr 80x80",{"$f":"_xlfn.XLOOKUP(A57,'[1]Worksheet 1'!$A$2:$A$18880,'[1]Worksheet 1'!$C$2:$C$18880)","v":15},15,"RAL 7015","ks"]
[189005311,"Hranatá spojka rúr 80x80",{"$f":"_xlfn.XLOOKUP(A58,'[1]Worksheet 1'!$A$2:$A$18880,'[1]Worksheet 1'!$C$2:$C$18880)","v":15},15,"RAL 9005","ks"]
[189007311,"Hranatá spojka rúr 80x80",{"$f":"_xlfn.XLOOKUP(A59,'[1]Worksheet 1'!$A$2:$A$18880,'[1]Worksheet 1'!$C$2:$C$18880)","v":15},15,"RAL 9007","ks"]
[187015321,"Hranatá objímka 80x80 ",{"$f":"_xlfn.XLOOKUP(A60,'[1]Worksheet 1'!$A$2:$A$18880,'[1]Worksheet 1'!$C$2:$C$18880)","v":5.0999999999999996},5.0999999999999996,"RAL 7015","ks"]
[189005321,"Hranatá objímka 80x80 ",{"$f":"_xlfn.XLOOKUP(A61,'[1]Worksheet 1'!$A$2:$A$18880,'[1]Worksheet 1'!$C$2:$C$18880)","v":5.0999999999999996},5.0999999999999996,"RAL 9005","ks"]
[189007321,"Hranatá objímka 80x80 ",{"$f":"_xlfn.XLOOKUP(A62,'[1]Worksheet 1'!$A$2:$A$18880,'[1]Worksheet 1'!$C$2:$C$18880)","v":5.0999999999999996},5.0999999999999996,"RAL 9007","ks"]
[187015331,"Hranatá odbočka 72° 80x80 ",{"$f":"_xlfn.XLOOKUP(A63,'[1]Worksheet 1'!$A$2:$A$18880,'[1]Worksheet 1'!$C$2:$C$18880)","v":73.5},73.5,"RAL 7015","ks"]
[189005331,"Hranatá odbočka 72° 80x80 ",{"$f":"_xlfn.XLOOKUP(A64,'[1]Worksheet 1'!$A$2:$A$18880,'[1]Worksheet 1'!$C$2:$C$18880)","v":73.5},73.5,"RAL 9005","ks"]
[189007331,"Hranatá odbočka 72° 80x80 ",{"$f":"_xlfn.XLOOKUP(A65,'[1]Worksheet 1'!$A$2:$A$18880,'[1]Worksheet 1'!$C$2:$C$18880)","v":73.5},73.5,"RAL 9007","ks"]

{"sheet":"GALECO NOVA","index":9,"n_rows":48,"n_cols":8,"rows_kept":48,"cut":false,"hidden":false,"merged":[[6,1,6,7],[32,7,39,7],[40,7,47,7],[8,7,15,7],[16,7,23,7],[24,7,31,7]]}
[null,null,null,null,null,null,null,"Vaša zľava v %"]
[null,null,null,null,null,null,null,0]
[null,null,null,null,null,null,null,"Ceny sú uvádzané bez DPH."]
[]
[]
[]
[null,"GALECO NOVA"]
["PLU","Model","Cena","Cena po zľave","Farba","MJ","Objednané množstvá","Obrázok"]
[149010100,"Strešný podhľad 295x4000 mm",{"$f":"_xlfn.XLOOKUP(A9,'[1]Worksheet 1'!$A$2:$A$18880,'[1]Worksheet 1'!$C$2:$C$18880)","v":23.5},{"$f":"C9*(1-$H$2/100)","v":23.5},"Biela","ks"]
[149020100,"Strešný podhľad 295x4000 mm",{"$f":"_xlfn.XLOOKUP(A10,'[1]Worksheet 1'!$A$2:$A$18880,'[1]Worksheet 1'!$C$2:$C$18880)","v":27},{"$f":"C10*(1-$H$2/100)","v":27},"Biely dub","ks"]
[149005100,"Strešný podhľad 295x4000 mm",{"$f":"_xlfn.XLOOKUP(A11,'[1]Worksheet 1'!$A$2:$A$18880,'[1]Worksheet 1'!$C$2:$C$18880)","v":23.5},23.5,"Čierný ","ks"]
[147021100,"Strešný podhľad 295x4000 mm",{"$f":"_xlfn.XLOOKUP(A12,'[1]Worksheet 1'!$A$2:$A$18880,'[1]Worksheet 1'!$C$2:$C$18880)","v":23.5},23.5,"Grafitový","ks"]
[148019100,"Strešný podhľad 295x4000 mm",{"$f":"_xlfn.XLOOKUP(A13,'[1]Worksheet 1'!$A$2:$A$18880,'[1]Worksheet 1'!$C$2:$C$18880)","v":23.5},23.5,"Hnedý","ks"]
[148002100,"Strešný podhľad 295x4000 mm",{"$f":"_xlfn.XLOOKUP(A14,'[1]Worksheet 1'!$A$2:$A$18880,'[1]Worksheet 1'!$C$2:$C$18880)","v":27},27,"Orech","ks"]
[148001100,"Strešný podhľad 295x4000 mm",{"$f":"_xlfn.XLOOKUP(A15,'[1]Worksheet 1'!$A$2:$A$18880,'[1]Worksheet 1'!$C$2:$C$18880)","v":27},27,"Winchester","ks"]
[148023100,"Strešný podhľad 295x4000 mm",{"$f":"_xlfn.XLOOKUP(A16,'[1]Worksheet 1'!$A$2:$A$18880,'[1]Worksheet 1'!$C$2:$C$18880)","v":27},27,"Zlatý dub","ks"]
[149010200,"Strešný podhľad perforovaný 295x4000 mm                     ",{"$f":"_xlfn.XLOOKUP(A17,'[1]Worksheet 1'!$A$2:$A$18880,'[1]Worksheet 1'!$C$2:$C$18880)","v":23.5},23.5,"Biela","ks"]
[149020200,"Strešný podhľad perforovaný 295x4000 mm                     ",{"$f":"_xlfn.XLOOKUP(A18,'[1]Worksheet 1'!$A$2:$A$18880,'[1]Worksheet 1'!$C$2:$C$18880)","v":27},27,"Biely dub","ks"]
[149005200,"Strešný podhľad perforovaný 295x4000 mm                     ",{"$f":"_xlfn.XLOOKUP(A19,'[1]Worksheet 1'!$A$2:$A$18880,'[1]Worksheet 1'!$C$2:$C$18880)","v":23.5},23.5,"Čierný ","ks"]
[147021200,"Strešný podhľad perforovaný 295x4000 mm                     ",{"$f":"_xlfn.XLOOKUP(A20,'[1]Worksheet 1'!$A$2:$A$18880,'[1]Worksheet 1'!$C$2:$C$18880)","v":23.5},23.5,"Grafitový","ks"]
[148019200,"Strešný podhľad perforovaný 295x4000 mm                     ",{"$f":"_xlfn.XLOOKUP(A21,'[1]Worksheet 1'!$A$2:$A$18880,'[1]Worksheet 1'!$C$2:$C$18880)","v":23.5},23.5,"Hnedý","ks"]
[148002200,"Strešný podhľad perforovaný 295x4000 mm                     ",{"$f":"_xlfn.XLOOKUP(A22,'[1]Worksheet 1'!$A$2:$A$18880,'[1]Worksheet 1'!$C$2:$C$18880)","v":27},27,"Orech","ks"]
[148001200,"Strešný podhľad perforovaný 295x4000 mm                     ",{"$f":"_xlfn.XLOOKUP(A23,'[1]Worksheet 1'!$A$2:$A$18880,'[1]Worksheet 1'!$C$2:$C$18880)","v":27},27,"Winchester","ks"]
[148023200,"Strešný podhľad perforovaný 295x4000 mm                     ",{"$f":"_xlfn.XLOOKUP(A24,'[1]Worksheet 1'!$A$2:$A$18880,'[1]Worksheet 1'!$C$2:$C$18880)","v":27},27,"Zlatý dub","ks"]
[149010400,"Profil H  4000 mm                  ",{"$f":"_xlfn.XLOOKUP(A25,'[1]Worksheet 1'!$A$2:$A$18880,'[1]Worksheet 1'!$C$2:$C$18880)","v":13},13,"Biela","ks"]
[149020400,"Profil H  4000 mm                  ",{"$f":"_xlfn.XLOOKUP(A26,'[1]Worksheet 1'!$A$2:$A$18880,'[1]Worksheet 1'!$C$2:$C$18880)","v":14},14,"Biely dub","ks"]
[149005400,"Profil H  4000 mm                  ",{"$f":"_xlfn.XLOOKUP(A27,'[1]Worksheet 1'!$A$2:$A$18880,'[1]Worksheet 1'!$C$2:$C$18880)","v":13},13,"Čierný ","ks"]
[147021400,"Profil H  4000 mm                  ",{"$f":"_xlfn.XLOOKUP(A28,'[1]Worksheet 1'!$A$2:$A$18880,'[1]Worksheet 1'!$C$2:$C$18880)","v":13},13,"Grafitový","ks"]
[148002400,"Profil H  4000 mm                  ",{"$f":"_xlfn.XLOOKUP(A29,'[1]Worksheet 1'!$A$2:$A$18880,'[1]Worksheet 1'!$C$2:$C$18880)","v":14},14,"Hnedý","ks"]
[148002400,"Profil H  4000 mm                  ",{"$f":"_xlfn.XLOOKUP(A30,'[1]Worksheet 1'!$A$2:$A$18880,'[1]Worksheet 1'!$C$2:$C$18880)","v":14},14,"Orech","ks"]
[148001400,"Profil H  4000 mm                  ",{"$f":"_xlfn.XLOOKUP(A31,'[1]Worksheet 1'!$A$2:$A$18880,'[1]Worksheet 1'!$C$2:$C$18880)","v":14},14,"Winchester","ks"]
[148023400,"Profil H  4000 mm                  ",{"$f":"_xlfn.XLOOKUP(A32,'[1]Worksheet 1'!$A$2:$A$18880,'[1]Worksheet 1'!$C$2:$C$18880)","v":14},14,"Zlatý dub","ks"]
[149010300,"Profil J 4000 mm",{"$f":"_xlfn.XLOOKUP(A33,'[1]Worksheet 1'!$A$2:$A$18880,'[1]Worksheet 1'!$C$2:$C$18880)","v":7.2},7.2,"Biela","ks"]
[149020300,"Profil J 4000 mm",{"$f":"_xlfn.XLOOKUP(A34,'[1]Worksheet 1'!$A$2:$A$18880,'[1]Worksheet 1'!$C$2:$C$18880)","v":11.5},11.5,"Biely dub","ks"]
[149005300,"Profil J 4000 mm",{"$f":"_xlfn.XLOOKUP(A35,'[1]Worksheet 1'!$A$2:$A$18880,'[1]Worksheet 1'!$C$2:$C$18880)","v":7.2},7.2,"Čierný ","ks"]
[147021300,"Profil J 4000 mm",{"$f":"_xlfn.XLOOKUP(A36,'[1]Worksheet 1'!$A$2:$A$18880,'[1]Worksheet 1'!$C$2:$C$18880)","v":7.2},7.2,"Grafitový","ks"]
[148019300,"Profil J 4000 mm",{"$f":"_xlfn.XLOOKUP(A37,'[1]Worksheet 1'!$A$2:$A$18880,'[1]Worksheet 1'!$C$2:$C$18880)","v":7.2},7.2,"Hnedý","ks"]
[148002300,"Profil J 4000 mm",{"$f":"_xlfn.XLOOKUP(A38,'[1]Worksheet 1'!$A$2:$A$18880,'[1]Worksheet 1'!$C$2:$C$18880)","v":11.5},11.5,"Orech","ks"]
[148001300,"Profil J 4000 mm",{"$f":"_xlfn.XLOOKUP(A39,'[1]Worksheet 1'!$A$2:$A$18880,'[1]Worksheet 1'!$C$2:$C$18880)","v":11.5},11.5,"Winchester","ks"]
[148023300,"Profil J 4000 mm",{"$f":"_xlfn.XLOOKUP(A40,'[1]Worksheet 1'!$A$2:$A$18880,'[1]Worksheet 1'!$C$2:$C$18880)","v":11.5},11.5,"Zlatý dub","ks"]
[149010500,"Vonkajší roh 4000 mm                         ",{"$f":"_xlfn.XLOOKUP(A41,'[1]Worksheet 1'!$A$2:$A$18880,'[1]Worksheet 1'!$C$2:$C$18880)","v":17},17,"Biela","ks"]
[149020500,"Vonkajší roh 4000 mm                         ",{"$f":"_xlfn.XLOOKUP(A42,'[1]Worksheet 1'!$A$2:$A$18880,'[1]Worksheet 1'!$C$2:$C$18880)","v":18},18,"Biely dub","ks"]
[149005500,"Vonkajší roh 4000 mm                         ",{"$f":"_xlfn.XLOOKUP(A43,'[1]Worksheet 1'!$A$2:$A$18880,'[1]Worksheet 1'!$C$2:$C$18880)","v":17},17,"Čierný ","ks"]
[147021500,"Vonkajší roh 4000 mm                         ",{"$f":"_xlfn.XLOOKUP(A44,'[1]Worksheet 1'!$A$2:$A$18880,'[1]Worksheet 1'!$C$2:$C$18880)","v":17},17,"Grafitový","ks"]
[148002500,"Vonkajší roh 4000 mm                         ",{"$f":"_xlfn.XLOOKUP(A45,'[1]Worksheet 1'!$A$2:$A$18880,'[1]Worksheet 1'!$C$2:$C$18880)","v":18},18,"Hnedý","ks"]
[148002500,"Vonkajší roh 4000 mm                         ",{"$f":"_xlfn.XLOOKUP(A46,'[1]Worksheet 1'!$A$2:$A$18880,'[1]Worksheet 1'!$C$2:$C$18880)","v":18},18,"Orech","ks"]
[148001500,"Vonkajší roh 4000 mm                         ",{"$f":"_xlfn.XLOOKUP(A47,'[1]Worksheet 1'!$A$2:$A$18880,'[1]Worksheet 1'!$C$2:$C$18880)","v":18},18,"Winchester","ks"]
[148023500,"Vonkajší roh 4000 mm                         ",{"$f":"_xlfn.XLOOKUP(A48,'[1]Worksheet 1'!$A$2:$A$18880,'[1]Worksheet 1'!$C$2:$C$18880)","v":18},18,"Zlatý dub","ks"]

{"sheet":"GALECO PVC2","index":10,"n_rows":38,"n_cols":8,"rows_kept":38,"cut":false,"hidden":false,"merged":[[8,7,11,7],[12,7,17,7],[18,7,19,7],[20,7,21,7],[6,1,6,7],[22,7,23,7],[36,7,37,7],[24,7,25,7],[26,7,27,7],[28,7,29,7],[30,7,31,7],[32,7,33,7],[34,7,35,7]]}
[null,null,null,null,null,null,null,"Vaša zľava v %"]
[null,null,null,null,null,null,null,0]
[null,null,null,null,null,null,null,"Ceny sú uvádzané bez DPH."]
[]
[]
[]
[null,"GALECO PVC2"]
["PLU","Model","Cena","Cena po zľave","Farba","MJ","Objednané množstvá","Obrázok"]
[167021013,"Hranatý žľab 135 3bm",{"$f":"_xlfn.XLOOKUP(A9,'[1]Worksheet 1'!$A$2:$A$18880,'[1]Worksheet 1'!$C$2:$C$18880)","v":24},{"$f":"C9*(1-$H$2/100)","v":24},"RAL 7021","ks"]
[169005013,"Hranatý žľab 135 3bm",24,{"$f":"C10*(1-$H$2/100)","v":24},"RAL 9005","ks"]
[167021014,"Hranatý žľab 135 4bm",31.5,31.5,"RAL 7021","ks"]
[169005014,"Hranatý žľab 135 4bm",31.5,31.5,"RAL 9005","ks"]
[167021071,"Hranatá rúra 70x80 1bm",6.5,6.5,"RAL 7021","ks"]
[169005071,"Hranatá rúra 70x80 1bm",6.5,6.5,"RAL 9005","ks"]
[167021073,"Hranatá rúra 70x80 3bm",19.5,19.5,"RAL 7021","ks"]
[169005073,"Hranatá rúra 70x80 3bm",19.5,19.5,"RAL 9005","ks"]
[167021074,"Hranatá rúra 70x80 4bm",26,26,"RAL 7021","ks"]
[169005074,"Hranatá rúra 70x80 4bm",26,26,"RAL 9005","ks"]
[167021141,"Hranatý čelový hák PVC 135 ",2.5,2.5,"RAL 7021","ks"]
[169005141,"Hranatý čelový hák PVC 136",2.5,2.5,"RAL 9005","ks"]
[167021151,"Hranatý kotlík 135/70x80",14,14,"RAL 7021","ks"]
[169005151,"Hranatý kotlík 135/70x81",14,14,"RAL 9005","ks"]
[167021161,"Hranatá žľabová spojka  135 ",18.600000000000001,18.600000000000001,"RAL 7021","ks"]
[169005161,"Hranatá žľabová spojka  135 ",18.600000000000001,18.600000000000001,"RAL 9005","ks"]
[167021171,"Hranatý roh vnútorný 135",33,33,"RAL 7021","ks"]
[169005171,"Hranatý roh vnútorný 135",33,33,"RAL 9005","ks"]
[167021181,"Hranatý roh vonkajší 135 ",33,33,"RAL 7021","ks"]
[169005181,"Hranatý roh vonkajší 135 ",33,33,"RAL 9005","ks"]
[167021201,"Hranaté čelo pravé 135",10.6,10.6,"RAL 7021","ks"]
[169005201,"Hranaté čelo pravé 135",10.6,10.6,"RAL 9005","ks"]
[167021211,"Hranaté čelo ľavé 135",10.6,10.6,"RAL 7021","ks"]
[169005211,"Hranaté čelo ľavé 135",10.6,10.6,"RAL 9005","ks"]
[167021301,"Hranaté koleno 67° 70x80 ",6.6,6.6,"RAL 7021","ks"]
[169005301,"Hranaté koleno 67° 70x80 ",6.6,6.6,"RAL 9005","ks"]
[167021311,"Hranatá spojka rúr 70x80 ",6.9,6.9,"RAL 7021","ks"]
[169005311,"Hranatá spojka rúr 70x80 ",6.9,6.9,"RAL 9005","ks"]
[167021321,"Hranatá objímka 70x80",5,5,"RAL 7021","ks"]
[169005321,"Hranatá objímka 70x80",5,5,"RAL 9005","ks"]

{"sheet":"GALECO PVC","index":11,"n_rows":73,"n_cols":10,"rows_kept":73,"cut":false,"hidden":false,"merged":[[67,9,69,9],[70,9,72,9],[41,9,44,9],[45,9,48,9],[49,9,52,9],[53,9,56,9],[57,9,60,9],[28,9,31,9],[32,9,36,9],[37,9,40,9],[61,9,63,9],[64,9,66,9],[6,1,6,5],[6,6,6,8],[8,9,14,9],[15,9,23,9],[24,9,27,9]]}
[null,null,null,null,null,null,null,"Vaša zľava v %"]
[null,null,null,null,null,null,null,0]
[null,null,null,null,null,null,null,"Ceny sú uvádzané bez DPH."]
[]
[]
[]
[null,"GALECO PVC",null,null,null,null,"Objednané množstvá"]
["PLU","Model","Cena","Cena po zľave","Rozmer","MJ",7021,8019,9005,"Obrázok"]
["15ffff013","Žľab 3bm",{"$f":"_xlfn.XLOOKUP(VALUE(REPLACE(A9,3,4,7021)),'[1]Worksheet 1'!$A$2:$A$18880,'[1]Worksheet 1'!$C$2:$C$18880)","v":8.1999999999999993},{"$f":"C9*(1-$H$2/100)","v":8.1999999999999993},90,"ks"]
["15ffff014","Žľab 4bm",{"$f":"_xlfn.XLOOKUP(VALUE(REPLACE(A10,3,4,7021)),'[1]Worksheet 1'!$A$2:$A$18880,'[1]Worksheet 1'!$C$2:$C$18880)","v":10.95},{"$f":"C10*(1-$H$2/100)","v":10.95},90,"ks"]
["15ffff023","Žľab 3bm",{"$f":"_xlfn.XLOOKUP(VALUE(REPLACE(A11,3,4,7021)),'[1]Worksheet 1'!$A$2:$A$18880,'[1]Worksheet 1'!$C$2:$C$18880)","v":9},{"$f":"C11*(1-$H$2/100)","v":9},110,"ks"]
["15ffff024","Žľab 4bm",{"$f":"_xlfn.XLOOKUP(VALUE(REPLACE(A12,3,4,7021)),'[1]Worksheet 1'!$A$2:$A$18880,'[1]Worksheet 1'!$C$2:$C$18880)","v":12},12,110,"ks"]
["15ffff033","Žľab 3bm",{"$f":"_xlfn.XLOOKUP(VALUE(REPLACE(A13,3,4,7021)),'[1]Worksheet 1'!$A$2:$A$18880,'[1]Worksheet 1'!$C$2:$C$18880)","v":11.25},11.25,130,"ks"]
["15ffff034","Žľab 4bm",{"$f":"_xlfn.XLOOKUP(VALUE(REPLACE(A14,3,4,7021)),'[1]Worksheet 1'!$A$2:$A$18880,'[1]Worksheet 1'!$C$2:$C$18880)","v":15},15,130,"ks"]
["15ffff043","Žľab 4bm",{"$f":"_xlfn.XLOOKUP(VALUE(REPLACE(A15,3,4,7021)),'[1]Worksheet 1'!$A$2:$A$18880,'[1]Worksheet 1'!$C$2:$C$18880)","v":20},20,150,"ks"]
["15ffff061","Rúra 1bm",{"$f":"_xlfn.XLOOKUP(VALUE(REPLACE(A16,3,4,7021)),'[1]Worksheet 1'!$A$2:$A$18880,'[1]Worksheet 1'!$C$2:$C$18880)","v":2.7},2.7,50,"ks"]
["15ffff063","Rúra 3bm",{"$f":"_xlfn.XLOOKUP(VALUE(REPLACE(A17,3,4,7021)),'[1]Worksheet 1'!$A$2:$A$18880,'[1]Worksheet 1'!$C$2:$C$18880)","v":8.1},8.1,50,"ks"]
["15ffff064","Rúra 4bm",{"$f":"_xlfn.XLOOKUP(VALUE(REPLACE(A18,3,4,7021)),'[1]Worksheet 1'!$A$2:$A$18880,'[1]Worksheet 1'!$C$2:$C$18880)","v":10.8},10.8,50,"ks"]
["15ffff071","Rúra 1bm",{"$f":"_xlfn.XLOOKUP(VALUE(REPLACE(A19,3,4,7021)),'[1]Worksheet 1'!$A$2:$A$18880,'[1]Worksheet 1'!$C$2:$C$18880)","v":3.9},3.9,80,"ks"]
["15ffff073","Rúra 3bm",{"$f":"_xlfn.XLOOKUP(VALUE(REPLACE(A20,3,4,7021)),'[1]Worksheet 1'!$A$2:$A$18880,'[1]Worksheet 1'!$C$2:$C$18880)","v":11.7},11.7,80,"ks"]
["15ffff074","Rúra 4bm",{"$f":"_xlfn.XLOOKUP(VALUE(REPLACE(A21,3,4,7021)),'[1]Worksheet 1'!$A$2:$A$18880,'[1]Worksheet 1'!$C$2:$C$18880)","v":15.6},15.6,80,"ks"]
["15ffff081","Rúra 1bm",{"$f":"_xlfn.XLOOKUP(VALUE(REPLACE(A22,3,4,7021)),'[1]Worksheet 1'!$A$2:$A$18880,'[1]Worksheet 1'!$C$2:$C$18880)","v":4.7},4.7,100,"ks"]
["15ffff083","Rúra 3bm",{"$f":"_xlfn.XLOOKUP(VALUE(REPLACE(A23,3,4,7021)),'[1]Worksheet 1'!$A$2:$A$18880,'[1]Worksheet 1'!$C$2:$C$18880)","v":14.1},14.1,100,"ks"]
["15ffff084","Rúra 4bm",{"$f":"_xlfn.XLOOKUP(VALUE(REPLACE(A24,3,4,7021)),'[1]Worksheet 1'!$A$2:$A$18880,'[1]Worksheet 1'!$C$2:$C$18880)","v":18.8},18.8,100,"ks"]
["15ffff111","Hák rovný oceľový",{"$f":"_xlfn.XLOOKUP(VALUE(REPLACE(A25,3,4,7021)),'[1]Worksheet 1'!$A$2:$A$18880,'[1]Worksheet 1'!$C$2:$C$18880)","v":4.5},4.5,90,"ks"]
["15ffff112","Hák rovný oceľový",{"$f":"_xlfn.XLOOKUP(VALUE(REPLACE(A26,3,4,7021)),'[1]Worksheet 1'!$A$2:$A$18880,'[1]Worksheet 1'!$C$2:$C$18880)","v":5.7},5.7,110,"ks"]
["15ffff113","Hák rovný oceľový",{"$f":"_xlfn.XLOOKUP(VALUE(REPLACE(A27,3,4,7021)),'[1]Worksheet 1'!$A$2:$A$18880,'[1]Worksheet 1'!$C$2:$C$18880)","v":5.4},5.4,130,"ks"]
["15ffff114","Hák rovný oceľový",{"$f":"_xlfn.XLOOKUP(VALUE(REPLACE(A28,3,4,7021)),'[1]Worksheet 1'!$A$2:$A$18880,'[1]Worksheet 1'!$C$2:$C$18880)","v":5.9},5.9,150,"ks"]
["15ffff141","Čelový hák PVC ",{"$f":"_xlfn.XLOOKUP(VALUE(REPLACE(A29,3,4,7021)),'[1]Worksheet 1'!$A$2:$A$18880,'[1]Worksheet 1'!$C$2:$C$18880)","v":1},1,90,"ks"]
["15ffff142","Čelový hák PVC ",{"$f":"_xlfn.XLOOKUP(VALUE(REPLACE(A30,3,4,7021)),'[1]Worksheet 1'!$A$2:$A$18880,'[1]Worksheet 1'!$C$2:$C$18880)","v":1.6},1.6,110,"ks"]
["15ffff143","Čelový hák PVC ",{"$f":"_xlfn.XLOOKUP(VALUE(REPLACE(A31,3,4,7021)),'[1]Worksheet 1'!$A$2:$A$18880,'[1]Worksheet 1'!$C$2:$C$18880)","v":2},2,130,"ks"]
["15ffff144","Čelový hák PVC ",{"$f":"_xlfn.XLOOKUP(VALUE(REPLACE(A32,3,4,7021)),'[1]Worksheet 1'!$A$2:$A$18880,'[1]Worksheet 1'!$C$2:$C$18880)","v":3.3},3.3,150,"ks"]
["15ffff151","Kotlík ",{"$f":"_xlfn.XLOOKUP(VALUE(REPLACE(A33,3,4,7021)),'[1]Worksheet 1'!$A$2:$A$18880,'[1]Worksheet 1'!$C$2:$C$18880)","v":5.3},5.3,"90/50","ks"]
["15ffff152","Kotlík ",{"$f":"_xlfn.XLOOKUP(VALUE(REPLACE(A34,3,4,7021)),'[1]Worksheet 1'!$A$2:$A$18880,'[1]Worksheet 1'!$C$2:$C$18880)","v":9.9},9.9,"110/80","ks"]
["15ffff153","Kotlík ",{"$f":"_xlfn.XLOOKUP(VALUE(REPLACE(A35,3,4,7021)),'[1]Worksheet 1'!$A$2:$A$18880,'[1]Worksheet 1'!$C$2:$C$18880)","v":8.8000000000000007},8.8000000000000007,"130/80","ks"]
["15ffff154","Kotlík ",{"$f":"_xlfn.XLOOKUP(VALUE(REPLACE(A36,3,4,7021)),'[1]Worksheet 1'!$A$2:$A$18880,'[1]Worksheet 1'!$C$2:$C$18880)","v":8.8000000000000007},8.8000000000000007,"130/100","ks"]
["15ffff155","Kotlík ",{"$f":"_xlfn.XLOOKUP(VALUE(REPLACE(A37,3,4,7021)),'[1]Worksheet 1'!$A$2:$A$18880,'[1]Worksheet 1'!$C$2:$C$18880)","v":16.899999999999999},16.899999999999999,"150/100","ks"]
["15ffff161","Žľabová spojka",{"$f":"_xlfn.XLOOKUP(VALUE(REPLACE(A38,3,4,7021)),'[1]Worksheet 1'!$A$2:$A$18880,'[1]Worksheet 1'!$C$2:$C$18880)","v":4.4000000000000004},4.4000000000000004,90,"ks"]
["15ffff162","Žľabová spojka",{"$f":"_xlfn.XLOOKUP(VALUE(REPLACE(A39,3,4,7021)),'[1]Worksheet 1'!$A$2:$A$18880,'[1]Worksheet 1'!$C$2:$C$18880)","v":7},7,110,"ks"]
["15ffff163","Žľabová spojka",{"$f":"_xlfn.XLOOKUP(VALUE(REPLACE(A40,3,4,7021)),'[1]Worksheet 1'!$A$2:$A$18880,'[1]Worksheet 1'!$C$2:$C$18880)","v":6.5},6.5,130,"ks"]
["15ffff164","Žľabová spojka",{"$f":"_xlfn.XLOOKUP(VALUE(REPLACE(A41,3,4,7021)),'[1]Worksheet 1'!$A$2:$A$18880,'[1]Worksheet 1'!$C$2:$C$18880)","v":10.4},10.4,150,"ks"]
["15ffff171","Roh vnútorný ",{"$f":"_xlfn.XLOOKUP(VALUE(REPLACE(A42,3,4,7021)),'[1]Worksheet 1'!$A$2:$A$18880,'[1]Worksheet 1'!$C$2:$C$18880)","v":7.5},7.5,90,"ks"]
["15ffff172","Roh vnútorný ",{"$f":"_xlfn.XLOOKUP(VALUE(REPLACE(A43,3,4,7021)),'[1]Worksheet 1'!$A$2:$A$18880,'[1]Worksheet 1'!$C$2:$C$18880)","v":7.2},7.2,110,"ks"]
["15ffff173","Roh vnútorný ",{"$f":"_xlfn.XLOOKUP(VALUE(REPLACE(A44,3,4,7021)),'[1]Worksheet 1'!$A$2:$A$18880,'[1]Worksheet 1'!$C$2:$C$18880)","v":9.8000000000000007},9.8000000000000007,130,"ks"]
["15ffff174","Roh vnútorný ",{"$f":"_xlfn.XLOOKUP(VALUE(REPLACE(A45,3,4,7021)),'[1]Worksheet 1'!$A$2:$A$18880,'[1]Worksheet 1'!$C$2:$C$18880)","v":15},15,150,"ks"]
["15ffff181","Roh vonkajší ",{"$f":"_xlfn.XLOOKUP(VALUE(REPLACE(A46,3,4,7021)),'[1]Worksheet 1'!$A$2:$A$18880,'[1]Worksheet 1'!$C$2:$C$18880)","v":7.5},7.5,90,"ks"]
["15ffff182","Roh vonkajší ",{"$f":"_xlfn.XLOOKUP(VALUE(REPLACE(A47,3,4,7021)),'[1]Worksheet 1'!$A$2:$A$18880,'[1]Worksheet 1'!$C$2:$C$18880)","v":7.2},7.2,110,"ks"]
["15ffff183","Roh vonkajší ",{"$f":"_xlfn.XLOOKUP(VALUE(REPLACE(A48,3,4,7021)),'[1]Worksheet 1'!$A$2:$A$18880,'[1]Worksheet 1'!$C$2:$C$18880)","v":9.6},9.6,130,"ks"]
["15ffff184","Roh vonkajší ",{"$f":"_xlfn.XLOOKUP(VALUE(REPLACE(A49,3,4,7021)),'[1]Worksheet 1'!$A$2:$A$18880,'[1]Worksheet 1'!$C$2:$C$18880)","v":15},15,150,"ks"]
["15ffff191","Roh vonkajší nastavitelný ",{"$f":"_xlfn.XLOOKUP(VALUE(REPLACE(A50,3,4,7021)),'[1]Worksheet 1'!$A$2:$A$18880,'[1]Worksheet 1'!$C$2:$C$18880)","v":0},0,90,"ks"]
["15ffff192","Roh vonkajší nastavitelný ",{"$f":"_xlfn.XLOOKUP(VALUE(REPLACE(A51,3,4,7021)),'[1]Worksheet 1'!$A$2:$A$18880,'[1]Worksheet 1'!$C$2:$C$18880)","v":0},0,110,"ks"]
["15ffff193","Roh vonkajší nastavitelný ",{"$f":"_xlfn.XLOOKUP(VALUE(REPLACE(A52,3,4,7021)),'[1]Worksheet 1'!$A$2:$A$18880,'[1]Worksheet 1'!$C$2:$C$18880)","v":21},21,130,"ks"]
["15ffff194","Roh vonkajší nastavitelný ",{"$f":"_xlfn.XLOOKUP(VALUE(REPLACE(A53,3,4,7021)),'[1]Worksheet 1'!$A$2:$A$18880,'[1]Worksheet 1'!$C$2:$C$18880)","v":0},0,150,"ks"]
["15ffff201","Čelo pravé ",{"$f":"_xlfn.XLOOKUP(VALUE(REPLACE(A54,3,4,7021)),'[1]Worksheet 1'!$A$2:$A$18880,'[1]Worksheet 1'!$C$2:$C$18880)","v":2.2999999999999998},2.2999999999999998,90,"ks"]
["15ffff202","Čelo pravé ",{"$f":"_xlfn.XLOOKUP(VALUE(REPLACE(A55,3,4,7021)),'[1]Worksheet 1'!$A$2:$A$18880,'[1]Worksheet 1'!$C$2:$C$18880)","v":2.8},2.8,110,"ks"]
["15ffff203","Čelo pravé ",{"$f":"_xlfn.XLOOKUP(VALUE(REPLACE(A56,3,4,7021)),'[1]Worksheet 1'!$A$2:$A$18880,'[1]Worksheet 1'!$C$2:$C$18880)","v":3.4},3.4,130,"ks"]
["15ffff204","Čelo pravé ",{"$f":"_xlfn.XLOOKUP(VALUE(REPLACE(A57,3,4,7021)),'[1]Worksheet 1'!$A$2:$A$18880,'[1]Worksheet 1'!$C$2:$C$18880)","v":4.4000000000000004},4.4000000000000004,150,"ks"]
["15ffff211","Čelo ľavé ",{"$f":"_xlfn.XLOOKUP(VALUE(REPLACE(A58,3,4,7021)),'[1]Worksheet 1'!$A$2:$A$18880,'[1]Worksheet 1'!$C$2:$C$18880)","v":2.2999999999999998},2.2999999999999998,90,"ks"]
["15ffff212","Čelo ľavé ",{"$f":"_xlfn.XLOOKUP(VALUE(REPLACE(A59,3,4,7021)),'[1]Worksheet 1'!$A$2:$A$18880,'[1]Worksheet 1'!$C$2:$C$18880)","v":2.8},2.8,110,"ks"]
["15ffff213","Čelo ľavé ",{"$f":"_xlfn.XLOOKUP(VALUE(REPLACE(A60,3,4,7021)),'[1]Worksheet 1'!$A$2:$A$18880,'[1]Worksheet 1'!$C$2:$C$18880)","v":3.4},3.4,130,"ks"]
["15ffff214","Čelo ľavé ",{"$f":"_xlfn.XLOOKUP(VALUE(REPLACE(A61,3,4,7021)),'[1]Worksheet 1'!$A$2:$A$18880,'[1]Worksheet 1'!$C$2:$C$18880)","v":4.5},4.5,150,"ks"]
["15ffff301","Koleno 67° ",{"$f":"_xlfn.XLOOKUP(VALUE(REPLACE(A62,3,4,7021)),'[1]Worksheet 1'!$A$2:$A$18880,'[1]Worksheet 1'!$C$2:$C$18880)","v":3.2},3.2,50,"ks"]
["15ffff302","Koleno 67° ",{"$f":"_xlfn.XLOOKUP(VALUE(REPLACE(A63,3,4,7021)),'[1]Worksheet 1'!$A$2:$A$18880,'[1]Worksheet 1'!$C$2:$C$18880)","v":3.9},3.9,80,"ks"]
["15ffff303","Koleno 67° ",{"$f":"_xlfn.XLOOKUP(VALUE(REPLACE(A64,3,4,7021)),'[1]Worksheet 1'!$A$2:$A$18880,'[1]Worksheet 1'!$C$2:$C$18880)","v":5},5,100,"ks"]
["15ffff311","Spojka rúr ",{"$f":"_xlfn.XLOOKUP(VALUE(REPLACE(A65,3,4,7021)),'[1]Worksheet 1'!$A$2:$A$18880,'[1]Worksheet 1'!$C$2:$C$18880)","v":2.2000000000000002},2.2000000000000002,50,"ks"]
["15ffff312","Spojka rúr ",{"$f":"_xlfn.XLOOKUP(VALUE(REPLACE(A66,3,4,7021)),'[1]Worksheet 1'!$A$2:$A$18880,'[1]Worksheet 1'!$C$2:$C$18880)","v":3.9},3.9,80,"ks"]
["15ffff313","Spojka rúr ",{"$f":"_xlfn.XLOOKUP(VALUE(REPLACE(A67,3,4,7021)),'[1]Worksheet 1'!$A$2:$A$18880,'[1]Worksheet 1'!$C$2:$C$18880)","v":3.6},3.6,100,"ks"]
["15ffff321","Objímka (oceľ) ",{"$f":"_xlfn.XLOOKUP(VALUE(REPLACE(A68,3,4,7021)),'[1]Worksheet 1'!$A$2:$A$18880,'[1]Worksheet 1'!$C$2:$C$18880)","v":3.2},3.2,50,"ks"]
["15ffff322","Objímka ",{"$f":"_xlfn.XLOOKUP(VALUE(REPLACE(A69,3,4,7021)),'[1]Worksheet 1'!$A$2:$A$18880,'[1]Worksheet 1'!$C$2:$C$18880)","v":2.7},{"$f":"C69*(1-$H$2/100)","v":2.7},80,"ks"]
["15ffff323","Objímka ",{"$f":"_xlfn.XLOOKUP(VALUE(REPLACE(A70,3,4,7021)),'[1]Worksheet 1'!$A$2:$A$18880,'[1]Worksheet 1'!$C$2:$C$18880)","v":2.6},2.6,100,"ks"]
["15ffff331","Odbočka 67° ",{"$f":"_xlfn.XLOOKUP(VALUE(REPLACE(A71,3,4,7021)),'[1]Worksheet 1'!$A$2:$A$18880,'[1]Worksheet 1'!$C$2:$C$18880)","v":0},0,50,"ks"]
["15ffff332","Odbočka 67° ",{"$f":"_xlfn.XLOOKUP(VALUE(REPLACE(A72,3,4,7021)),'[1]Worksheet 1'!$A$2:$A$18880,'[1]Worksheet 1'!$C$2:$C$18880)","v":0},0,80,"ks"]
["15ffff333","Odbočka 67° ",{"$f":"_xlfn.XLOOKUP(VALUE(REPLACE(A73,3,4,7021)),'[1]Worksheet 1'!$A$2:$A$18880,'[1]Worksheet 1'!$C$2:$C$18880)","v":13.2},13.2,100,"ks"]

{"sheet":"KRONOPLAST-hlavice, priechodky","index":12,"n_rows":32,"n_cols":17,"rows_kept":32,"cut":false,"hidden":false,"merged":[[8,16,9,16],[28,1,28,6],[28,7,28,13],[17,1,17,6],[18,7,18,15],[19,2,19,5],[18,2,18,5],[20,2,20,4],[21,2,21,4],[22,2,22,4],[24,2,24,4],[23,2,23,4],[25,2,25,4],[26,2,26,4],[27,2,27,4],[6,7,6,15],[0,7,0,8],[1,7,1,8],[13,7,13,15],[6,1,6,6],[13,1,13,6]]}
[null,null,null,null,null,null,null,"Vaša zľava v %"]
[null,null,null,null,null,null,null,0]
[null,null,null,null,null,null,null,"Ceny sú uvádzané bez DPH."]
[]
[]
[]
[null,"Ventilačné hlavice ECOLINE a ROTOLINE",null,null,null,null,null,"Objednané množstvá"]
["PLU","Model","Cena","Cena po zľave","Priemer",null,"MJ",3009,6020,7016,7024,7036,8004,8017,8019,9005,"Obrázok"]
[2000,"Ecoline Premium",40.700000000000003,{"$f":"C9*(1-$H$2/100)","v":40.700000000000003},125,null,"ks"]
[2019,"Ecoline Premium",{"$f":"230/4.4718","v":51.43342725524397},{"$f":"C10*(1-$H$2/100)","v":51.43342725524397},150,null,"ks"]
[2052,"Rotoline podlhovastý",68,68,150,null,"ks"]
[null,"Rotoline guľový",68,68,150,null,"ks"]
[2070,"Rotoline-S - kohút",68,68,150,null,"ks"]
[null,"Strešné priechodky",null,null,null,null,null,"Objednané množstvá"]
[null,"Model","Cena","Cena pre nás",null,null,"MJ",3009,6020,7016,7024,7036,8004,8017,8019,9005,"Obrázok"]
[2130,"Anténne priechodky",41.8,{"$f":"C16*(1-$H$2/100)","v":41.8},null,null,"ks"]
[2100,"Priechodky pre solárne systémy",41.8,{"$f":"C17*(1-$H$2/100)","v":41.8},null,null,"ks"]
[null,"Podstavce pod hlavice a priechodky"]
[null,"podstavec je v cene ventilačnej hlavice alebo strešnej priechodky, ","vyberte si podstavec podľa typu vašej strechy",null,null,null,null,"Objednané množstvá"]
[null,"Model","Poznámka",null,null,null,"MJ",3009,6020,7016,7024,7036,8004,8017,8019,9005,"Obrázok"]
[null,"Podstavec PG","pre strešné krytiny zo šindľa alebo lepenky",null,null,null,"ks"]
[null,"Podstavec Profil PI","šindeľ, lepenka, ploché plechové strešné krytiny a škridoplechy",null,null,null,"ks"]
[null,"Podstavec Škridloplechy","ploché plechové strešné krytiny ( A, B, F, G, H, E, M, N, C, W, X, R )  vyber typ ->",null,null,null,"ks"]
[null,"Podstavec Profil T18","pre trapézové plechy s výškou 18 mm od väčšiny výrobcov",null,null,null,"ks"]
[null,"Podstavec Profil T35","pre trapézové plechy s výškou 35 mm od väčšiny výrobcov",null,null,null,"ks"]
[null,"Univerzálny podstavec U","pre akékoľvek škridloplechy a trapézové plechy s výškou vlny do 35 mm",null,null,null,"ks"]
[null,"Podstavec Betónové škridly","( A, B, C, D, J, E, I )  vyber typ ->",null,null,null,"ks"]
[null,"Podstavec Keramické škridly","( A, B, C, D, E, F, G, H, I, J, KK )  vyber typ ->",null,null,null,"ks"]
[null,"Hroty proti vtákom",null,null,null,null,null,"Objednané množstvá"]
[null,"Model","Cena","Cena pre nás","Dĺžka/výška","Balenie","MJ",1002,6020,7016,8004,8017,9003,9005,null,null,"Obrázok"]
[2456,"Hroty proti vtákom - typ 1",{"$f":"437.5/4.4718","v":97.835323583344518},{"$f":"C31*(1-$J$2/100)","v":97.835323583344518},"500/40 mm","50 ks","bal."]
[2463,"Hroty proti vtákom - typ 2",{"$f":"210/4.4718","v":46.960955320005368},46.960955320005368,"500/80 mm","30 ks","bal."]

{"sheet":"KRONOPLAST-ostatné","index":13,"n_rows":94,"n_cols":9,"rows_kept":94,"cut":false,"hidden":false,"merged":[[66,1,66,6],[72,8,75,8],[76,8,77,8],[78,8,79,8],[49,1,49,6],[54,8,55,8],[56,1,56,6],[22,1,22,6],[30,1,30,6],[38,1,38,6],[6,1,6,6],[8,8,11,8],[12,8,15,8],[16,8,19,8],[20,8,21,8]]}
[null,null,null,null,null,null,null,"Vaša zľava v %"]
[null,null,null,null,null,null,null,0]
[null,null,null,null,null,null,null,"Ceny sú uvádzané bez DPH."]
[]
[]
[]
[null,"Spojovacie rúry"]
["PLU","Model","Cena","Cena pre nás","Priemer","Dĺžka v cm","MJ","Objednané množstvá","Obrázok"]
[2221,"Pripojovacia rúra Kronoflex",{"$f":"65/4.4718","v":14.53553378952547},{"$f":"C9*(1-$H$2/100)","v":14.53553378952547},125,50,"ks"]
[null,"Pripojovacia rúra Kronoflex",{"$f":"95/4.4718","v":21.24424169238338},{"$f":"C10*(1-$H$2/100)","v":21.24424169238338},125,100,"ks"]
[2222,"Pripojovacia rúra Kronoflex",{"$f":"88/4.4718","v":19.678876515049868},19.678876515049868,150,50,"ks"]
[null,"Pripojovacia rúra Kronoflex",{"$f":"110/4.4718","v":24.598595643812335},24.598595643812335,150,100,"ks"]
[2230,"Pripojovacia rúra Kronoflex Plus",{"$f":"65/4.4718","v":14.53553378952547},14.53553378952547,125,50,"ks"]
[null,"Pripojovacia rúra Kronoflex Plus",{"$f":"95/4.4718","v":21.24424169238338},21.24424169238338,125,100,"ks"]
[null,"Pripojovacia rúra Kronoflex Plus",{"$f":"88/4.4718","v":19.678876515049868},19.678876515049868,150,50,"ks"]
[null,"Pripojovacia rúra Kronoflex Plus",{"$f":"110/4.4718","v":24.598595643812335},24.598595643812335,150,100,"ks"]
[2210,"Pripojovacia rúra Kronoflex Premium",{"$f":"72/4.4718","v":16.100898966858981},16.100898966858981,125,50,"ks"]
[null,"Pripojovacia rúra Kronoflex Premium",{"$f":"105/4.4718","v":23.480477660002684},23.480477660002684,125,100,"ks"]
[2220,"Pripojovacia rúra Kronoflex Premium",{"$f":"94/4.4718","v":21.020618095621451},21.020618095621451,150,50,"ks"]
[null,"Pripojovacia rúra Kronoflex Premium",{"$f":"120/4.4718","v":26.834831611431639},26.834831611431639,150,100,"ks"]
[null,"Rúra Kronoflex s priechodom na systémovú vetraciu tvárnicu",{"$f":"200/4.4718","v":44.724719352386067},44.724719352386067,null,50,"ks"]
[null,"Rúra Kronoflex s priechodom na systémovú vetraciu tvárnicu",{"$f":"230/4.4718","v":51.43342725524397},51.43342725524397,null,100,"ks"]
[null,"Redukcie"]
[null,"Model","Cena","Cena pre nás","Priemer",null,"MJ","Objednané množstvá","Obrázok"]
[2250,"R-1",{"$f":"13/4.4718","v":2.907106757905094},{"$f":"C25*(1-$H$2/100)","v":2.907106757905094},"150-110",null,"ks"]
[2251,"R-2",{"$f":"13/4.4718","v":2.907106757905094},{"$f":"C26*(1-$H$2/100)","v":2.907106757905094},"110-100",null,"ks"]
[2252,"R-3",{"$f":"13/4.4718","v":2.907106757905094},2.907106757905094,"110-100 redukcia pre ohnuté rúry",null,"ks"]
[2253,"R-4",{"$f":"13/4.4718","v":2.907106757905094},2.907106757905094,"125-110",null,"ks"]
[2254,"R-5",{"$f":"13/4.4718","v":2.907106757905094},2.907106757905094,"150-125",null,"ks"]
[2256,"Pyramída-1",{"$f":"25/4.4718","v":5.5905899190482584},5.5905899190482584,"125-110-110-75",null,"ks"]
[null,"Ventilačné hlavice FLATLINE REGULAR"]
[null,"Model","Cena","Cena pre nás","Rozmer",null,"MJ","Objednané množstvá","Obrázok"]
[null,"Flatline Regular nízky",{"$f":"110/4.4718","v":24.598595643812335},{"$f":"C33*(1-$H$2/100)","v":24.598595643812335},"120x170",null,"ks"]
[null,"Flatline Regular vysoký",{"$f":"110/4.4718","v":24.598595643812335},{"$f":"C34*(1-$H$2/100)","v":24.598595643812335},"120x170",null,"ks"]
[null,"Flatline Basic",{"$f":"110/4.4718","v":24.598595643812335},24.598595643812335,150,null,"ks"]
[null,"Flatline Regular",{"$f":"48/4.4718","v":10.733932644572656},10.733932644572656,"167x118",null,"ks"]
[null,"Ventilačný prívod kruh/kruh",{"$f":"48/4.4718","v":10.733932644572656},10.733932644572656,150,null,"ks"]
[null,"Ventilačný prívod kruh/štvorec",{"$f":"48/4.4718","v":10.733932644572656},10.733932644572656,"140x140",null,"ks"]
[null,"Ventilačné turbíny FLATLINE ROTO"]
[null,"Model","Cena","Cena pre nás","Priemer",null,"MJ","Objednané množstvá","Obrázok"]
[null,"Ventilačná turbína Flatline ROTO ",{"$f":"300/4.4718","v":67.087079028579097},{"$f":"C41*(1-$H$2/100)","v":67.087079028579097},200,"podlhovasté/guľaté","ks"]
[null,"Ventilačná turbína Flatline ROTO s podstavcom",{"$f":"350/4.4718","v":78.268258866675609},{"$f":"C42*(1-$H$2/100)","v":78.268258866675609},200,"podlhovasté/guľaté","ks"]
[null,"Ventilačná turbína Flatline ROTO s redukciou",{"$f":"350/4.4718","v":78.268258866675609},78.268258866675609,160,"podlhovasté/guľaté","ks"]
[null,"Podstavec PP",{"$f":"48/4.4718","v":10.733932644572656},10.733932644572656,200,null,"ks"]
[null,"Kryt typu \"kohút\" Flatline ROTO-S",{"$f":"235/4.4718","v":52.551545239053624},52.551545239053624,150,null,"ks"]
[null,"Kryt typu \"kohút\" Flatline ROTO-S s podstavcom",{"$f":"250/4.4718","v":55.905899190482579},55.905899190482579,150,null,"ks"]
[null,"Kryt typu \"kohút\" Flatline ROTO-S s redukciou na 125 mm",{"$f":"250/4.4718","v":55.905899190482579},55.905899190482579,125,null,"ks"]
[null,"Kryt typu \"kohút\" Flatline ROTO-S s redukciou na 110 mm",{"$f":"250/4.4718","v":55.905899190482579},55.905899190482579,110,null,"ks"]
[null,"Kryt typu \"kohút\" Flatline ROTO-S s manžetou",{"$f":"250/4.4718","v":55.905899190482579},55.905899190482579,150,null,"ks"]
[null,"Príslušenstvo"]
[null,"Model","Cena","Cena pre nás","Rozmer",null,"MJ","Objednané množstvá","Obrázok"]
[2200,"Priechod cez membránu",{"$f":"29/4.4718","v":6.4850843060959793},{"$f":"C52*(1-$H$2/100)","v":6.4850843060959793},null,null,"ks"]
[null,"Držiak hrebeňovej laty",{"$f":"4.5/4.4718","v":1.0063061854286863},{"$f":"C53*(1-$H$2/100)","v":1.0063061854286863},null,null,"ks"]
[null,"Medený drôt",{"$f":"290/4.4718","v":64.850843060959789},64.850843060959789,"150 bm",null,"ks"]
[null,"Spätný ventil",{"$f":"48/4.4718","v":10.733932644572656},10.733932644572656,125,null,"ks"]
[null,"Spätný ventil",{"$f":"48/4.4718","v":10.733932644572656},10.733932644572656,150,null,"ks"]
[null,"Kondenzátor"]
[null,"Model","Cena","Cena pre nás","Priemer",null,"MJ","Objednané množstvá","Obrázok"]
[2201,"Kondenzátor",{"$f":"115/4.4718","v":25.716713627621985},{"$f":"C59*(1-$H$2/100)","v":25.716713627621985},125,null,"ks"]
[2202,"Kondenzátor",{"$f":"140/4.4718","v":31.307303546670244},{"$f":"C60*(1-$H$2/100)","v":31.307303546670244},150,null,"ks"]
[2203,"Kondenzátor s ventilátorom",{"$f":"480/4.4718","v":107.33932644572656},107.33932644572656,125,null,"ks"]
[2204,"Kondenzátor s ventilátorom",{"$f":"520/4.4718","v":116.28427031620376},116.28427031620376,150,null,"ks"]
[2205,"Kondenzátor so spätným ventilom",{"$f":"163/4.4718","v":36.450646272194639},36.450646272194639,125,null,"ks"]
[2206,"Kondenzátor so spätným ventilom",{"$f":"188/4.4718","v":42.041236191242902},42.041236191242902,150,null,"ks"]
[2207,"Kondenzátor s ventilátorom a spätným ventilom",{"$f":"528/4.4718","v":118.0732590902992},118.0732590902992,125,null,"ks"]
[2208,"Kondenzátor s ventilátorom a spätným ventilom",{"$f":"568/4.4718","v":127.01820296077642},127.01820296077642,150,null,"ks"]
[null,"Dištančné podložky a vyrovnávacie kliny"]
[null,"Model","Cena","Cena pre nás","Rozmer","Balenie","MJ","Objednané množstvá","Obrázok"]
[null,"Klin 1",{"$f":"900/4.4718","v":201.26123708573729},{"$f":"C69*(1-$H$2/100)","v":201.26123708573729},"25x43x140 mm","500 ks","bal."]
[null,"Klin 2",{"$f":"1030/4.4718","v":230.33230466478824},{"$f":"C70*(1-$H$2/100)","v":230.33230466478824},"15x43x88 mm","1000 ks","bal."]
[null,"Klin 3",{"$f":"680/4.4718","v":152.06404579811263},152.06404579811263,"10x38x77 mm","1000 ks","bal."]
[null,"Klin 4",{"$f":"530/4.4718","v":118.52050628382307},118.52050628382307,"10x35x70 mm","1000 ks","bal."]
[null,"Klin - mix L",{"$f":"188.7/4.4718","v":42.197772708976245},42.197772708976245,"Klin 1 - 20 ks","140 ks","bal."]
[null,"Klin - mix L",{"$f":"188.7/4.4718","v":42.197772708976245},42.197772708976245,"Klin 2 - 40 ks","140 ks","bal."]
[null,"Klin - mix L",42.197772708976245,42.197772708976245,"Klin 3 - 40 ks","140 ks","bal."]
[null,"Klin - mix L",42.197772708976245,42.197772708976245,"Klin 4 - 40 ks","140 ks","bal."]
[null,"Klin - 1-2 mix L",{"$f":"164.3/4.4718","v":36.741356947985153},36.741356947985153,"Klin 1 - 30 ks","80 ks","bal."]
[null,"Klin - 1-2 mix L",{"$f":"164.3/4.4718","v":36.741356947985153},36.741356947985153,"Klin 2 - 50 ks","80 ks","bal."]
[null,"Klin - 3-4 mix L",{"$f":"202.7/4.4718","v":45.328503063643275},45.328503063643275,"Klin 3 - 100 ks","230 ks","bal."]
[null,"Klin - 3-4 mix L",{"$f":"202.7/4.4718","v":45.328503063643275},45.328503063643275,"Klin 4 - 130 ks","230 ks","bal."]
[null,"Klin 1 L",{"$f":"134.7/4.4718","v":30.122098483832012},30.122098483832012,null,"45 ks","bal."]
[null,"Klin 2 L",{"$f":"161.5/4.4718","v":36.115210877051744},36.115210877051744,null,"100 ks","bal."]
[null,"Klin 2 S",{"$f":"134.55/4.4718","v":30.088554944317728},30.088554944317728,null,"70 ks","bal."]
[null,"Klin 3 L",{"$f":"201.5/4.4718","v":45.060154747528962},45.060154747528962,null,"200 ks","bal."]
[null,"Klin 3 S",{"$f":"128.5/4.4718","v":28.735632183908045},28.735632183908045,null,"100 ks","bal."]
[null,"Klin 4 L",{"$f":"197.5/4.4718","v":44.16566036048124},44.16566036048124,null,"250 ks","bal."]
[null,"Klin 4 S",{"$f":"144.75/4.4718","v":32.369515631289417},32.369515631289417,null,"150 ks","bal."]
[2209,"Dištančné podložky 02",{"$f":"11/4.4718","v":2.4598595643812335},2.4598595643812335,"50x50x2 mm","50 ks","bal."]
[2211,"Dištančné podložky 03",{"$f":"11.5/4.4718","v":2.5716713627621988},2.5716713627621988,"50x50x3 mm","50 ks","bal."]
[null,"Dištančné podložky 04",{"$f":"12.88/4.4718","v":2.8802719262936627},2.8802719262936627,"50x50x4 mm","50 ks","bal."]
[2212,"Dištančné podložky 05",{"$f":"14.63/4.4718","v":3.271613220627041},3.271613220627041,"50x50x5 mm","50 ks","bal."]
[2213,"Dištančné podložky 08",{"$f":"20.75/4.4718","v":4.6401896328100545},4.6401896328100545,"50x50x8 mm","50 ks","bal."]
[null,"Dištančné podložky 10",{"$f":"24/4.4718","v":5.366966322286328},5.366966322286328,"50x50x10 mm","50 ks","bal."]
[null,"Dištančné podložky 15",{"$f":"30.63/4.4718","v":6.8495907688179258},6.8495907688179258,"50x50x15 mm","50 ks","bal."]

{"sheet":"BAUDER - asfaltové pásy","index":14,"n_rows":59,"n_cols":9,"rows_kept":59,"cut":false,"hidden":false,"merged":[[50,1,50,8],[55,1,55,8],[6,1,6,8],[28,1,28,8],[39,1,39,8]]}
[1.75,null,null,null,null,null,null,null,"Vaša zľava v %"]
[null,null,null,null,null,null,null,null,0]
[null,null,null,null,null,null,null,null,"Ceny sú uvádzané bez DPH."]
[]
[]
[]
[null,"Vrchné pásy"]
["PLU","Produkt","Cena","Cena po zľave","Kód","bal/pal","Rozmer","MJ","Objednané množstvá"]
[{"$f":"CONCATENATE(2,E9)","v":"217732000"},"PYE PV 200 S5 EN",{"$f":"_xlfn.XLOOKUP(E9,'[2]ASFALTOVÉ PÁSY '!$C$7:$C$78,'[2]ASFALTOVÉ PÁSY '!$G$7:$G$78,\"-\")*$A$1","v":9.4149999999999991},{"$f":"C9*(1-$I$2/100)","v":9.4149999999999991},17732000,"5/120","5,2 mm","m2"]
[{"$f":"CONCATENATE(2,E10)","v":"217652000"},"PYE PV 200 S4 EN natursch.",{"$f":"_xlfn.XLOOKUP(E10,'[2]ASFALTOVÉ PÁSY '!$C$7:$C$78,'[2]ASFALTOVÉ PÁSY '!$G$7:$G$78,\"-\")*$A$1","v":8.0499999999999989},{"$f":"C10*(1-$I$2/100)","v":8.0499999999999989},17652000,"7,5/150","4,2 mm","m2"]
[{"$f":"CONCATENATE(2,E11)","v":"219380000"},"Bauder FLEX WF 5",{"$f":"_xlfn.XLOOKUP(E11,'[2]ASFALTOVÉ PÁSY '!$C$7:$C$78,'[2]ASFALTOVÉ PÁSY '!$G$7:$G$78,\"-\")*$A$1","v":10.99},10.99,19380000,"5/120","5,2 mm","m2"]
["219370000","Bauder FLEX WF 4",{"$f":"_xlfn.XLOOKUP(E12,'[2]ASFALTOVÉ PÁSY '!$C$7:$C$78,'[2]ASFALTOVÉ PÁSY '!$G$7:$G$78,\"-\")*$A$1","v":9.17},9.17,19370000,"8/160","4 mm","m2"]
["219320000","Bauder EP 4 ard",{"$f":"_xlfn.XLOOKUP(E13,'[2]ASFALTOVÉ PÁSY '!$C$7:$C$78,'[2]ASFALTOVÉ PÁSY '!$G$7:$G$78,\"-\")*$A$1","v":7.3849999999999998},7.3849999999999998,19320000,"8/160","4 mm","m2"]
["219410000","Bauder EP 5 ard",{"$f":"_xlfn.XLOOKUP(E14,'[2]ASFALTOVÉ PÁSY '!$C$7:$C$78,'[2]ASFALTOVÉ PÁSY '!$G$7:$G$78,\"-\")*$A$1","v":9.24},9.24,19410000,"8/120","5 mm","m2"]
["219350000","Bauder EP 4 WF ard",{"$f":"_xlfn.XLOOKUP(E15,'[2]ASFALTOVÉ PÁSY '!$C$7:$C$78,'[2]ASFALTOVÉ PÁSY '!$G$7:$G$78,\"-\")*$A$1","v":7.8049999999999997},7.8049999999999997,19350000,"8/160","4 mm","m2"]
["217214000","Baukubit K5K grauschiefer",{"$f":"_xlfn.XLOOKUP(E16,'[2]ASFALTOVÉ PÁSY '!$C$7:$C$78,'[2]ASFALTOVÉ PÁSY '!$G$7:$G$78,\"-\")*$A$1","v":11.865},11.865,17214000,"5/120","5,2 mm","m2"]
["217183000","Baukubit K5K grafitschw.",{"$f":"_xlfn.XLOOKUP(E17,'[2]ASFALTOVÉ PÁSY '!$C$7:$C$78,'[2]ASFALTOVÉ PÁSY '!$G$7:$G$78,\"-\")*$A$1","v":12.424999999999999},12.424999999999999,17183000,"5/120","5,2 mm","m2"]
["217220000","Baukubit K5K rottsch.",{"$f":"_xlfn.XLOOKUP(E18,'[2]ASFALTOVÉ PÁSY '!$C$7:$C$78,'[2]ASFALTOVÉ PÁSY '!$G$7:$G$78,\"-\")*$A$1","v":11.865},11.865,17220000,"5/120","5,2 mm","m2"]
["217190000","Baukubit K5K herbstbraun",{"$f":"_xlfn.XLOOKUP(E19,'[2]ASFALTOVÉ PÁSY '!$C$7:$C$78,'[2]ASFALTOVÉ PÁSY '!$G$7:$G$78,\"-\")*$A$1","v":12.424999999999999},12.424999999999999,17190000,"5/120","5,2 mm","m2"]
["217170000","Bauder KARAT grunweisssch.",{"$f":"_xlfn.XLOOKUP(E20,'[2]ASFALTOVÉ PÁSY '!$C$7:$C$78,'[2]ASFALTOVÉ PÁSY '!$G$7:$G$78,\"-\")*$A$1","v":15.260000000000002},15.260000000000002,17170000,"5/120","5,2 mm","m2"]
["217163000","Bauder KARAT graphitschw.",{"$f":"_xlfn.XLOOKUP(E21,'[2]ASFALTOVÉ PÁSY '!$C$7:$C$78,'[2]ASFALTOVÉ PÁSY '!$G$7:$G$78,\"-\")*$A$1","v":15.224999999999998},15.224999999999998,17163000,"5/120","5,2 mm","m2"]
["217324000","Bauder PRO F grauschiefer",{"$f":"_xlfn.XLOOKUP(E22,'[2]ASFALTOVÉ PÁSY '!$C$7:$C$78,'[2]ASFALTOVÉ PÁSY '!$G$7:$G$78,\"-\")*$A$1","v":13.16},13.16,17324000,"5,5/132","5,2 mm","m2"]
["217330000","Bauder PRO F grunweisssch.",{"$f":"_xlfn.XLOOKUP(E23,'[2]ASFALTOVÉ PÁSY '!$C$7:$C$78,'[2]ASFALTOVÉ PÁSY '!$G$7:$G$78,\"-\")*$A$1","v":13.51},13.51,17330000,"5,5/132","5,2 mm","m2"]
["217150000","Bauder SMARAGD",{"$f":"_xlfn.XLOOKUP(E24,'[2]ASFALTOVÉ PÁSY '!$C$7:$C$78,'[2]ASFALTOVÉ PÁSY '!$G$7:$G$78,\"-\")*$A$1","v":15.89},15.89,17150000,"5/120","5,2 mm","m2"]
["217240000","Bauder PLANT E",{"$f":"_xlfn.XLOOKUP(E25,'[2]ASFALTOVÉ PÁSY '!$C$7:$C$78,'[2]ASFALTOVÉ PÁSY '!$G$7:$G$78,\"-\")*$A$1","v":12.494999999999999},12.494999999999999,17240000,"5/120","5,2 mm","m2"]
["216354000","BauderTHERM SL500, sivá bridl.",{"$f":"_xlfn.XLOOKUP(E26,'[2]ASFALTOVÉ PÁSY '!$C$7:$C$78,'[2]ASFALTOVÉ PÁSY '!$G$7:$G$78,\"-\")*$A$1","v":10.885},10.885,16354000,"5/120","5,2 mm","m2"]
["218400007","Bauder PP 4 ARD",{"$f":"_xlfn.XLOOKUP(E27,'[2]ASFALTOVÉ PÁSY '!$C$7:$C$78,'[2]ASFALTOVÉ PÁSY '!$G$7:$G$78,\"-\")*$A$1","v":7.0874999999999995},7.0874999999999995,18400007,"8/160","4 mm","m2"]
[{"$f":"CONCATENATE(2,E28)","v":"216184000"},"Bauder KSO SN sivá bridlica",{"$f":"_xlfn.XLOOKUP(E28,'[2]ASFALTOVÉ PÁSY '!$C$7:$C$78,'[2]ASFALTOVÉ PÁSY '!$G$7:$G$78,\"-\")*$A$1","v":10.255000000000001},10.255000000000001,16184000,"5/140","4 mm","m2"]
[null,"Spodné pásy"]
[null,"Produkt","Cena","Cena po zľave","Kód","bal/pal","Rozmer","MJ","Objednané množstvá"]
[{"$f":"CONCATENATE(2,E31)","v":"217540000"},"Bauder PYE PV 200 S4 mineral",{"$f":"_xlfn.XLOOKUP(E31,'[2]ASFALTOVÉ PÁSY '!$C$7:$C$78,'[2]ASFALTOVÉ PÁSY '!$G$7:$G$78,\"-\")*$A$1","v":8.0499999999999989},{"$f":"C31*(1-$I$2/100)","v":8.0499999999999989},17540000,"10/150","4 mm","m2"]
[{"$f":"CONCATENATE(2,E32)","v":"217450000"},"Bauder PYE G 200 S4",{"$f":"_xlfn.XLOOKUP(E32,'[2]ASFALTOVÉ PÁSY '!$C$7:$C$78,'[2]ASFALTOVÉ PÁSY '!$G$7:$G$78,\"-\")*$A$1","v":7.9099999999999993},{"$f":"C32*(1-$I$2/100)","v":7.9099999999999993},17450000,"5/150","4 mm","m2"]
["216060000","BauderTEC KSA DUO",{"$f":"_xlfn.XLOOKUP(E33,'[2]ASFALTOVÉ PÁSY '!$C$7:$C$78,'[2]ASFALTOVÉ PÁSY '!$G$7:$G$78,\"-\")*$A$1","v":8.5750000000000011},8.5750000000000011,16060000,"7,5/180","3 mm","m2"]
["215990000","BauderTEC KSA ",{"$f":"_xlfn.XLOOKUP(E34,'[2]ASFALTOVÉ PÁSY '!$C$7:$C$78,'[2]ASFALTOVÉ PÁSY '!$G$7:$G$78,\"-\")*$A$1","v":8.3650000000000002},8.3650000000000002,15990000,"10/200","3 mm","m2"]
["219310000","Bauder EP 4 flam",{"$f":"_xlfn.XLOOKUP(E35,'[2]ASFALTOVÉ PÁSY '!$C$7:$C$78,'[2]ASFALTOVÉ PÁSY '!$G$7:$G$78,\"-\")*$A$1","v":7.7349999999999994},7.7349999999999994,19310000,"8/160","4 mm","m2"]
["216250000","Bauder SPRINT DUO",{"$f":"_xlfn.XLOOKUP(E36,'[2]ASFALTOVÉ PÁSY '!$C$7:$C$78,'[2]ASFALTOVÉ PÁSY '!$G$7:$G$78,\"-\")*$A$1","v":7.1749999999999989},7.1749999999999989,16250000,"15/?","2 mm","m2"]
["216170000","BauderTEC ELWS DUO",{"$f":"_xlfn.XLOOKUP(E37,'[2]ASFALTOVÉ PÁSY '!$C$7:$C$78,'[2]ASFALTOVÉ PÁSY '!$G$7:$G$78,\"-\")*$A$1","v":9.2050000000000001},9.2050000000000001,16170000,"7,5/180","3 mm","m2"]
["216330000","BauderTHERM UL 50",{"$f":"_xlfn.XLOOKUP(E38,'[2]ASFALTOVÉ PÁSY '!$C$7:$C$78,'[2]ASFALTOVÉ PÁSY '!$G$7:$G$78,\"-\")*$A$1","v":10.325000000000001},10.325000000000001,16330000,"7,5/150","4,2 mm","m2"]
["218400005","Bauder PP 4 t",{"$f":"_xlfn.XLOOKUP(E39,'[2]ASFALTOVÉ PÁSY '!$C$7:$C$78,'[2]ASFALTOVÉ PÁSY '!$G$7:$G$78,\"-\")*$A$1","v":7.2449999999999992},7.2449999999999992,18400005,null,"4 mm"]
[null,"Parozábrana"]
[null,"Produkt","Cena","Cena po zľave","Kód","bal/pal","Rozmer","MJ","Objednané množstvá"]
[{"$f":"CONCATENATE(2,E42)","v":"216010000"},"BauderTEC KSD ",{"$f":"_xlfn.XLOOKUP(E42,'[2]ASFALTOVÉ PÁSY '!$C$7:$C$78,'[2]ASFALTOVÉ PÁSY '!$G$7:$G$78,\"-\")*$A$1","v":6.5100000000000007},{"$f":"C42*(1-$I$2/100)","v":6.5100000000000007},16010000,"15/360","1,5 mm","m2"]
["216280000","BauderTEC KSD minerál posyp",{"$f":"_xlfn.XLOOKUP(E43,'[2]ASFALTOVÉ PÁSY '!$C$7:$C$78,'[2]ASFALTOVÉ PÁSY '!$G$7:$G$78,\"-\")*$A$1","v":8.4874999999999989},{"$f":"C43*(1-$I$2/100)","v":8.4874999999999989},16280000,"10,8/","2,5 mm","m2"]
["216610000","BauderTHERM DS1 DUO",{"$f":"_xlfn.XLOOKUP(E44,'[2]ASFALTOVÉ PÁSY '!$C$7:$C$78,'[2]ASFALTOVÉ PÁSY '!$G$7:$G$78,\"-\")*$A$1","v":9.6950000000000003},9.6950000000000003,16610000,"8,1/162","4 mm","m2"]
["216300000","BauderTHERM DS2",{"$f":"_xlfn.XLOOKUP(E45,'[2]ASFALTOVÉ PÁSY '!$C$7:$C$78,'[2]ASFALTOVÉ PÁSY '!$G$7:$G$78,\"-\")*$A$1","v":8.61},8.61,16300000,"8,1/162","4 mm","m2"]
["213290000","Bauder Super AL-E",{"$f":"_xlfn.XLOOKUP(E46,'[2]ASFALTOVÉ PÁSY '!$C$7:$C$78,'[2]ASFALTOVÉ PÁSY '!$G$7:$G$78,\"-\")*$A$1","v":7.0349999999999993},7.0349999999999993,13290000,"7,5/180","3,5 mm","m2"]
["213330000","Bauder Super AL-E PLUS, 4 mm",{"$f":"_xlfn.XLOOKUP(E47,'[2]ASFALTOVÉ PÁSY '!$C$7:$C$78,'[2]ASFALTOVÉ PÁSY '!$G$7:$G$78,\"-\")*$A$1","v":8.33},8.33,13330000,"5/150","3,7 mm","m2"]
["215970000","BauderTEC DBR",{"$f":"_xlfn.XLOOKUP(E48,'[2]ASFALTOVÉ PÁSY '!$C$7:$C$78,'[2]ASFALTOVÉ PÁSY '!$G$7:$G$78,\"-\")*$A$1","v":5.46},5.46,15970000,"75/1500","0,4 mm","m2"]
["213270000","Bauder FLEX DNA",{"$f":"_xlfn.XLOOKUP(E49,'[2]ASFALTOVÉ PÁSY '!$C$7:$C$78,'[2]ASFALTOVÉ PÁSY '!$G$7:$G$78,\"-\")*$A$1","v":9.9749999999999996},9.9749999999999996,13270000,"5/150","4 mm","m2"]
["213280000","Bauder E-VA 35",{"$f":"_xlfn.XLOOKUP(E50,'[2]ASFALTOVÉ PÁSY '!$C$7:$C$78,'[2]ASFALTOVÉ PÁSY '!$G$7:$G$78,\"-\")*$A$1","v":6.5449999999999999},6.5449999999999999,13280000,"8/192",null,"m2"]
[null,"Oxid"]
[null,"Produkt","Cena","Cena po zľave","Kód","bal/pal","Rozmer","MJ","Objednané množstvá"]
[{"$f":"CONCATENATE(2,E53)","v":"214130000"},"Bauder V60  S35",{"$f":"_xlfn.XLOOKUP(E53,'[2]ASFALTOVÉ PÁSY '!$C$7:$C$78,'[2]ASFALTOVÉ PÁSY '!$G$7:$G$78,\"-\")*$A$1","v":3.9549999999999996},{"$f":"C53*(1-$I$2/100)","v":3.9549999999999996},14130000,"5/150",null,"m2"]
["213310000","Bauder VA 4",{"$f":"_xlfn.XLOOKUP(E54,'[2]ASFALTOVÉ PÁSY '!$C$7:$C$78,'[2]ASFALTOVÉ PÁSY '!$G$7:$G$78,\"-\")*$A$1","v":6.44},{"$f":"C54*(1-$I$2/100)","v":6.44},13310000,"5/150",null,"m2"]
["213140000","G 200 S4",{"$f":"_xlfn.XLOOKUP(E55,'[2]ASFALTOVÉ PÁSY '!$C$7:$C$78,'[2]ASFALTOVÉ PÁSY '!$G$7:$G$78,\"-\")*$A$1","v":6.7549999999999999},6.7549999999999999,13140000,"5/150",null,"m2"]
[null,"Iné"]
[null,"Produkt","Cena","Cena po zľave","Kód","bal","Rozmer","MJ","Objednané množstvá"]
[{"$f":"CONCATENATE(2,E58)","v":"275040015"},"Burkolit PLUS",{"$f":"_xlfn.XLOOKUP(E58,'[2]ASFALTOVÉ PÁSY '!$C$7:$C$78,'[2]ASFALTOVÉ PÁSY '!$G$7:$G$78,\"-\")*$A$1","v":120.92499999999998},{"$f":"C58*(1-$I$2/100)","v":120.92499999999998},75040015,"30 litrov/balenie",null,"bal."]
["275360000","Bauder Schaumkleber",{"$f":"_xlfn.XLOOKUP(E59,'[2]ASFALTOVÉ PÁSY '!$C$7:$C$78,'[2]ASFALTOVÉ PÁSY '!$G$7:$G$78,\"-\")*$A$1","v":11.795},{"$f":"C59*(1-$I$2/100)","v":11.795},75360000,"12 dóz/balenie",null,"ks"]

{"sheet":"BAUDER - PVC,TPO fólie","index":15,"n_rows":63,"n_cols":8,"rows_kept":63,"cut":false,"hidden":false,"merged":[[33,1,33,7],[6,1,6,7]]}
[1.75,null,null,null,null,null,null,"Vaša zľava v %"]
[null,null,null,null,null,null,null,0]
[null,null,null,null,null,null,null,"Ceny sú uvádzané bez DPH."]
[]
[]
[]
[null,"PVC fólie"]
["PLU","Produkt","Cena","Cena po zľave","Kód","MJ","Rozmer, balenie","Objednané množstvá"]
[{"$f":"CONCATENATE(2,E9)","v":"261150000"},"Thermofol U 15",{"$f":"_xlfn.XLOOKUP(E9,'[2]PVC TPO FÓLIE'!$C$7:$C$71,'[2]PVC TPO FÓLIE'!$D$7:$D$71,\"-\")*$A$1","v":9.3449999999999989},{"$f":"C9*(1-$H$2/100)","v":9.3449999999999989},61150000,"m2","(hr.:1,5mm; 30m2/bal.; 480m2/pal.) "]
[{"$f":"CONCATENATE(2,E10)","v":"261180000"},"Thermofol U 18",{"$f":"_xlfn.XLOOKUP(E10,'[2]PVC TPO FÓLIE'!$C$7:$C$71,'[2]PVC TPO FÓLIE'!$D$7:$D$71,\"-\")*$A$1","v":11.025},{"$f":"C10*(1-$H$2/100)","v":11.025},61180000,"m2","(hr.:1,8mm; 30m2/bal.; 480m2/pal.) "]
["261200000","Thermofol U 20",{"$f":"_xlfn.XLOOKUP(E11,'[2]PVC TPO FÓLIE'!$C$7:$C$71,'[2]PVC TPO FÓLIE'!$D$7:$D$71,\"-\")*$A$1","v":12.88},12.88,61200000,"m2","(hr.:2,0mm; 30m2/bal.; 360m2/pal.) "]
[null,"Thermofol U 15 antracit",{"$f":"_xlfn.XLOOKUP(E12,'[2]PVC TPO FÓLIE'!$C$7:$C$71,'[2]PVC TPO FÓLIE'!$D$7:$D$71,\"-\")*$A$1","v":10.115},10.115,61154000,"m2","(hr.:1,5mm; 30m2/bal.; 480m2/pal.) "]
[null,"Thermofol U 18 antracit",{"$f":"_xlfn.XLOOKUP(E13,'[2]PVC TPO FÓLIE'!$C$7:$C$71,'[2]PVC TPO FÓLIE'!$D$7:$D$71,\"-\")*$A$1","v":11.935},11.935,61184000,"m2","(hr.:1,8mm; 30m2/bal.; 480m2/pal.) "]
[null,"Thermofol U 20 antracit",{"$f":"_xlfn.XLOOKUP(E14,'[2]PVC TPO FÓLIE'!$C$7:$C$71,'[2]PVC TPO FÓLIE'!$D$7:$D$71,\"-\")*$A$1","v":13.825000000000001},13.825000000000001,61204000,"m2","(hr.:2,0mm; 30m2/bal.; 360m2/pal.) "]
["263150000","Thermofol M15",{"$f":"_xlfn.XLOOKUP(E15,'[2]PVC TPO FÓLIE'!$C$7:$C$71,'[2]PVC TPO FÓLIE'!$D$7:$D$71,\"-\")*$A$1","v":9.17},9.17,63150000,"m2","(hr.:1,5mm; 30m2/bal.; 480m2/pal.) "]
["263180000","Thermofol M18",{"$f":"_xlfn.XLOOKUP(E16,'[2]PVC TPO FÓLIE'!$C$7:$C$71,'[2]PVC TPO FÓLIE'!$D$7:$D$71,\"-\")*$A$1","v":10.85},10.85,63180000,"m2","(hr.:1,8mm; 30m2/bal.; 480m2/pal.) "]
["263200000","Thermofol M20",{"$f":"_xlfn.XLOOKUP(E17,'[2]PVC TPO FÓLIE'!$C$7:$C$71,'[2]PVC TPO FÓLIE'!$D$7:$D$71,\"-\")*$A$1","v":12.705},12.705,63200000,"m2","(hr.:2,0mm; 30m2/bal.; 360m2/pal.) "]
["262150000","Thermofol U 15 V",{"$f":"_xlfn.XLOOKUP(E18,'[2]PVC TPO FÓLIE'!$C$7:$C$71,'[2]PVC TPO FÓLIE'!$D$7:$D$71,\"-\")*$A$1","v":14.700000000000001},14.700000000000001,62150000,"m2"]
["261010150","Thermofol D18",{"$f":"_xlfn.XLOOKUP(E19,'[2]PVC TPO FÓLIE'!$C$7:$C$71,'[2]PVC TPO FÓLIE'!$D$7:$D$71,\"-\")*$A$1","v":15.295},15.295,61010150,"m2","(hr.: 1,8 mm; 15 m2/bal)"]
[null,"Thermofol D18 antracit",{"$f":"_xlfn.XLOOKUP(E20,'[2]PVC TPO FÓLIE'!$C$7:$C$71,'[2]PVC TPO FÓLIE'!$D$7:$D$71,\"-\")*$A$1","v":15.575000000000001},15.575000000000001,61014150,"m2","(hr.: 1,8 mm; 15 m2/bal)"]
["260100012","BauderPVC VBL 12 (PVC plech svetlosivý)",{"$f":"_xlfn.XLOOKUP(E21,'[2]PVC TPO FÓLIE'!$C$7:$C$71,'[2]PVC TPO FÓLIE'!$D$7:$D$71,\"-\")*$A$1","v":27.72},27.72,60100012,"m2","(tab.: 2m x1m, 60 m2/pal) 0,6 mm plech, 0,6 mm poplast."]
["260100019","BauderPVC VBL 14 (PVC plech antracit)",{"$f":"_xlfn.XLOOKUP(E22,'[2]PVC TPO FÓLIE'!$C$7:$C$71,'[2]PVC TPO FÓLIE'!$D$7:$D$71,\"-\")*$A$1","v":28.349999999999998},28.349999999999998,60100019,"m2","(tab.: 2m x1m, 60 m2/pal) 0,6 mm plech, 0,8 mm poplast."]
["260010000","BauderPVC IE (Vnútorný roh 90° svetlosivý)",{"$f":"_xlfn.XLOOKUP(E23,'[2]PVC TPO FÓLIE'!$C$7:$C$71,'[2]PVC TPO FÓLIE'!$D$7:$D$71,\"-\")*$A$1","v":2.0825},2.0825,60010000,"ks","bal. 25 ks"]
["260020000","BauderPVC AE (Vonkajší roh 90° svetlosivý)",{"$f":"_xlfn.XLOOKUP(E24,'[2]PVC TPO FÓLIE'!$C$7:$C$71,'[2]PVC TPO FÓLIE'!$D$7:$D$71,\"-\")*$A$1","v":2.31},2.31,60020000,"ks","bal. 25 ks"]
["260010001","BauderPVC UE (Univerzálny roh/vlnovec svetlosivý)",{"$f":"_xlfn.XLOOKUP(E25,'[2]PVC TPO FÓLIE'!$C$7:$C$71,'[2]PVC TPO FÓLIE'!$D$7:$D$71,\"-\")*$A$1","v":2.9224999999999999},2.9224999999999999,60010001,"ks","bal. 25 ks"]
[null,"BauderPVC IE (Vnútorný roh 90° antracit)",{"$f":"_xlfn.XLOOKUP(E26,'[2]PVC TPO FÓLIE'!$C$7:$C$71,'[2]PVC TPO FÓLIE'!$D$7:$D$71,\"-\")*$A$1","v":2.0825},2.0825,60014000,"ks","bal. 25 ks"]
[null,"BauderPVC AE (Vonkajší roh 90° antracit)",{"$f":"_xlfn.XLOOKUP(E27,'[2]PVC TPO FÓLIE'!$C$7:$C$71,'[2]PVC TPO FÓLIE'!$D$7:$D$71,\"-\")*$A$1","v":2.31},2.31,60024000,"ks","bal. 25 ks"]
[null,"BauderPVC UE (Univerzálny roh/vlnovec antracit(",{"$f":"_xlfn.XLOOKUP(E28,'[2]PVC TPO FÓLIE'!$C$7:$C$71,'[2]PVC TPO FÓLIE'!$D$7:$D$71,\"-\")*$A$1","v":2.9224999999999999},2.9224999999999999,60014001,"ks","bal. 25 ks"]
["260500005","BauderPVC RG - PVC čistič 5 litrov balenie",{"$f":"_xlfn.XLOOKUP(E29,'[2]PVC TPO FÓLIE'!$C$7:$C$71,'[2]PVC TPO FÓLIE'!$D$7:$D$71,\"-\")*$A$1","v":8.0150000000000006},8.0150000000000006,60500005,"l","5 liter/balenie"]
[null,"BauderPVC RG - PVC čistič 1 liter balenie (6 ks v kartóne)",{"$f":"_xlfn.XLOOKUP(E30,'[2]PVC TPO FÓLIE'!$C$7:$C$71,'[2]PVC TPO FÓLIE'!$D$7:$D$71,\"-\")*$A$1","v":15.049999999999999},15.049999999999999,60500001,"l","balenie: 6x1 liter"]
["260560001","BauderPVC NSM zálievka spojov 1 liter (6 ks v kartóne)",{"$f":"_xlfn.XLOOKUP(E31,'[2]PVC TPO FÓLIE'!$C$7:$C$71,'[2]PVC TPO FÓLIE'!$D$7:$D$71,\"-\")*$A$1","v":22.504999999999999},22.504999999999999,60560001,"l","1 liter/balenie"]
["269001310","BauderSYN SVL-WB 300",{"$f":"_xlfn.XLOOKUP(E32,'[2]PVC TPO FÓLIE'!$C$7:$C$71,'[2]PVC TPO FÓLIE'!$D$7:$D$71,\"-\")*$A$1","v":2.0299999999999998},2.0299999999999998,69001310,"m2"]
["260980000","BauderSYN GV 120",{"$f":"_xlfn.XLOOKUP(E33,'[2]PVC TPO FÓLIE'!$C$7:$C$71,'[2]PVC TPO FÓLIE'!$D$7:$D$71,\"-\")*$A$1","v":1.2249999999999999},1.2249999999999999,60980000,"m2"]
[null,"TPO/FPO fólie"]
[null,"Produkt","Cena","Cena po zľave","Kód","MJ","Rozmer, balenie","Objednané množstvá"]
[{"$f":"CONCATENATE(2,E36)","v":"267158200"},"Thermoplex P15 biela",{"$f":"_xlfn.XLOOKUP(E36,'[2]PVC TPO FÓLIE'!$C$7:$C$71,'[2]PVC TPO FÓLIE'!$D$7:$D$71,\"-\")*$A$1","v":10.115},{"$f":"C36*(1-$H$2/100)","v":10.115},67158200,"m2","(hr.:1,5mm; 40m2/bal.; 840 m2/pal.) "]
[null,"Thermoplex P18 biela",{"$f":"_xlfn.XLOOKUP(E37,'[2]PVC TPO FÓLIE'!$C$7:$C$71,'[2]PVC TPO FÓLIE'!$D$7:$D$71,\"-\")*$A$1","v":11.549999999999999},11.549999999999999,67188200,"m2","(hr.:1,8mm; 30m2/bal.; 630m2/pal.) "]
[null,"Thermoplex P20 biela",{"$f":"_xlfn.XLOOKUP(E38,'[2]PVC TPO FÓLIE'!$C$7:$C$71,'[2]PVC TPO FÓLIE'!$D$7:$D$71,\"-\")*$A$1","v":12.6},12.6,67208200,"m2","(hr.:2,0mm; 30m2/bal.; 630m2/pal.) "]
[{"$f":"CONCATENATE(2,E39)","v":"266150150"},"Thermoplan T 15 Perlovobiela",{"$f":"_xlfn.XLOOKUP(E39,'[2]PVC TPO FÓLIE'!$C$7:$C$71,'[2]PVC TPO FÓLIE'!$D$7:$D$71,\"-\")*$A$1","v":11.865},{"$f":"C39*(1-$H$2/100)","v":11.865},66150150,"m2","(hr.:1,5mm; 30m2/bal.; 480m2/pal.) "]
["266151150","Thermoplan T 15 šedá",{"$f":"_xlfn.XLOOKUP(E40,'[2]PVC TPO FÓLIE'!$C$7:$C$71,'[2]PVC TPO FÓLIE'!$D$7:$D$71,\"-\")*$A$1","v":11.865},11.865,66151150,"m2","(hr.:1,5mm; 30m2/bal.; 480m2/pal.) "]
["266180150","Thermoplan T 18 Perlovobiela",{"$f":"_xlfn.XLOOKUP(E41,'[2]PVC TPO FÓLIE'!$C$7:$C$71,'[2]PVC TPO FÓLIE'!$D$7:$D$71,\"-\")*$A$1","v":13.737499999999999},13.737499999999999,66180150,"m2","(hr.:1,8mm; 30m2/bal.; 480m2/pal.) "]
["266181150","Thermoplan T 18 šedá",{"$f":"_xlfn.XLOOKUP(E42,'[2]PVC TPO FÓLIE'!$C$7:$C$71,'[2]PVC TPO FÓLIE'!$D$7:$D$71,\"-\")*$A$1","v":13.737499999999999},13.737499999999999,66181150,"m2","(hr.:1,8mm; 30m2/bal.; 480m2/pal.) "]
["266200150","Thermoplan T 20 Perlovobiela",{"$f":"_xlfn.XLOOKUP(E43,'[2]PVC TPO FÓLIE'!$C$7:$C$71,'[2]PVC TPO FÓLIE'!$D$7:$D$71,\"-\")*$A$1","v":15.120000000000001},15.120000000000001,66200150,"m2","(hr.:2,0mm; 30m2/bal.; 420m2/pal.) "]
["266201150","Thermoplan T 20 šedá",{"$f":"_xlfn.XLOOKUP(E44,'[2]PVC TPO FÓLIE'!$C$7:$C$71,'[2]PVC TPO FÓLIE'!$D$7:$D$71,\"-\")*$A$1","v":15.120000000000001},15.120000000000001,66201150,"m2","(hr.:2,0mm; 30m2/bal.; 420m2/pal.) "]
["266010150","Thermplan T TL 18 Perlovobiela",{"$f":"_xlfn.XLOOKUP(E45,'[2]PVC TPO FÓLIE'!$C$7:$C$71,'[2]PVC TPO FÓLIE'!$D$7:$D$71,\"-\")*$A$1","v":14.105},14.105,66010150,"m2","(hr.: 1,8 mm; 15 m2/bal)"]
["266011150","Thermplan T TL 18 šedá",{"$f":"_xlfn.XLOOKUP(E46,'[2]PVC TPO FÓLIE'!$C$7:$C$71,'[2]PVC TPO FÓLIE'!$D$7:$D$71,\"-\")*$A$1","v":14.105},14.105,66011150,"m2","(hr.: 1,8 mm; 15 m2/bal)"]
[null,"Thermplan T TL 18 biela",{"$f":"_xlfn.XLOOKUP(E47,'[2]PVC TPO FÓLIE'!$C$7:$C$71,'[2]PVC TPO FÓLIE'!$D$7:$D$71,\"-\")*$A$1","v":14.105},14.105,66014150,"m2","(hr.: 1,8 mm; 15 m2/bal)"]
["268150150","Thermofin F 15 šedá",{"$f":"_xlfn.XLOOKUP(E48,'[2]PVC TPO FÓLIE'!$C$7:$C$71,'[2]PVC TPO FÓLIE'!$D$7:$D$71,\"-\")*$A$1","v":10.15},10.15,68150150,"m2","(hr.:1,5mm; 30m2/bal.; 480m2/pal.) "]
["268180150","Thermofin F 18 šedá",{"$f":"_xlfn.XLOOKUP(E49,'[2]PVC TPO FÓLIE'!$C$7:$C$71,'[2]PVC TPO FÓLIE'!$D$7:$D$71,\"-\")*$A$1","v":11.69},11.69,68180150,"m2","(hr.:1,8mm; 30m2/bal.; 480m2/pal.) "]
["268200150","Thermofin F 20 šedá",{"$f":"_xlfn.XLOOKUP(E50,'[2]PVC TPO FÓLIE'!$C$7:$C$71,'[2]PVC TPO FÓLIE'!$D$7:$D$71,\"-\")*$A$1","v":12.775},12.775,68200150,"m2","(hr.:2,0mm; 30m2/bal.; 420m2/pal.) "]
["265100016","BauderFPO VBL 14 biely (k Thermoplexu)",{"$f":"_xlfn.XLOOKUP(E51,'[2]PVC TPO FÓLIE'!$C$7:$C$71,'[2]PVC TPO FÓLIE'!$D$7:$D$71,\"-\")*$A$1","v":31.465},31.465,65100016,"m2","(tab.: 2m x1m, 60 m2/pal) 0,6 mm plech, 0,8 mm poplast."]
["265300014","BauderFPO VBL 14 striebornosivý",{"$f":"_xlfn.XLOOKUP(E52,'[2]PVC TPO FÓLIE'!$C$7:$C$71,'[2]PVC TPO FÓLIE'!$D$7:$D$71,\"-\")*$A$1","v":30.555},30.555,65300014,"m2","(tab.: 2m x1m, 60 m2/pal) 0,6 mm plech, 0,8 mm poplast."]
[null,"BauderFPO VBL 14 perlovobiela",{"$f":"_xlfn.XLOOKUP(E53,'[2]PVC TPO FÓLIE'!$C$7:$C$71,'[2]PVC TPO FÓLIE'!$D$7:$D$71,\"-\")*$A$1","v":30.555},30.555,65100014,"m2","(tab.: 2m x1m, 60 m2/pal) 0,6 mm plech, 0,8 mm poplast."]
["265010000","BauderFPO IE perlovobiely (vnútorný kút)",{"$f":"_xlfn.XLOOKUP(E54,'[2]PVC TPO FÓLIE'!$C$7:$C$71,'[2]PVC TPO FÓLIE'!$D$7:$D$71,\"-\")*$A$1","v":4.34},4.34,65010000,"ks","bal. 25 ks"]
["265010003","BauderFPO IE striebornosivý",{"$f":"_xlfn.XLOOKUP(E55,'[2]PVC TPO FÓLIE'!$C$7:$C$71,'[2]PVC TPO FÓLIE'!$D$7:$D$71,\"-\")*$A$1","v":4.34},4.34,65010003,"ks","bal. 25 ks"]
[null,"BauderFPO IE biely",{"$f":"_xlfn.XLOOKUP(E56,'[2]PVC TPO FÓLIE'!$C$7:$C$71,'[2]PVC TPO FÓLIE'!$D$7:$D$71,\"-\")*$A$1","v":5.1449999999999996},5.1449999999999996,65010005,"ks","bal. 25 ks"]
["265020000","BauderFPO AE perlovobiely (vonkajší roh)",{"$f":"_xlfn.XLOOKUP(E57,'[2]PVC TPO FÓLIE'!$C$7:$C$71,'[2]PVC TPO FÓLIE'!$D$7:$D$71,\"-\")*$A$1","v":5.0750000000000002},5.0750000000000002,65020000,"ks","bal. 25 ks"]
["265020003","BauderFPO AE striebornosivý",{"$f":"_xlfn.XLOOKUP(E58,'[2]PVC TPO FÓLIE'!$C$7:$C$71,'[2]PVC TPO FÓLIE'!$D$7:$D$71,\"-\")*$A$1","v":5.0750000000000002},5.0750000000000002,65020003,"ks","bal. 25 ks"]
["265020005","BauderFPO AE biely",{"$f":"_xlfn.XLOOKUP(E59,'[2]PVC TPO FÓLIE'!$C$7:$C$71,'[2]PVC TPO FÓLIE'!$D$7:$D$71,\"-\")*$A$1","v":5.2149999999999999},5.2149999999999999,65020005,"ks","bal. 25 ks"]
[null,"BauderFPO UE perlovobiely (univerzálny roh/vlnovec)",{"$f":"_xlfn.XLOOKUP(E60,'[2]PVC TPO FÓLIE'!$C$7:$C$71,'[2]PVC TPO FÓLIE'!$D$7:$D$71,\"-\")*$A$1","v":3.2550000000000003},3.2550000000000003,65021000,"ks","bal. 25 ks"]
["265021003","BauderFPO UE striebornosivý (univerzálny roh/vlnovec)",{"$f":"_xlfn.XLOOKUP(E61,'[2]PVC TPO FÓLIE'!$C$7:$C$71,'[2]PVC TPO FÓLIE'!$D$7:$D$71,\"-\")*$A$1","v":3.2550000000000003},3.2550000000000003,65021003,"ks","bal. 25 ks"]
["265500007","BauderFPO RG čistič",{"$f":"_xlfn.XLOOKUP(E62,'[2]PVC TPO FÓLIE'!$C$7:$C$71,'[2]PVC TPO FÓLIE'!$D$7:$D$71,\"-\")*$A$1","v":13.825000000000001},13.825000000000001,65500007,"l","5 litrové balenie"]
["265510000","BauderSYN RET-N čistiaca utierka",{"$f":"_xlfn.XLOOKUP(E63,'[2]PVC TPO FÓLIE'!$C$7:$C$71,'[2]PVC TPO FÓLIE'!$D$7:$D$71,\"-\")*$A$1","v":77.314999999999998},77.314999999999998,65510000,"bal.","450 ks v balení"]

{"sheet":"BAUDER - PIR","index":16,"n_rows":56,"n_cols":8,"rows_kept":56,"cut":false,"hidden":false,"merged":[[18,1,18,6],[38,1,38,6],[7,1,7,6]]}
[1.75,null,null,null,null,null,null,"Vaša zľava v %"]
[null,null,null,null,null,null,null,0]
[null,null,null,null,null,null,null,"Ceny sú uvádzané bez DPH."]
[]
[]
[]
[null,"Produkt","Cena","Cena po zľave","Kód","Balenie","MJ"]
["PLU","PIR FA",null,null,null,null,null,"Objednané množstvá"]
[{"$f":"CONCATENATE(2,E9)","v":"245190060"},"Bauder PIR FA 60",{"$f":"_xlfn.XLOOKUP(E9,'[2]PIR '!$A$8:$A$160,'[2]PIR '!$F$8:$F$160,\"-\")*$A$1","v":16.502499999999998},{"$f":"C9*(1-$H$2/100)","v":16.502499999999998},45190060,14.4,"m2"]
[{"$f":"CONCATENATE(2,E10)","v":"245190080"},"Bauder PIR FA 80",{"$f":"_xlfn.XLOOKUP(E10,'[2]PIR '!$A$8:$A$160,'[2]PIR '!$F$8:$F$160,\"-\")*$A$1","v":19.810000000000002},{"$f":"C10*(1-$H$2/100)","v":19.810000000000002},45190080,11.52,"m2"]
["245190100","Bauder PIR FA 100",{"$f":"_xlfn.XLOOKUP(E11,'[2]PIR '!$A$8:$A$160,'[2]PIR '!$F$8:$F$160,\"-\")*$A$1","v":23.45},23.45,45190100,8.64,"m2"]
["245190120","Bauder PIR FA 120",{"$f":"_xlfn.XLOOKUP(E12,'[2]PIR '!$A$8:$A$160,'[2]PIR '!$F$8:$F$160,\"-\")*$A$1","v":26.95},26.95,45190120,8.64,"m2"]
["245190140","Bauder PIR FA 140",{"$f":"_xlfn.XLOOKUP(E13,'[2]PIR '!$A$8:$A$160,'[2]PIR '!$F$8:$F$160,\"-\")*$A$1","v":30.974999999999998},30.974999999999998,45190140,8.64,"m2"]
["245190160","Bauder PIR FA 160",{"$f":"_xlfn.XLOOKUP(E14,'[2]PIR '!$A$8:$A$160,'[2]PIR '!$F$8:$F$160,\"-\")*$A$1","v":34.737500000000004},34.737500000000004,45190160,8.64,"m2"]
["245190180","Bauder PIR FA 180",{"$f":"_xlfn.XLOOKUP(E15,'[2]PIR '!$A$8:$A$160,'[2]PIR '!$F$8:$F$160,\"-\")*$A$1","v":39.375},39.375,45190180,5.76,"m2"]
["245190200","Bauder PIR FA 200",{"$f":"_xlfn.XLOOKUP(E16,'[2]PIR '!$A$8:$A$160,'[2]PIR '!$F$8:$F$160,\"-\")*$A$1","v":43.015000000000001},43.015000000000001,45190200,5.76,"m2"]
["245190220","Bauder PIR FA 220",{"$f":"_xlfn.XLOOKUP(E17,'[2]PIR '!$A$8:$A$160,'[2]PIR '!$F$8:$F$160,\"-\")*$A$1","v":46.847499999999997},46.847499999999997,45190220,5.76,"m2"]
["245190240","Bauder PIR FA 240",{"$f":"_xlfn.XLOOKUP(E18,'[2]PIR '!$A$8:$A$160,'[2]PIR '!$F$8:$F$160,\"-\")*$A$1","v":50.96},50.96,45190240,5.76,"m2"]
[null,"PIR M/MF",null,null,null,null,null,"Objednané množstvá"]
["248000020","Bauder PIR M 20",{"$f":"_xlfn.XLOOKUP(E20,'[2]PIR '!$A$8:$A$160,'[2]PIR '!$F$8:$F$160,\"-\")*$A$1","v":8.9774999999999991},{"$f":"C20*(1-$H$2/100)","v":8.9774999999999991},48000020,16.559999999999999,"m2"]
["248000030","Bauder PIR M 30",{"$f":"_xlfn.XLOOKUP(E21,'[2]PIR '!$A$8:$A$160,'[2]PIR '!$F$8:$F$160,\"-\")*$A$1","v":10.8675},{"$f":"C21*(1-$H$2/100)","v":10.8675},48000030,11.52,"m2"]
["248000040","Bauder PIR M 40",{"$f":"_xlfn.XLOOKUP(E22,'[2]PIR '!$A$8:$A$160,'[2]PIR '!$F$8:$F$160,\"-\")*$A$1","v":12.862499999999999},12.862499999999999,48000040,8.64,"m2"]
["248000050","Bauder PIR M 50",{"$f":"_xlfn.XLOOKUP(E23,'[2]PIR '!$A$8:$A$160,'[2]PIR '!$F$8:$F$160,\"-\")*$A$1","v":14.612499999999999},14.612499999999999,48000050,7.2,"m2"]
["248000060","Bauder PIR M 60",{"$f":"_xlfn.XLOOKUP(E24,'[2]PIR '!$A$8:$A$160,'[2]PIR '!$F$8:$F$160,\"-\")*$A$1","v":16.099999999999998},16.099999999999998,48000060,5.76,"m2"]
["248000080","Bauder PIR M 80",{"$f":"_xlfn.XLOOKUP(E25,'[2]PIR '!$A$8:$A$160,'[2]PIR '!$F$8:$F$160,\"-\")*$A$1","v":19.477500000000003},19.477500000000003,48000080,4.32,"m2"]
["248000100","Bauder PIR M 100",{"$f":"_xlfn.XLOOKUP(E26,'[2]PIR '!$A$8:$A$160,'[2]PIR '!$F$8:$F$160,\"-\")*$A$1","v":23.135000000000002},23.135000000000002,48000100,3.6,"m2"]
["248100040","Bauder PIR MF 40",{"$f":"_xlfn.XLOOKUP(E27,'[2]PIR '!$A$8:$A$160,'[2]PIR '!$F$8:$F$160,\"-\")*$A$1","v":12.8638125},12.8638125,48100040,8.64,"m2"]
["248100050","Bauder PIR MF 50",{"$f":"_xlfn.XLOOKUP(E28,'[2]PIR '!$A$8:$A$160,'[2]PIR '!$F$8:$F$160,\"-\")*$A$1","v":14.610749999999999},14.610749999999999,48100050,7.2,"m2"]
["248100060","Bauder PIR MF 60",{"$f":"_xlfn.XLOOKUP(E29,'[2]PIR '!$A$8:$A$160,'[2]PIR '!$F$8:$F$160,\"-\")*$A$1","v":16.093},16.093,48100060,5.76,"m2"]
["248100080","Bauder PIR MF 80",{"$f":"_xlfn.XLOOKUP(E30,'[2]PIR '!$A$8:$A$160,'[2]PIR '!$F$8:$F$160,\"-\")*$A$1","v":19.481000000000002},19.481000000000002,48100080,4.32,"m2"]
["248100100","Bauder PIR MF 100",{"$f":"_xlfn.XLOOKUP(E31,'[2]PIR '!$A$8:$A$160,'[2]PIR '!$F$8:$F$160,\"-\")*$A$1","v":23.133687500000001},23.133687500000001,48100100,3.6,"m2"]
["248100120","Bauder PIR MF 120",{"$f":"_xlfn.XLOOKUP(E32,'[2]PIR '!$A$8:$A$160,'[2]PIR '!$F$8:$F$160,\"-\")*$A$1","v":26.786375},26.786375,48100120,2.88,"m2"]
["248100140","Bauder PIR MF 140",{"$f":"_xlfn.XLOOKUP(E33,'[2]PIR '!$A$8:$A$160,'[2]PIR '!$F$8:$F$160,\"-\")*$A$1","v":30.9684375},30.9684375,48100140,2.16,"m2"]
["248100160","Bauder PIR MF 160",{"$f":"_xlfn.XLOOKUP(E34,'[2]PIR '!$A$8:$A$160,'[2]PIR '!$F$8:$F$160,\"-\")*$A$1","v":34.727000000000004},34.727000000000004,48100160,2.16,"m2"]
["248100180","Bauder PIR MF 180",{"$f":"_xlfn.XLOOKUP(E35,'[2]PIR '!$A$8:$A$160,'[2]PIR '!$F$8:$F$160,\"-\")*$A$1","v":39.332562499999995},39.332562499999995,48100180,2.16,"m2"]
["248100200","Bauder PIR MF 200",{"$f":"_xlfn.XLOOKUP(E36,'[2]PIR '!$A$8:$A$160,'[2]PIR '!$F$8:$F$160,\"-\")*$A$1","v":43.197000000000003},43.197000000000003,48100200,1.44,"m2"]
["248100220","Bauder PIR MF 220",{"$f":"_xlfn.XLOOKUP(E37,'[2]PIR '!$A$8:$A$160,'[2]PIR '!$F$8:$F$160,\"-\")*$A$1","v":47.061437500000004},47.061437500000004,48100220,1.44,"m2"]
["248100240","Bauder PIR MF 240",{"$f":"_xlfn.XLOOKUP(E38,'[2]PIR '!$A$8:$A$160,'[2]PIR '!$F$8:$F$160,\"-\")*$A$1","v":51.243500000000004},51.243500000000004,48100240,1.44,"m2"]
[null,"PIR FA TE/ FA TE F",null,null,null,null,null,"Objednané množstvá"]
["244104060","BauderPIR FA TE /BauderPIR FA TE F 60",{"$f":"_xlfn.XLOOKUP(E40,'[2]PIR '!$A$8:$A$160,'[2]PIR '!$F$8:$F$160,\"-\")*$A$1","v":16.667525000000001},{"$f":"C40*(1-$H$2/100)","v":16.667525000000001},44104060,5.76,"m2"]
["244104080","BauderPIR FA TE /BauderPIR FA TE F 80",{"$f":"_xlfn.XLOOKUP(E41,'[2]PIR '!$A$8:$A$160,'[2]PIR '!$F$8:$F$160,\"-\")*$A$1","v":20.008100000000002},{"$f":"C41*(1-$H$2/100)","v":20.008100000000002},44104080,4.32,"m2"]
["244104100","BauderPIR FA TE /BauderPIR FA TE F 100",{"$f":"_xlfn.XLOOKUP(E42,'[2]PIR '!$A$8:$A$160,'[2]PIR '!$F$8:$F$160,\"-\")*$A$1","v":23.6845},23.6845,44104100,3.6,"m2"]
["244104120","BauderPIR FA TE /BauderPIR FA TE F 120",{"$f":"_xlfn.XLOOKUP(E43,'[2]PIR '!$A$8:$A$160,'[2]PIR '!$F$8:$F$160,\"-\")*$A$1","v":27.37},27.37,44104120,2.88,"m2"]
["244104140","BauderPIR FA TE /BauderPIR FA TE F 140",{"$f":"_xlfn.XLOOKUP(E44,'[2]PIR '!$A$8:$A$160,'[2]PIR '!$F$8:$F$160,\"-\")*$A$1","v":31.535},31.535,44104140,2.16,"m2"]
["244104160","BauderPIR FA TE /BauderPIR FA TE F 160",{"$f":"_xlfn.XLOOKUP(E45,'[2]PIR '!$A$8:$A$160,'[2]PIR '!$F$8:$F$160,\"-\")*$A$1","v":35.384999999999998},35.384999999999998,44104160,2.16,"m2"]
["244004020","Bauder PIR FA TE 20",{"$f":"_xlfn.XLOOKUP(E46,'[2]PIR '!$A$8:$A$160,'[2]PIR '!$F$8:$F$160,\"-\")*$A$1","v":9.5816874999999992},9.5816874999999992,44004020,16.559999999999999,"m2"]
["244004030","Bauder PIR FA TE 30",{"$f":"_xlfn.XLOOKUP(E47,'[2]PIR '!$A$8:$A$160,'[2]PIR '!$F$8:$F$160,\"-\")*$A$1","v":11.4874375},11.4874375,44004030,11.52,"m2"]
["244004040","Bauder PIR FA TE 40",{"$f":"_xlfn.XLOOKUP(E48,'[2]PIR '!$A$8:$A$160,'[2]PIR '!$F$8:$F$160,\"-\")*$A$1","v":13.299999999999999},13.299999999999999,44004040,8.64,"m2"]
["244004050","Bauder PIR FA TE 50",{"$f":"_xlfn.XLOOKUP(E49,'[2]PIR '!$A$8:$A$160,'[2]PIR '!$F$8:$F$160,\"-\")*$A$1","v":15.049999999999999},15.049999999999999,44004050,7.2,"m2"]
["244004060","Bauder PIR FA TE 60",{"$f":"_xlfn.XLOOKUP(E50,'[2]PIR '!$A$8:$A$160,'[2]PIR '!$F$8:$F$160,\"-\")*$A$1","v":16.502499999999998},16.502499999999998,44004060,5.76,"m2"]
["244004070","Bauder PIR FA TE 70",{"$f":"_xlfn.XLOOKUP(E51,'[2]PIR '!$A$8:$A$160,'[2]PIR '!$F$8:$F$160,\"-\")*$A$1","v":18.462500000000002},18.462500000000002,44004070,5.04,"m2"]
["244004080","Bauder PIR FA TE 80",{"$f":"_xlfn.XLOOKUP(E52,'[2]PIR '!$A$8:$A$160,'[2]PIR '!$F$8:$F$160,\"-\")*$A$1","v":19.810000000000002},19.810000000000002,44004080,4.32,"m2"]
["244004100","Bauder PIR FA TE 100",{"$f":"_xlfn.XLOOKUP(E53,'[2]PIR '!$A$8:$A$160,'[2]PIR '!$F$8:$F$160,\"-\")*$A$1","v":23.45},23.45,44004100,3.6,"m2"]
["244004120","Bauder PIR FA TE 120",{"$f":"_xlfn.XLOOKUP(E54,'[2]PIR '!$A$8:$A$160,'[2]PIR '!$F$8:$F$160,\"-\")*$A$1","v":26.95},26.95,44004120,2.88,"m2"]
["244004140","Bauder PIR FA TE 140",{"$f":"_xlfn.XLOOKUP(E55,'[2]PIR '!$A$8:$A$160,'[2]PIR '!$F$8:$F$160,\"-\")*$A$1","v":30.974999999999998},30.974999999999998,44004140,2.16,"m2"]
["244004160","Bauder PIR FA TE 160",{"$f":"_xlfn.XLOOKUP(E56,'[2]PIR '!$A$8:$A$160,'[2]PIR '!$F$8:$F$160,\"-\")*$A$1","v":34.737500000000004},34.737500000000004,44004160,2.16,"m2"]

{"sheet":"BAUDER - PIR SD","index":17,"n_rows":70,"n_cols":8,"rows_kept":70,"cut":false,"hidden":false,"merged":[[42,1,42,6],[51,1,51,6],[7,1,7,6],[15,1,15,6],[25,1,25,6],[33,1,33,6],[35,1,35,6]]}
[1.75,null,null,null,null,null,null,"Vaša zľava v %"]
[null,null,null,null,null,null,null,0]
[null,null,null,null,null,null,null,"Ceny sú uvádzané bez DPH."]
[]
[]
[]
["PLU","Produkt","Cena","Cena po zľave","Kód","Rozmer/balenie","MJ"]
[null,"Bauder PIR PLUS",null,null,null,null,null,"Objednané množstvá"]
[{"$f":"CONCATENATE(2,E9)","v":"240380080"},"BauderPIR PLUS 80",{"$f":"_xlfn.XLOOKUP(E9,'[2]PIR SD'!$B$6:$B$56,'[2]PIR SD'!$G$6:$G$56,\"-\")*$A$1","v":31.360000000000003},{"$f":"C9*(1-$H$2/100)","v":31.360000000000003},"40380080","10,5 m2 v balení","m2"]
[{"$f":"CONCATENATE(2,E10)","v":"240380100"},"BauderPIR PLUS 100",{"$f":"_xlfn.XLOOKUP(E10,'[2]PIR SD'!$B$6:$B$56,'[2]PIR SD'!$G$6:$G$56,\"-\")*$A$1","v":35.49},{"$f":"C10*(1-$H$2/100)","v":35.49},"40380100","8,4 m2 v balení","m2"]
["240380120","BauderPIR PLUS 120",{"$f":"_xlfn.XLOOKUP(E11,'[2]PIR SD'!$B$6:$B$56,'[2]PIR SD'!$G$6:$G$56,\"-\")*$A$1","v":39.9},39.9,"40380120","8,4 m2 v balení","m2"]
["240380140","BauderPIR PLUS 140",{"$f":"_xlfn.XLOOKUP(E12,'[2]PIR SD'!$B$6:$B$56,'[2]PIR SD'!$G$6:$G$56,\"-\")*$A$1","v":44.344999999999999},44.344999999999999,"40380140","6,3 m2 v balení","m2"]
["240380160","BauderPIR PLUS 160",{"$f":"_xlfn.XLOOKUP(E13,'[2]PIR SD'!$B$6:$B$56,'[2]PIR SD'!$G$6:$G$56,\"-\")*$A$1","v":48.370000000000005},48.370000000000005,"40380160","6,3 m2 v balení","m2"]
["240380180","BauderPIR PLUS 180",{"$f":"_xlfn.XLOOKUP(E14,'[2]PIR SD'!$B$6:$B$56,'[2]PIR SD'!$G$6:$G$56,\"-\")*$A$1","v":53.427500000000002},53.427500000000002,"40380180","4,2 m2 v balení","m2"]
["240380200","BauderPIR PLUS 200",{"$f":"_xlfn.XLOOKUP(E15,'[2]PIR SD'!$B$6:$B$56,'[2]PIR SD'!$G$6:$G$56,\"-\")*$A$1","v":57.574999999999996},57.574999999999996,"40380200","4,2 m2 v balení","m2"]
[null,"Bauder PIR PSF",null,null,null,null,null,"Objednané množstvá"]
["240190080","BauderPIR SF 80",{"$f":"_xlfn.XLOOKUP(E17,'[2]PIR SD'!$B$6:$B$56,'[2]PIR SD'!$G$6:$G$56,\"-\")*$A$1","v":29.400000000000002},{"$f":"C17*(1-$H$2/100)","v":29.400000000000002},"40190080","10,5 m2 v balení","m2"]
["240190100","BauderPIR SF 100",{"$f":"_xlfn.XLOOKUP(E18,'[2]PIR SD'!$B$6:$B$56,'[2]PIR SD'!$G$6:$G$56,\"-\")*$A$1","v":33.495000000000005},{"$f":"C18*(1-$H$2/100)","v":33.495000000000005},"40190100","8,4 m2 v balení","m2"]
["240190120","BauderPIR SF 120",{"$f":"_xlfn.XLOOKUP(E19,'[2]PIR SD'!$B$6:$B$56,'[2]PIR SD'!$G$6:$G$56,\"-\")*$A$1","v":37.975000000000001},37.975000000000001,"40190120","8,4 m2 v balení","m2"]
["240190140","BauderPIR SF 140",{"$f":"_xlfn.XLOOKUP(E20,'[2]PIR SD'!$B$6:$B$56,'[2]PIR SD'!$G$6:$G$56,\"-\")*$A$1","v":42.175000000000004},42.175000000000004,"40190140","6,3 m2 v balení","m2"]
["240190160","BauderPIR SF 160",{"$f":"_xlfn.XLOOKUP(E21,'[2]PIR SD'!$B$6:$B$56,'[2]PIR SD'!$G$6:$G$56,\"-\")*$A$1","v":45.85},45.85,"40190160","6,3 m2 v balení","m2"]
["240190180","BauderPIR SF 180",{"$f":"_xlfn.XLOOKUP(E22,'[2]PIR SD'!$B$6:$B$56,'[2]PIR SD'!$G$6:$G$56,\"-\")*$A$1","v":51.274999999999999},51.274999999999999,"40190180","4,2 m2 v balení","m2"]
["240190200","BauderPIR SF 200",{"$f":"_xlfn.XLOOKUP(E23,'[2]PIR SD'!$B$6:$B$56,'[2]PIR SD'!$G$6:$G$56,\"-\")*$A$1","v":55.544999999999995},55.544999999999995,"40190200","4,2 m2 v balení","m2"]
["240190220","BauderPIR SF 220",{"$f":"_xlfn.XLOOKUP(E24,'[2]PIR SD'!$B$6:$B$56,'[2]PIR SD'!$G$6:$G$56,\"-\")*$A$1","v":60.550000000000004},60.550000000000004,"40190220","4,2 m2 v balení","m2"]
["240190240","BauderPIR SF 240",{"$f":"_xlfn.XLOOKUP(E25,'[2]PIR SD'!$B$6:$B$56,'[2]PIR SD'!$G$6:$G$56,\"-\")*$A$1","v":64.837499999999991},64.837499999999991,"40190240","4,2 m2 v balení","m2"]
[null,"Bauder PIR SDS",null,null,null,null,null,"Objednané množstvá"]
["240680080","BauderPIR SDS 080",{"$f":"_xlfn.XLOOKUP(E27,'[2]PIR SD'!$B$6:$B$56,'[2]PIR SD'!$G$6:$G$56,\"-\")*$A$1","v":30.887499999999996},{"$f":"C27*(1-$H$2/100)","v":30.887499999999996},"40680080","10,5 m2 v balení","m2"]
["240680100","BauderPIR SDS 100",{"$f":"_xlfn.XLOOKUP(E28,'[2]PIR SD'!$B$6:$B$56,'[2]PIR SD'!$G$6:$G$56,\"-\")*$A$1","v":34.965000000000003},{"$f":"C28*(1-$H$2/100)","v":34.965000000000003},"40680100","8,4 m2 v balení","m2"]
["240680120","BauderPIR SDS 120",{"$f":"_xlfn.XLOOKUP(E29,'[2]PIR SD'!$B$6:$B$56,'[2]PIR SD'!$G$6:$G$56,\"-\")*$A$1","v":39.375},39.375,"40680120","8,4 m2 v balení","m2"]
["240680140","BauderPIR SDS 140",{"$f":"_xlfn.XLOOKUP(E30,'[2]PIR SD'!$B$6:$B$56,'[2]PIR SD'!$G$6:$G$56,\"-\")*$A$1","v":43.645000000000003},43.645000000000003,"40680140","6,3 m2 v balení","m2"]
["240680160","BauderPIR SDS 160",{"$f":"_xlfn.XLOOKUP(E31,'[2]PIR SD'!$B$6:$B$56,'[2]PIR SD'!$G$6:$G$56,\"-\")*$A$1","v":47.652500000000003},47.652500000000003,"40680160","6,3 m2 v balení","m2"]
["240680180","BauderPIR SDS 180",{"$f":"_xlfn.XLOOKUP(E32,'[2]PIR SD'!$B$6:$B$56,'[2]PIR SD'!$G$6:$G$56,\"-\")*$A$1","v":52.64},52.64,"40680180","4,2 m2 v balení","m2"]
["240680200","BauderPIR SDS 200",{"$f":"_xlfn.XLOOKUP(E33,'[2]PIR SD'!$B$6:$B$56,'[2]PIR SD'!$G$6:$G$56,\"-\")*$A$1","v":56.717499999999994},56.717499999999994,"40680200","4,2 m2 v balení","m2"]
[null,"Bauder PIR AZS",null,null,null,null,null,"Objednané množstvá"]
["240290050","BauderPIR AZS 50",{"$f":"_xlfn.XLOOKUP(E35,'[2]PIR SD'!$B$6:$B$56,'[2]PIR SD'!$G$6:$G$56,\"-\")*$A$1","v":24.797499999999999},{"$f":"C35*(1-$H$2/100)","v":24.797499999999999},"40290050","18,9 m2 v balení","m2"]
[null,"Bauder PIR MDE*",null,null,null,null,null,"Objednané množstvá"]
["241190102","BauderPIR MDE 102",{"$f":"_xlfn.XLOOKUP(E37,'[2]PIR SD'!$B$6:$B$56,'[2]PIR SD'!$G$6:$G$56,\"-\")*$A$1","v":52.675000000000004},{"$f":"C37*(1-$H$2/100)","v":52.675000000000004},"41190102","2,1 m2 v balení","m2"]
["241190122","BauderPIR MDE 122",{"$f":"_xlfn.XLOOKUP(E38,'[2]PIR SD'!$B$6:$B$56,'[2]PIR SD'!$G$6:$G$56,\"-\")*$A$1","v":56.524999999999991},{"$f":"C38*(1-$H$2/100)","v":56.524999999999991},"41190122","2,1 m2 v balení","m2"]
["241190142","BauderPIR MDE 142",{"$f":"_xlfn.XLOOKUP(E39,'[2]PIR SD'!$B$6:$B$56,'[2]PIR SD'!$G$6:$G$56,\"-\")*$A$1","v":60.899999999999991},60.899999999999991,"41190142","2,1 m2 v balení","m2"]
["241190162","BauderPIR MDE 162",{"$f":"_xlfn.XLOOKUP(E40,'[2]PIR SD'!$B$6:$B$56,'[2]PIR SD'!$G$6:$G$56,\"-\")*$A$1","v":65.8},65.8,"41190162","2,1 m2 v balení","m2"]
["241190182","BauderPIR MDE 182",{"$f":"_xlfn.XLOOKUP(E41,'[2]PIR SD'!$B$6:$B$56,'[2]PIR SD'!$G$6:$G$56,\"-\")*$A$1","v":70.350000000000009},70.350000000000009,"41190182","2,1 m2 v balení","m2"]
["241190202","BauderPIR MDE 202",{"$f":"_xlfn.XLOOKUP(E42,'[2]PIR SD'!$B$6:$B$56,'[2]PIR SD'!$G$6:$G$56,\"-\")*$A$1","v":75.424999999999997},75.424999999999997,"41190202","2,1 m2 v balení","m2"]
[null,"Bauder ostatné",null,null,null,null,null,"Objednané množstvá"]
["216140000","Bauder pásky pod kontry",{"$f":"_xlfn.XLOOKUP(E44,'[2]PIR SD'!$J$3:$J$42,'[2]PIR SD'!$N$3:$N$42,\"-\")*$A$1","v":1.2249999999999999},{"$f":"C44*(1-$H$2/100)","v":1.2249999999999999},16140000,"15 m v balení","m"]
["212250001","Bauder TOP VENT NSK",{"$f":"_xlfn.XLOOKUP(E45,'[2]PIR SD'!$J$3:$J$42,'[2]PIR SD'!$N$3:$N$42,\"-\")*$A$1","v":9.9749999999999996},{"$f":"C45*(1-$H$2/100)","v":9.9749999999999996},12250001,"25 m2 v balení","m2"]
["278450000","Bauder VAP",{"$f":"_xlfn.XLOOKUP(E46,'[2]PIR SD'!$J$3:$J$42,'[2]PIR SD'!$N$3:$N$42,\"-\")*$A$1","v":6.37},6.37,78450000,"75 m2 v balení","m2"]
["217860000","BauderTOP TS 40 NSK",{"$f":"_xlfn.XLOOKUP(E47,'[2]PIR SD'!$J$3:$J$42,'[2]PIR SD'!$N$3:$N$42,\"-\")*$A$1","v":3.9200000000000004},3.9200000000000004,17860000,"40 m2 v balení","m2"]
["216040000","BauderTOP UDS 1,5",{"$f":"_xlfn.XLOOKUP(E48,'[2]PIR SD'!$J$3:$J$42,'[2]PIR SD'!$N$3:$N$42,\"-\")*$A$1","v":5.1099999999999994},5.1099999999999994,16040000,"20 m2 v balení","m2"]
["217900000","BauderTOP UDS 3",{"$f":"_xlfn.XLOOKUP(E49,'[2]PIR SD'!$J$3:$J$42,'[2]PIR SD'!$N$3:$N$42,\"-\")*$A$1","v":8.3650000000000002},8.3650000000000002,17900000,"10 m2 v balení","m2"]
["278570000","Bauder TEC SDK ",{"$f":"_xlfn.XLOOKUP(E50,'[2]PIR SD'!$J$3:$J$42,'[2]PIR SD'!$N$3:$N$42,\"-\")*$A$1","v":7.3500000000000005},7.3500000000000005,78570000,"30 cm/25m","m"]
["212210007","BauderTOP BuZi NSK",{"$f":"_xlfn.XLOOKUP(E51,'[2]PIR SD'!$J$3:$J$42,'[2]PIR SD'!$N$3:$N$42,\"-\")*$A$1","v":3.1325000000000003},3.1325000000000003,12210007,"64 m2 v balení","m2"]
[null,"Skrutky",null,null,null,null,null,"Objednané množstvá"]
["271800160","BauderPIR Systemschraube (bal. 50 ks)",{"$f":"_xlfn.XLOOKUP(E53,'[2]PIR SD'!$J$14:$J$39,'[2]PIR SD'!$O$14:$O$39,\"-\")*$A$1","v":49.524999999999999},{"$f":"C53*(1-$H$2/100)","v":49.524999999999999},"71800160","7,0 x 160","bal."]
["271800180","BauderPIR Systemschraube (bal. 50 ks)",{"$f":"_xlfn.XLOOKUP(E54,'[2]PIR SD'!$J$14:$J$39,'[2]PIR SD'!$O$14:$O$39,\"-\")*$A$1","v":62.125},{"$f":"C54*(1-$H$2/100)","v":62.125},71800180,"7,0 x 180","bal."]
["271800200","BauderPIR Systemschraube (bal. 50 ks)",{"$f":"_xlfn.XLOOKUP(E55,'[2]PIR SD'!$J$14:$J$39,'[2]PIR SD'!$O$14:$O$39,\"-\")*$A$1","v":67.55},67.55,"71800200","7,0 x 200","bal."]
["271800220","BauderPIR Systemschraube (bal. 50 ks)",{"$f":"_xlfn.XLOOKUP(E56,'[2]PIR SD'!$J$14:$J$39,'[2]PIR SD'!$O$14:$O$39,\"-\")*$A$1","v":72.625},72.625,"71800220","7,0 x 220","bal."]
["271800240","BauderPIR Systemschraube (bal. 50 ks)",{"$f":"_xlfn.XLOOKUP(E57,'[2]PIR SD'!$J$14:$J$39,'[2]PIR SD'!$O$14:$O$39,\"-\")*$A$1","v":79.419250260000013},79.419250260000013,"71800240","7,0 x 240","bal."]
["271800260","BauderPIR Systemschraube (bal. 50 ks)",{"$f":"_xlfn.XLOOKUP(E58,'[2]PIR SD'!$J$14:$J$39,'[2]PIR SD'!$O$14:$O$39,\"-\")*$A$1","v":80.472793799999991},80.472793799999991,"71800260","7,0 x 260","bal."]
["271800280","BauderPIR Systemschraube (bal. 50 ks)",{"$f":"_xlfn.XLOOKUP(E59,'[2]PIR SD'!$J$14:$J$39,'[2]PIR SD'!$O$14:$O$39,\"-\")*$A$1","v":82.198811940000013},82.198811940000013,"71800280","7,0 x 280","bal."]
["271800300","BauderPIR Systemschraube (bal. 50 ks)",{"$f":"_xlfn.XLOOKUP(E60,'[2]PIR SD'!$J$14:$J$39,'[2]PIR SD'!$O$14:$O$39,\"-\")*$A$1","v":100.17629957999999},100.17629957999999,"71800300","7,0 x 300","bal."]
["271800320","BauderPIR Systemschraube (bal. 50 ks)",{"$f":"_xlfn.XLOOKUP(E61,'[2]PIR SD'!$J$14:$J$39,'[2]PIR SD'!$O$14:$O$39,\"-\")*$A$1","v":105.30952236},105.30952236,"71800320","7,0 x 320","bal."]
["271800340","BauderPIR Systemschraube (bal. 50 ks)",{"$f":"_xlfn.XLOOKUP(E62,'[2]PIR SD'!$J$14:$J$39,'[2]PIR SD'!$O$14:$O$39,\"-\")*$A$1","v":109.2771225},109.2771225,"71800340","7,0 x 340","bal."]
["271800360","BauderPIR Systemschraube (bal. 50 ks)",{"$f":"_xlfn.XLOOKUP(E63,'[2]PIR SD'!$J$14:$J$39,'[2]PIR SD'!$O$14:$O$39,\"-\")*$A$1","v":113.62579158000001},113.62579158000001,"71800360","7,0 x 360","bal."]
["271800380","BauderPIR Systemschraube (bal. 50 ks)",{"$f":"_xlfn.XLOOKUP(E64,'[2]PIR SD'!$J$14:$J$39,'[2]PIR SD'!$O$14:$O$39,\"-\")*$A$1","v":119.70047879999998},119.70047879999998,"71800380","7,0 x 380","bal."]
["271800400","BauderPIR Systemschraube (bal. 50 ks)",{"$f":"_xlfn.XLOOKUP(E65,'[2]PIR SD'!$J$14:$J$39,'[2]PIR SD'!$O$14:$O$39,\"-\")*$A$1","v":125.08027560000002},125.08027560000002,"71800400","7,0 x 400","bal."]
["271800420","BauderPIR Systemschraube (bal. 50 ks)",{"$f":"IFERROR(_xlfn.XLOOKUP(E66,'[2]PIR SD'!$J$14:$J$39,'[2]PIR SD'!$O$14:$O$39,\"-\")*$A$1,\"-\")","v":"-"},{"$f":"IFERROR(C66*(1-$H$2/100),\"-\")","v":"-"},"71800420","7,0 x 420","bal."]
["271800440","BauderPIR Systemschraube (bal. 50 ks)",{"$f":"_xlfn.XLOOKUP(E67,'[2]PIR SD'!$J$14:$J$39,'[2]PIR SD'!$O$14:$O$39,\"-\")*$A$1","v":166.5495426},166.5495426,"71800440","7,0 x 440","bal."]
["271800460","BauderPIR Systemschraube (bal. 50 ks)",{"$f":"IFERROR(_xlfn.XLOOKUP(E68,'[2]PIR SD'!$J$14:$J$39,'[2]PIR SD'!$O$14:$O$39,\"-\")*$A$1,\"-\")","v":"-"},{"$f":"IFERROR(C68*(1-$H$2/100),\"-\")","v":"-"},"71800460","7,0 x 460","bal."]
["271800480","BauderPIR Systemschraube (bal. 50 ks)",{"$f":"_xlfn.XLOOKUP(E69,'[2]PIR SD'!$J$14:$J$39,'[2]PIR SD'!$O$14:$O$39,\"-\")*$A$1","v":201.20440032000002},201.20440032000002,"71800480","7,0 x 480","bal."]
["271800500","BauderPIR Systemschraube (bal. 50 ks)",{"$f":"_xlfn.XLOOKUP(E70,'[2]PIR SD'!$J$14:$J$39,'[2]PIR SD'!$O$14:$O$39,\"-\")*$A$1","v":203},203,"71800500","7,0 x 500","bal."]

{"sheet":"BAUDER - LES","index":18,"n_rows":13,"n_cols":8,"rows_kept":13,"cut":false,"hidden":false,"merged":[[7,1,7,4]]}
[1.75,null,null,null,null,null,null,"Vaša zľava v %"]
[null,null,null,null,null,null,null,0]
[null,null,null,null,null,null,null,"Ceny sú uvádzané bez DPH."]
[]
[]
[]
[null,"Produkt","Cena","Cena po zľave","MJ"]
["PLU","Bauder LES SET",null,null,null,"Objednané množstvá"]
[null,"PIR LES SET 1",{"$f":"_xlfn.XLOOKUP(B9,[2]LES!$B$3:$B$8,[2]LES!$C$3:$C$8,\"-\")*$A$1","v":28.699999999999996},{"$f":"C9*(1-$H$2/100)","v":28.699999999999996},"sada"]
[null,"PIR LES SET 2",{"$f":"_xlfn.XLOOKUP(B10,[2]LES!$B$3:$B$8,[2]LES!$C$3:$C$8,\"-\")*$A$1","v":64.75},{"$f":"C10*(1-$H$2/100)","v":64.75},"sada"]
[null,"PIR LES SET 3",{"$f":"_xlfn.XLOOKUP(B11,[2]LES!$B$3:$B$8,[2]LES!$C$3:$C$8,\"-\")*$A$1","v":105.52499999999999},105.52499999999999,"sada"]
[null,"PIR LES SET 4",{"$f":"_xlfn.XLOOKUP(B12,[2]LES!$B$3:$B$8,[2]LES!$C$3:$C$8,\"-\")*$A$1","v":140},140,"sada"]
[null,"PIR LES SET 5",{"$f":"_xlfn.XLOOKUP(B13,[2]LES!$B$3:$B$8,[2]LES!$C$3:$C$8,\"-\")*$A$1","v":176.75},176.75,"sada"]

{"sheet":"PLECHY","index":19,"n_rows":89,"n_cols":19,"rows_kept":89,"cut":false,"hidden":false,"merged":[[0,7,0,8],[1,7,1,8],[61,18,71,18],[48,18,49,18],[50,18,60,18],[6,7,6,17],[84,18,88,18],[80,18,83,18],[7,1,7,6],[47,1,47,6],[17,18,35,18],[40,18,42,18],[43,18,44,18],[45,18,46,18],[78,18,79,18],[8,18,16,18],[36,1,36,7],[72,1,72,7]]}
[1.75,null,null,null,null,null,null,"Vaša zľava v %"]
[null,null,null,null,null,null,null,0]
[null,null,null,null,null,null,null,"Ceny sú uvádzané bez DPH."]
[]
[]
[]
["PLU","Produkt","Cena","Cena po zľave","Hrúbka","Rozmer","MJ","Objednané množstvá",null,null,null,null,null,null,null,null,null,null,"Obrázok"]
[null,"Lakoplastované plechy a pozinkované plechy",null,null,null,null,null,3009,3011,7016,8004,8017,8019,9002,9005,9006,9007,9010]
["ffff268","Lakoplastovaný plech, d. 2000 mm, tabuľový  STANDARD",{"$f":"_xlfn.XLOOKUP(VALUE(REPLACE(A9,1,4,7016)),'[1]Worksheet 1'!$A$2:$A$18880,'[1]Worksheet 1'!$C$2:$C$18880)","v":24.5},{"$f":"C9*(1-$H$2/100)","v":24.5},"0,50 mm","š. 1250 mm","ks"]
["ffff269","Lakoplastovaný plech, d. 30000 mm, zvitkový  STANDARD",{"$f":"_xlfn.XLOOKUP(VALUE(REPLACE(A10,1,4,7016)),'[1]Worksheet 1'!$A$2:$A$18880,'[1]Worksheet 1'!$C$2:$C$18880)","v":367.5},367.5,"0,50 mm","š. 1250 mm","ks"]
["ffff270","Lakoplastovaný plech  STANDARD",{"$f":"_xlfn.XLOOKUP(VALUE(REPLACE(A11,1,4,7016)),'[1]Worksheet 1'!$A$2:$A$18880,'[1]Worksheet 1'!$C$2:$C$18880)","v":9.8000000000000007},9.8000000000000007,"0,50 mm","š. 1250 mm","m2"]
["2ffff268","Lakoplastovaný plech, d. 2000 mm, tabuľový  ELEGANZ",{"$f":"_xlfn.XLOOKUP(VALUE(REPLACE(A12,2,4,7016)),'[1]Worksheet 1'!$A$2:$A$18880,'[1]Worksheet 1'!$C$2:$C$18880)","v":26.75},26.75,"0,50 mm","š. 1250 mm","ks"]
["2ffff269","Lakoplastovaný plech, d. 30000 mm, zvitkový  ELEGANZ",{"$f":"_xlfn.XLOOKUP(VALUE(REPLACE(A13,2,4,7016)),'[1]Worksheet 1'!$A$2:$A$18880,'[1]Worksheet 1'!$C$2:$C$18880)","v":401.25},401.25,"0,50 mm","š. 1250 mm","ks"]
["ffff285","Lakoplastovaný plech  ELEGANZ",{"$f":"_xlfn.XLOOKUP(VALUE(REPLACE(A14,1,4,7016)),'[1]Worksheet 1'!$A$2:$A$18880,'[1]Worksheet 1'!$C$2:$C$18880)","v":10.7},10.7,"0,50 mm","š. 1250 mm","m2"]
["3ffff268","Lakoplastovaný plech, d. 2000 mm, tabuľový  STRONG",{"$f":"_xlfn.XLOOKUP(VALUE(REPLACE(A15,2,4,7016)),'[1]Worksheet 1'!$A$2:$A$18880,'[1]Worksheet 1'!$C$2:$C$18880)","v":30.5},30.5,"0,50 mm","š. 1250 mm","ks"]
["3ffff269","Lakoplastovaný plech, d. 30000 mm, zvitkový  STRONG",{"$f":"_xlfn.XLOOKUP(VALUE(REPLACE(A16,2,4,7016)),'[1]Worksheet 1'!$A$2:$A$18880,'[1]Worksheet 1'!$C$2:$C$18880)","v":457.5},457.5,"0,50 mm","š. 1250 mm","ks"]
["ffff275","Lakoplastovaný plech  STRONG",{"$f":"_xlfn.XLOOKUP(VALUE(REPLACE(A17,1,4,7016)),'[1]Worksheet 1'!$A$2:$A$18880,'[1]Worksheet 1'!$C$2:$C$18880)","v":12.2},12.2,"0,50 mm","š. 1250 mm","m2"]
[1001,"PZ plech tabuľový d. 2000 mm",{"$f":"_xlfn.XLOOKUP(A18,'[1]Worksheet 1'!$A$2:$A$18880,'[1]Worksheet 1'!$C$2:$C$18880)","v":18},18,"0,50 mm"," š. 1000 mm","ks"]
[1015,"PZ plech tabuľový d. 2000 mm",{"$f":"_xlfn.XLOOKUP(A19,'[1]Worksheet 1'!$A$2:$A$18880,'[1]Worksheet 1'!$C$2:$C$18880)","v":39.4},39.4,"0,80 mm"," š. 1000 mm","ks"]
[1020,"PZ plech tabuľový d. 2000 mm",{"$f":"_xlfn.XLOOKUP(A20,'[1]Worksheet 1'!$A$2:$A$18880,'[1]Worksheet 1'!$C$2:$C$18880)","v":51},51,"1,00 mm"," š. 1000 mm","ks"]
[1024,"PZ plech tabuľový d. 2000 mm",{"$f":"_xlfn.XLOOKUP(A21,'[1]Worksheet 1'!$A$2:$A$18880,'[1]Worksheet 1'!$C$2:$C$18880)","v":50},50,"1,50 mm"," š. 1000 mm","ks"]
[1002,"PZ plech tabuľový d. 2000 mm",{"$f":"_xlfn.XLOOKUP(A22,'[1]Worksheet 1'!$A$2:$A$18880,'[1]Worksheet 1'!$C$2:$C$18880)","v":22.5},22.5,"0,50 mm","š. 1250 mm","ks"]
[1016,"PZ plech tabuľový d. 2000 mm",{"$f":"_xlfn.XLOOKUP(A23,'[1]Worksheet 1'!$A$2:$A$18880,'[1]Worksheet 1'!$C$2:$C$18880)","v":49.25},49.25,"0,80 mm","š. 1250 mm","ks"]
[1021,"PZ plech tabuľový d. 2000 mm",{"$f":"_xlfn.XLOOKUP(A24,'[1]Worksheet 1'!$A$2:$A$18880,'[1]Worksheet 1'!$C$2:$C$18880)","v":63.75},63.75,"1,00 mm","š. 1250 mm","ks"]
[1030,"PZ plech zvitkový d. 30000 mm",{"$f":"_xlfn.XLOOKUP(A25,'[1]Worksheet 1'!$A$2:$A$18880,'[1]Worksheet 1'!$C$2:$C$18880)","v":270},270,"0,50 mm"," š. 1000 mm","ks"]
[1045,"PZ plech zvitkový d. 30000 mm",{"$f":"_xlfn.XLOOKUP(A26,'[1]Worksheet 1'!$A$2:$A$18880,'[1]Worksheet 1'!$C$2:$C$18880)","v":591},591,"0,80 mm"," š. 1000 mm","ks"]
[1050,"PZ plech zvitkový d. 30000 mm",{"$f":"_xlfn.XLOOKUP(A27,'[1]Worksheet 1'!$A$2:$A$18880,'[1]Worksheet 1'!$C$2:$C$18880)","v":765},765,"1,00 mm"," š. 1000 mm","ks"]
[1054,"PZ plech zvitkový d. 30000 mm",{"$f":"_xlfn.XLOOKUP(A28,'[1]Worksheet 1'!$A$2:$A$18880,'[1]Worksheet 1'!$C$2:$C$18880)","v":930},930,"1,50 mm"," š. 1000 mm","ks"]
[1031,"PZ plech zvitkový d. 30000 mm",{"$f":"_xlfn.XLOOKUP(A29,'[1]Worksheet 1'!$A$2:$A$18880,'[1]Worksheet 1'!$C$2:$C$18880)","v":337.5},337.5,"0,50 mm","š. 1250 mm","ks"]
[1046,"PZ plech zvitkový d. 30000 mm",{"$f":"_xlfn.XLOOKUP(A30,'[1]Worksheet 1'!$A$2:$A$18880,'[1]Worksheet 1'!$C$2:$C$18880)","v":738},738,"0,80 mm","š. 1250 mm","ks"]
[1051,"PZ plech zvitkový d. 30000 mm",{"$f":"_xlfn.XLOOKUP(A31,'[1]Worksheet 1'!$A$2:$A$18880,'[1]Worksheet 1'!$C$2:$C$18880)","v":956.25},956.25,"1,00 mm","š. 1250 mm","ks"]
[1055,"PZ plech zvitkový d. 30000 mm",{"$f":"_xlfn.XLOOKUP(A32,'[1]Worksheet 1'!$A$2:$A$18880,'[1]Worksheet 1'!$C$2:$C$18880)","v":1162.5},1162.5,"2,00 mm","š. 1250 mm","ks"]
[1093,"PZ plech hladký ",{"$f":"_xlfn.XLOOKUP(A33,'[1]Worksheet 1'!$A$2:$A$18880,'[1]Worksheet 1'!$C$2:$C$18880)","v":9},9,"0,50 mm"," š. 1000 mm","m2"]
[1098,"PZ plech hladký ",{"$f":"_xlfn.XLOOKUP(A34,'[1]Worksheet 1'!$A$2:$A$18880,'[1]Worksheet 1'!$C$2:$C$18880)","v":19.7},19.7,"0,80 mm"," š. 1000 mm","m2"]
[1100,"PZ plech hladký ",{"$f":"_xlfn.XLOOKUP(A35,'[1]Worksheet 1'!$A$2:$A$18880,'[1]Worksheet 1'!$C$2:$C$18880)","v":24},24,"1,00 mm"," š. 1000 mm","m2"]
[1101,"PZ plech hladký ",{"$f":"_xlfn.XLOOKUP(A36,'[1]Worksheet 1'!$A$2:$A$18880,'[1]Worksheet 1'!$C$2:$C$18880)","v":25},25,"1,50 mm"," š. 1000 mm","m2"]
[null,"Titanzinkové, medené, nerezové, hliníkové plechy"]
[1125,"Perforovaný PZ plech, 1000 mm x 2000 mm, tabuľový",null,{"$f":"C38*(1-$H$2/100)","v":0},"0,75 mm","Ø 5","m2"]
[null,"Medený plech, tabuľový, zvitkový",null,{"$f":"C39*(1-$H$2/100)","v":0},"0,55 mm","š. 670-1000 mm","m2"]
[null,"Nerezový plech morený 2B, tabuľový, zvitkový",null,0,"0,60 mm","š. 1000 mm","m2"]
[1339,"Titanzinkový plech VM ZNIC, 1000 mm, zvitkový - Natural",null,0,"0,60 mm","š. 670 mm","m2"]
[1340,"Titanzinkový plech VM ZNIC, 1000 mm, zvitkový - Natural",42,42,"0,65 mm","š. 670 mm","m2"]
[1342,"Titanzinkový plech VM ZNIC, 1000 mm, zvitkový - Natural",44,44,"0,70 mm","š. 670 mm","m2"]
[1360,"Titanzinkový plech VM ZNIC, 1000 mm, zvitkový - Quartz",56.5,56.5,"0,70 mm","š. 670 mm","m2"]
[1362,"Titanzinkový plech VM ZNIC, 1000 mm, zvitkový - Quartz",42,42,"1,00 mm","š. 400 mm","m2"]
[1350,"Titanzinkový plech VM ZNIC, 1000 mm, zvitkový - Anthra",58.5,58.5,"0,70 mm"," š. 670 mm","m2"]
[null,"Titanzinkový plech VM ZNIC, 1000 mm, zvitkový - Pigmento",79,79,"0,70 mm"," š. 670 mm","m2"]
[null,"Hliníkové plechy",null,null,null,null,null,7016,7036,8004,8016,8017,9006,9010]
["ffff290","Hliníkový plech tabuľový d. 2000 mm - farebný Al",{"$f":"_xlfn.XLOOKUP(VALUE(REPLACE(A49,1,4,8017)),'[1]Worksheet 1'!$A$2:$A$18880,'[1]Worksheet 1'!$C$2:$C$18880)","v":35.799999999999997},{"$f":"C49*(1-$H$2/100)","v":35.799999999999997},"0,60 mm","š. 1000 mm ","ks"]
["ffff292","Hliníkový plech tabuľový d. 2000 mm - farebný Al",{"$f":"_xlfn.XLOOKUP(VALUE(REPLACE(A50,1,4,8017)),'[1]Worksheet 1'!$A$2:$A$18880,'[1]Worksheet 1'!$C$2:$C$18880)","v":28.06},{"$f":"C50*(1-$H$2/100)","v":28.06},"0,80 mm","š. 1000 mm ","ks"]
["ffff286","Hliníkový plech PROFAL zvitkový - farebný Al",{"$f":"_xlfn.XLOOKUP(VALUE(REPLACE(A51,1,4,7016)),'[1]Worksheet 1'!$A$2:$A$18880,'[1]Worksheet 1'!$C$2:$C$18880)","v":17},17,"0,70 mm"," š. 600 mm","m"]
[200700,"Hliníkový plech PROFAL zvitkový - RAL 7016",{"$f":"_xlfn.XLOOKUP(A52,'[1]Worksheet 1'!$A$2:$A$18880,'[1]Worksheet 1'!$C$2:$C$18880)","v":15.1},15.1,"0,70 mm"," š. 600 mm","kg"]
[null,"Hliníkový plech PROFAL zvitkový - RAL 7016",28.5,{"$f":"C53*(1-$H$2/100)","v":28.5},"0,70 mm"," š. 600 mm","m2"]
[200701,"Hliníkový plech PROFAL zvitkový - RAL 7036",{"$f":"_xlfn.XLOOKUP(A54,'[1]Worksheet 1'!$A$2:$A$18880,'[1]Worksheet 1'!$C$2:$C$18880)","v":15.1},15.1,"0,70 mm"," š. 600 mm","kg"]
[null,"Hliníkový plech PROFAL zvitkový - RAL 7036",28.5,28.5,"0,70 mm"," š. 600 mm","m2"]
[200702,"Hliníkový plech PROFAL zvitkový - RAL 8004",{"$f":"_xlfn.XLOOKUP(A56,'[1]Worksheet 1'!$A$2:$A$18880,'[1]Worksheet 1'!$C$2:$C$18880)","v":15.1},15.1,"0,70 mm"," š. 600 mm","kg"]
[null,"Hliníkový plech PROFAL zvitkový - RAL 8004",28.5,28.5,"0,70 mm"," š. 600 mm","m2"]
[200703,"Hliníkový plech PROFAL zvitkový - RAL 8016",{"$f":"_xlfn.XLOOKUP(A58,'[1]Worksheet 1'!$A$2:$A$18880,'[1]Worksheet 1'!$C$2:$C$18880)","v":15.1},15.1,"0,70 mm"," š. 600 mm","kg"]
[null,"Hliníkový plech PROFAL zvitkový - RAL 8016",28.5,28.5,"0,70 mm"," š. 600 mm","m2"]
[200704,"Hliníkový plech PROFAL zvitkový - RAL 9006",{"$f":"_xlfn.XLOOKUP(A60,'[1]Worksheet 1'!$A$2:$A$18880,'[1]Worksheet 1'!$C$2:$C$18880)","v":15.1},15.1,"0,70 mm"," š. 600 mm","kg"]
[null,"Hliníkový plech PROFAL zvitkový - RAL 9006",28.5,28.5,"0,70 mm"," š. 600 mm","m2"]
[1200,"Hliníkový plech tabuľový, d. 2000 mm prírodný Al",{"$f":"_xlfn.XLOOKUP(A62,'[1]Worksheet 1'!$A$2:$A$18880,'[1]Worksheet 1'!$C$2:$C$18880)","v":32.4},32.4,"0,60 mm","š. 1000 mm","ks"]
[1205,"Hliníkový plech tabuľový, d. 2000 mm prírodný Al",{"$f":"_xlfn.XLOOKUP(A63,'[1]Worksheet 1'!$A$2:$A$18880,'[1]Worksheet 1'!$C$2:$C$18880)","v":47.6},47.6,"0,80 mm","š. 1000 mm","ks"]
[1210,"Hliníkový plech tabuľový, d. 2000 mm prírodný Al",{"$f":"_xlfn.XLOOKUP(A64,'[1]Worksheet 1'!$A$2:$A$18880,'[1]Worksheet 1'!$C$2:$C$18880)","v":59.4},59.4,"1,00 mm","š. 1000 mm","ks"]
[1215,"Hliníkový plech tabuľový, d. 2000 mm prírodný Al",{"$f":"_xlfn.XLOOKUP(A65,'[1]Worksheet 1'!$A$2:$A$18880,'[1]Worksheet 1'!$C$2:$C$18880)","v":120},120,"1,50 mm","š. 1000 mm","ks"]
[1267,"Hliníkový plech tabuľový, d. 2000 mm prírodný Al",{"$f":"_xlfn.XLOOKUP(A66,'[1]Worksheet 1'!$A$2:$A$18880,'[1]Worksheet 1'!$C$2:$C$18880)","v":75},75,"2,00 mm","š. 1000 mm","ks"]
[1198,"Hliníkový plech zvitkový, d. 30000 mm prírodný Al",{"$f":"_xlfn.XLOOKUP(A67,'[1]Worksheet 1'!$A$2:$A$18880,'[1]Worksheet 1'!$C$2:$C$18880)","v":413.4},413.4,"0,60 mm","š. 1000 mm","ks"]
[1227,"Hliníkový plech zvitkový, d. 30000 mm prírodný Al",{"$f":"_xlfn.XLOOKUP(A68,'[1]Worksheet 1'!$A$2:$A$18880,'[1]Worksheet 1'!$C$2:$C$18880)","v":714},714,"0,80 mm","š. 1000 mm","ks"]
[1229,"Hliníkový plech zvitkový, d. 30000 mm prírodný Al",{"$f":"_xlfn.XLOOKUP(A69,'[1]Worksheet 1'!$A$2:$A$18880,'[1]Worksheet 1'!$C$2:$C$18880)","v":891},891,"1,00 mm","š. 1000 mm","ks"]
[1208,"Hliníkový plech zvitkový, d. 30000 mm prírodný Al",{"$f":"_xlfn.XLOOKUP(A70,'[1]Worksheet 1'!$A$2:$A$18880,'[1]Worksheet 1'!$C$2:$C$18880)","v":607.5},607.5,"0,60 mm","š. 1250 mm","ks"]
[1228,"Hliníkový plech zvitkový, d. 30000 mm prírodný Al",{"$f":"_xlfn.XLOOKUP(A71,'[1]Worksheet 1'!$A$2:$A$18880,'[1]Worksheet 1'!$C$2:$C$18880)","v":688.5},688.5,"0,80 mm","š. 1250 mm","ks"]
[1234,"Hliníkový plech zvitkový, d. 30000 mm prírodný Al",{"$f":"_xlfn.XLOOKUP(A72,'[1]Worksheet 1'!$A$2:$A$18880,'[1]Worksheet 1'!$C$2:$C$18880)","v":861},861,"1,00 mm","š. 1250 mm","ks"]
[null,"Poplastované plechy"]
[260100012,"PVC Poplastovaný plech FB12 BAUDER, tabuľový, svetlosivý",{"$f":"_xlfn.XLOOKUP(VALUE(RIGHT(A74,8)),'[2]PVC_TPO PLECHY'!$G$5:$G$25,'[2]PVC_TPO PLECHY'!$I$5:$I$25,\"-\",0)*$A$1","v":27.72},{"$f":"C74*(1-$H$2/100)","v":27.72},"1,2 mm/ poplastovanie 0,60 mm","2 m x 1 m","m2",null,null,null,null,null,null,null,null,null,null,null,{"$error":"#VALUE!"}]
[260110014,"PVC Poplastovaný plech FB12 BAUDER zvitok, svetlosivý",{"$f":"_xlfn.XLOOKUP(VALUE(RIGHT(A75,8)),'[2]PVC_TPO PLECHY'!$G$5:$G$25,'[2]PVC_TPO PLECHY'!$I$5:$I$25,\"-\",0)*$A$1","v":26.984999999999999},26.984999999999999,"1,2 mm/ poplastovanie 0,60 mm","150 m2","m2"]
[260100019,"PVC Poplastovaný plech FB14 BAUDER, tabuľový, antracit",{"$f":"_xlfn.XLOOKUP(VALUE(RIGHT(A76,8)),'[2]PVC_TPO PLECHY'!$G$5:$G$25,'[2]PVC_TPO PLECHY'!$I$5:$I$25,\"-\",0)*$A$1","v":28.349999999999998},28.349999999999998,"1,4 mm/ poplastovanie 0,80 mm","2 m x 1 m","m2",null,null,null,null,null,null,null,null,null,null,null,{"$error":"#VALUE!"}]
[260110020,"PVC Poplastovaný plech FB14 BAUDER, zvitok, antracit",{"$f":"_xlfn.XLOOKUP(VALUE(RIGHT(A77,8)),'[2]PVC_TPO PLECHY'!$G$5:$G$25,'[2]PVC_TPO PLECHY'!$I$5:$I$25,\"-\",0)*$A$1","v":27.86},27.86,"1,4 mm/ poplastovanie 0,80 mm","150 m2","m2"]
[260130015,"PVC Poplastovaný plech FB14 BAUDER, tabuľový, tehlovočervený",{"$f":"_xlfn.XLOOKUP(VALUE(RIGHT(A78,8)),'[2]PVC_TPO PLECHY'!$G$5:$G$25,'[2]PVC_TPO PLECHY'!$I$5:$I$25,\"-\",0)*$A$1","v":32.479999999999997},32.479999999999997,"1,4 mm/ poplastovanie 0,80 mm","2 m x 1 m","m2",null,null,null,null,null,null,null,null,null,null,null,{"$error":"#VALUE!"}]
[260110012,"PVC Poplastovaný plech FB14 BAUDER, zvitok, svetlosivý",{"$f":"_xlfn.XLOOKUP(VALUE(RIGHT(A79,8)),'[2]PVC_TPO PLECHY'!$G$5:$G$25,'[2]PVC_TPO PLECHY'!$I$5:$I$25,\"-\",0)*$A$1","v":27.754999999999999},27.754999999999999,"1,2 mm/ poplastovanie 0,60 mm","30 m2","m2"]
[260110019,"PVC Poplastovaný plech FB14 BAUDER, zvitok, antracit",{"$f":"_xlfn.XLOOKUP(VALUE(RIGHT(A80,8)),'[2]PVC_TPO PLECHY'!$G$5:$G$25,'[2]PVC_TPO PLECHY'!$I$5:$I$25,\"-\",0)*$A$1","v":28.612500000000004},28.612500000000004,"1,4 mm/ poplastovanie 0,80 mm","30 m2","m2"]
[265100014,"TPO Poplastovaný plech FB14 BAUDER, tabuľový, perlovobiely (maslový)",{"$f":"_xlfn.XLOOKUP(VALUE(RIGHT(A81,8)),'[2]PVC_TPO PLECHY'!$G$5:$G$25,'[2]PVC_TPO PLECHY'!$I$5:$I$25,\"-\",0)*$A$1","v":30.555},30.555,"1,4 mm/ poplastovanie 0,80 mm","2 m x 1 m","m2"]
[265300014,"TPO Poplastovaný plech FB14 BAUDER, tabuľový, striebornosivý",{"$f":"_xlfn.XLOOKUP(VALUE(RIGHT(A82,8)),'[2]PVC_TPO PLECHY'!$G$5:$G$25,'[2]PVC_TPO PLECHY'!$I$5:$I$25,\"-\",0)*$A$1","v":30.555},30.555,"1,4 mm/ poplastovanie 0,80 mm","2 m x 1 m","m2"]
[265100019,"TPO Poplastovaný plech FB14 BAUDER, tabuľový, granitovo čierny (antracit)",{"$f":"_xlfn.XLOOKUP(VALUE(RIGHT(A83,8)),'[2]PVC_TPO PLECHY'!$G$5:$G$25,'[2]PVC_TPO PLECHY'!$I$5:$I$25,\"-\",0)*$A$1","v":33.022500000000001},33.022500000000001,"1,4 mm/ poplastovanie 0,80 mm","2 m x 1 m","m2"]
[265100016,"TPO Poplastovaný plech FB14 BAUDER, biely",{"$f":"_xlfn.XLOOKUP(VALUE(RIGHT(A84,8)),'[2]PVC_TPO PLECHY'!$G$5:$G$25,'[2]PVC_TPO PLECHY'!$I$5:$I$25,\"-\",0)*$A$1","v":31.080000000000002},31.080000000000002,"1,4 mm/ poplastovanie 0,80 mm","2 m x 1 m","m2"]
[265110016,"TPO Poplastovaný plech FB14 BAUDER, zvitok, perlovobiely (maslový)",{"$f":"_xlfn.XLOOKUP(VALUE(RIGHT(A85,8)),'[2]PVC_TPO PLECHY'!$G$5:$G$25,'[2]PVC_TPO PLECHY'!$I$5:$I$25,\"-\",0)*$A$1","v":29.925000000000004},29.925000000000004,"1,4 mm/ poplastovanie 0,80 mm","150 m2","m2"]
[265110023,"TPO Poplastovaný plech FB14 BAUDER, zvitok, biely",{"$f":"_xlfn.XLOOKUP(VALUE(RIGHT(A86,8)),'[2]PVC_TPO PLECHY'!$G$5:$G$25,'[2]PVC_TPO PLECHY'!$I$5:$I$25,\"-\",0)*$A$1","v":31.849999999999998},31.849999999999998,"1,4 mm/ poplastovanie 0,80 mm","150 m2","m2"]
[265310016,"TPO Poplastovaný plech FB14 BAUDER, zvitok, striebornosivý",{"$f":"_xlfn.XLOOKUP(VALUE(RIGHT(A87,8)),'[2]PVC_TPO PLECHY'!$G$5:$G$25,'[2]PVC_TPO PLECHY'!$I$5:$I$25,\"-\",0)*$A$1","v":29.925000000000004},29.925000000000004,"1,4 mm/ poplastovanie 0,80 mm","150 m2","m2"]
[265110014,"TPO Poplastovaný plech FB14 BAUDER, zvitok, perlovobiely (maslový)",{"$f":"_xlfn.XLOOKUP(VALUE(RIGHT(A88,8)),'[2]PVC_TPO PLECHY'!$G$5:$G$25,'[2]PVC_TPO PLECHY'!$I$5:$I$25,\"-\",0)*$A$1","v":30.66},30.66,"1,4 mm/ poplastovanie 0,80 mm","30 m2","m2"]
[265310014,"TPO Poplastovaný plech FB14 BAUDER, zvitok, striebornosivý",{"$f":"_xlfn.XLOOKUP(VALUE(RIGHT(A89,8)),'[2]PVC_TPO PLECHY'!$G$5:$G$25,'[2]PVC_TPO PLECHY'!$I$5:$I$25,\"-\",0)*$A$1","v":30.66},30.66,"1,4 mm/ poplastovanie 0,80 mm","30 m2","m2"]

{"sheet":"STREŠNÉ KRYTINY","index":20,"n_rows":42,"n_cols":10,"rows_kept":42,"cut":false,"hidden":false,"merged":[[39,9,41,9],[8,9,20,9],[7,1,7,9],[27,1,27,9],[28,9,31,9],[38,1,38,9]]}
[1.75,null,null,null,null,null,null,"Vaša zľava v %"]
[null,null,null,null,null,null,null,0]
[null,null,null,null,null,null,null,"Ceny sú uvádzané bez DPH za m2 krycej plochy krytiny."]
[]
[]
[]
["PLU","Model","Cena s fóliou","Cena po zľave","Hrúbka (mm)","R.š. (mm)","K.š. (mm)","MJ","Objednané množstvá","Obrázok"]
[null,"Strešná krytina SCHLEBACH"]
[null,"STANDARD (mat. LPL)",12.2,{"$f":"IFERROR(C9*(1-$H$2/100),\"-\")","v":12.2},"0,5 mm",625,550,"m2"]
[null,"ELEGANZ (mat. LPL)",12.6,12.6,"0,5 mm",625,550,"m2"]
[null,"STRONG (mat. LPL)",14.5,14.5,"0,5 mm",625,550,"m2"]
[null,"POZINK",12.1,12.1,"0,5 mm",500,430,"m2"]
[null,"POZINK",12,12,"0,5 mm",625,550,"m2"]
[null,"meď ","dopyt","-",0.55000000000000004,500,430,"m2"]
[null,"meď ","dopyt","-",0.55000000000000004,670,600,"m2"]
[null,"RAL (mat. Al profal)","dopyt","-",0.7,600,530,"m2"]
[null,"Natural (mat. TZ)","dopyt","-",0.65,500,430,"m2"]
[null,"Natural (mat. TZ)","dopyt","-",0.65,670,600,"m2"]
[null,"Natural (mat. TZ)","dopyt","-",0.7,670,600,"m2"]
[null,"Anthra (mat. TZ)","dopyt","-",0.7,670,600,"m2"]
[null,"Quartz (mat. TZ)","dopyt","-",0.7,670,600,"m2"]
[null,"Ponúkame variantu Schlebach Plus - vyprofilovanie jedného alebo dvoch prelisov pozdĺž pásov."]
[]
[]
[]
[]
[]
[null,"Strešná krytina CLIP PANEL"]
[null,"POZINK (mat. PZ)",12.2,{"$f":"C29*(1-$H$2/100)","v":12.2},0.5,625,510,"m2"]
[null,"STANDARD (mat. LPL)",12.6,{"$f":"C30*(1-$H$2/100)","v":12.6},0.5,625,510,"m2"]
[null,"ELEGANZ (mat. LPL)",13,13,0.5,625,510,"m2"]
[null,"STRONG (mat. LPL)",15.5,15.5,0.5,625,510,"m2"]
[null,"Ponúkame variantu Clip panel Plus - vyprofilovanie jedného alebo dvoch prelisov pozdĺž pásov."]
[]
[]
[]
[]
[]
[null,"Strešná krytina LAMINKA"]
[null,"STANDARD (mat. LPL)",14.5,{"$f":"C40*(1-$H$2/100)","v":14.5},0.5,1200,1080,"m2"]
[null,"ELEGANZ (mat. LPL)",14.8,{"$f":"C41*(1-$H$2/100)","v":14.8},0.5,1200,1080,"m2"]
[null,"STRONG (mat. LPL)",17.5,17.5,0.5,1200,1080,"m2"]

{"sheet":"DOPLNKY KU KRYTINÁM","index":21,"n_rows":118,"n_cols":9,"rows_kept":118,"cut":false,"hidden":false,"merged":[[69,7,71,7],[72,7,74,7],[75,7,77,7],[78,7,80,7],[69,8,71,8],[72,8,74,8],[75,8,77,8],[78,8,80,8],[60,4,62,4],[63,4,65,4],[66,4,68,4],[57,8,59,8],[60,7,62,7],[63,7,65,7],[66,7,68,7],[60,8,62,8],[63,8,65,8],[66,8,68,8],[53,1,53,8],[54,7,56,7],[54,8,56,8],[57,7,59,7],[44,7,46,7],[44,8,46,8],[47,7,49,7],[47,8,49,8],[50,7,52,7],[50,8,52,8],[54,4,56,4],[57,4,59,4],[50,4,52,4],[35,7,37,7],[35,8,37,8],[38,7,40,7],[38,8,40,8],[41,7,43,7],[41,8,43,8],[26,7,28,7],[26,8,28,8],[29,7,31,7],[29,8,31,8],[32,7,34,7],[32,8,34,8],[17,7,19,7],[17,8,19,8],[20,7,22,7],[20,8,22,8],[23,7,25,7],[23,8,25,8],[8,8,10,8],[11,7,13,7],[11,8,13,8],[14,7,16,7],[14,8,16,8],[8,7,10,7],[81,1,81,7],[84,1,84,7],[32,4,34,4],[7,1,7,6],[8,4,10,4],[11,4,13,4],[14,4,16,4],[17,4,19,4],[20,4,22,4],[23,4,25,4],[26,4,28,4],[29,4,31,4],[35,4,37,4],[38,4,40,4],[44,4,46,4],[47,4,49,4],[94,1,94,7],[95,7,97,7],[99,7,100,7],[102,7,103,7],[85,7,93,7],[110,7,111,7],[112,7,113,7],[116,7,117,7],[107,1,107,7],[104,1,104,7]]}
[1.75,null,null,null,null,null,null,"Vaša zľava v %"]
[null,null,null,null,null,null,null,0]
[null,null,null,null,null,null,null,"Ceny sú uvádzané bez DPH za m2 krycej plochy krytiny."]
[]
[]
[]
["PLU","Produkt","Cena ","Cena po zľave","Rozmer","MJ","Objednané množstvá","Obrázok","Nákres"]
[null,"Oplechovania k strešným krytinám CLIP PANEL a SCHLEBACH"]
[null,"Odkvapové lemovanie - STANDARD",4.5999999999999996,{"$f":"IFERROR(C9*(1-$H$2/100),\"-\")","v":4.5999999999999996},"r.š. 313 mm","m "]
[null,"Odkvapové lemovanie - ELEGANZ",4.8,4.8,null,"m "]
[null,"Odkvapové lemovanie - STRONG",5.0999999999999996,5.0999999999999996,null,"m "]
[null,"Upevňovací obrysový plech - STANDARD",2.8,2.8,"r.š. 100 mm","m"]
[null,"Upevňovací obrysový plech - ELEGANZ",2.9,2.9,null,"m"]
[null,"Upevňovací obrysový plech - STRONG",3,3,null,"m"]
[null,"Spojovací plech - STANDARD",3.1,3.1,"r.š. 150 mm","m"]
[null,"Spojovací plech - ELEGANZ",3.2,3.2,null,"m"]
[null,"Spojovací plech - STRONG",3.35,3.35,null,"m"]
[null,"Pultové lemovanie - STANDARD",6.5,6.5,"r.š. 500 mm","m"]
[null,"Pultové lemovanie - ELEGANZ",6.6,6.6,null,"m"]
[null,"Pultové lemovanie - STRONG",7,7,null,"m"]
[null,"Napojenie plechu na múr vrchné - STANDARD",5.9,5.9,"r.š. 350 mm","m"]
[null,"Napojenie plechu na múr vrchné - ELEGANZ",6,6,null,"m"]
[null,"Napojenie plechu na múr vrchné - STRONG",6.5,6.5,null,"m"]
[null,"Napojenie plechu na múr bočné - STANDARD",5.3,5.3,"r.š. 300 mm","m"]
[null,"Napojenie plechu na múr bočné - ELEGANZ",5.4,5.4,null,"m"]
[null,"Napojenie plechu na múr bočné - STRONG",5.8,5.8,null,"m"]
[null,"Štítové lemovanie - STANDARD",6,6,"r.š. 400 mm","m"]
[null,"Štítové lemovanie - ELEGANZ",6.1,6.1,null,"m"]
[null,"Štítové lemovanie - STRONG",6.3,6.3,null,"m"]
[null,"Hrebenáč - STANDARD",6.45,6.45,"r.š. 416 mm","m"]
[null,"Hrebenáč - ELEGANZ",6.55,6.55,null,"m"]
[null,"Hrebenáč - STRONG",6.8,6.8,null,"m"]
[null,"Úžľabie - STANDARD",7.8,7.8,"r.š. 625 mm","m"]
[null,"Úžľabie - ELEGANZ",7.9,7.9,null,"m"]
[null,"Úžľabie - STRONG",8.3000000000000007,8.3000000000000007,null,"m"]
[null,"Podkladový pás - STANDARD",3.2,3.2,"r.š. 200 mm","m"]
[null,"Podkladový pás - ELEGANZ",3.4,3.4,null,"m"]
[null,"Podkladový pás - STRONG",3.7,3.7,null,"m"]
[null,"Podkladový pás - STANDARD",3.7,3.7,"r.š. 250 mm","m"]
[null,"Podkladový pás - ELEGANZ",3.9,3.9,null,"m"]
[null,"Podkladový pás - STRONG",4.2,4.2,null,"m"]
[null,"Vetrací profil - STANDARD",4,4,null,"m"]
[null,"Vetrací profil - ELEGANZ",4.2,4.2,null,"m"]
[null,"Vetrací profil - STRONG",4.4000000000000004,4.4000000000000004,null,"m"]
[null,"Vetrací profil CLIP PANEL - STANDARD",2,2,"dĺ. 500 mm","ks"]
[null,"Vetrací profil CLIP PANEL - ELEGANZ",2.1,2.1,null,"ks"]
[null,"Vetrací profil CLIP PANEL - STRONG",2.2000000000000002,2.2000000000000002,null,"ks"]
[null,"Vetrací profil SCHLEBACH - STANDARD",2,2,"dĺ. 540 mm","ks"]
[null,"Vetrací profil SCHLEBACH - ELEGANZ",2.1,2.1,null,"ks"]
[null,"Vetrací profil SCHLEBACH - STRONG",2.2000000000000002,2.2000000000000002,null,"ks"]
[null,"Vetrací profil - STANDARD",12,12,"dĺ. 3000 mm","ks"]
[null,"Vetrací profil - ELEGANZ",12.6,12.6,null,"ks"]
[null,"Vetrací profil - STRONG",13.2,13.2,null,"ks"]
[null,"Oplechovania k strešnej krytine LAMINKA"]
[null,"Odkvapové lemovanie - STANDARD",7,{"$f":"IFERROR(C55*(1-$H$2/100),\"-\")","v":7},"r.š. 208 mm /dĺ. 2 m","ks"]
[null,"Odkvapové lemovanie - ELEGANZ",7.4,7.4,null,"ks"]
[null,"Odkvapové lemovanie - STRONG",8,8,null,"ks"]
[null,"Záveterná lišta štítová - STANDARD",11.5,11.5,"r.š. 310 mm /dĺ. 2 m","ks"]
[null,"Záveterná lišta štítová - ELEGANZ",12,12,null,"ks"]
[null,"Záveterná lišta štítová - STRONG",13,13,null,"ks"]
[null,"Úžľabie - STANDARD",15.6,15.6,"r.š. 625 mm /dĺ. 2 m","ks"]
[null,"Úžľabie - ELEGANZ",15.8,15.8,null,"ks"]
[null,"Úžľabie - STRONG",16.600000000000001,16.600000000000001,null,"ks"]
[null,"Bočné lemovanie - STANDARD",11.5,11.5,"r.š. 310 mm /dĺ. 2 m","ks"]
[null,"Bočné lemovanie - ELEGANZ",12,12,null,"ks"]
[null,"Bočné lemovanie - STRONG",13,13,null,"ks"]
[null,"Pultové lemovanie - STANDARD",10.199999999999999,10.199999999999999,"r.š. 310 mm /dĺ. 2 m","ks"]
[null,"Pultové lemovanie - ELEGANZ",10.4,10.4,null,"ks"]
[null,"Pultové lemovanie - STRONG",11,11,null,"ks"]
[null,"Hrebenáč oblý - STANDARD",16,16,null,"ks"]
[null,"Hrebenáč oblý - ELEGANZ",16.2,16.2,null,"ks"]
[null,"Hrebenáč oblý - STRONG",17,17,null,"ks"]
[null,"Čelo hrebenáča - štít - STANDARD",4.5999999999999996,4.5999999999999996,null,"ks"]
[null,"Čelo hrebenáča - štít - ELEGANZ",4.8,4.8,null,"ks"]
[null,"Čelo hrebenáča - štít - STRONG",5.3,5.3,null,"ks"]
[null,"Čelo hrebenáča - nárožie - STANDARD",14.5,14.5,null,"ks"]
[null,"Čelo hrebenáča - nárožie - ELEGANZ",15,15,null,"ks"]
[null,"Čelo hrebenáča - nárožie - STRONG",16,16,null,"ks"]
[null,"Sneholap oblúkový - STANDARD",2.2000000000000002,2.2000000000000002,null,"ks"]
[null,"Sneholap oblúkový - ELEGANZ",2.2999999999999998,2.2999999999999998,null,"ks"]
[null,"Sneholap oblúkový - STRONG",2.4,2.4,null,"ks"]
[null,"Doplnky "]
[null,"Falzgel Prefa",28,28,null,"ks"]
[null,"ENKOLIT plastická hmota - balenie 11 kg",8.9,8.9,null,"kg"]
[null,"Prestupové manžety (čierne)"]
[null,"Prestupová manžeta GMF1",14.46,14.46,null,"ks"]
[null,"Prestupová manžeta GMF2",15.4,15.4,null,"ks"]
[null,"Prestupová manžeta GMF3",17.7,17.7,null,"ks"]
[null,"Prestupová manžeta GMF4",26.8,26.8,null,"ks"]
[null,"Prestupová manžeta GMF5",31.12,31.12,null,"ks"]
[null,"Prestupová manžeta GMF6",40.340000000000003,40.340000000000003,null,"ks"]
[null,"Prestupová manžeta GMF7",46.62,46.62,null,"ks"]
[null,"Prestupová manžeta GMF8",69.400000000000006,69.400000000000006,null,"ks"]
[null,"Prestupová manžeta GMF9",127.5,127.5,null,"ks"]
[null,"Spojovací a tesniaci materiál"]
[null,"Farmárska skrutka farebná RAL",7.0000000000000007E-2,7.0000000000000007E-2,"4,8 x 20 mm","ks"]
[null,"Farmárska skrutka farebná RAL",7.0000000000000007E-2,7.0000000000000007E-2,"4,8 x 35 mm","ks"]
[null,"Farmárska skrutka farebná RAL",0.16,0.16,"4,8 x 70 mm","ks"]
[null,"Skrutka (CLIP panel)",0.12,0.12,"4,2 x 25 mm","ks"]
[null,"Skrutka pozink (SOFIT panel)",0.04,0.04,"4,2 x 13 mm","ks"]
[null,"Skrutka pozink (SOFIT panel)",0.05,0.05,"4,2 x 16 mm","ks"]
[null,"Trhací nit farebný",0.13,0.13,"4 x 8 mm","ks"]
[null,"Klinec krútený",1.6,1.6,"3x 40 mm","kg"]
[null,"Klinec krútený",1.6,1.6,"3x 50 mm","kg"]
[null,"Snehové zachytávače"]
[null,"Snehový zachytávač na tegolu lakovaný RAL",1.66,1.66,null,"ks"]
[null,"Snehový zachytávač na škridľu lakovaný RAL",1.8,1.8,null,"ks"]
[null,"Doplnky k falcovanej krytine SCHLEBACH"]
[null,"Príponka pevná lakoplastovaná",0.05,0.05,"25 mm","ks"]
[null,"Príponka pevná medená",0.35,0.35,"25 mm","ks"]
[null,"Príponka pevná nerezová",0.11,0.11,"25 mm","ks"]
[null,"Príponka pevná nerezová",0.19,0.19,"28 mm","ks"]
[null,"Príponka posuvná nerezová",0.3,0.3,"25 mm","ks"]
[null,"Príponka posuvná nerezová",0.45,0.45,"28 mm","ks"]
[null,"Príponka pevná DELTA nerezová",0.55000000000000004,0.55000000000000004,"25 mm","ks"]
[null,"Príponka posuvná DELTA nerezová",0.88,0.88,"25 mm","ks"]
[null,"Klinec krútený",1.6,1.6,"3 x 40 mm","kg"]
[null,"Klinec krútený",1.6,1.6,"3 x 50 mm","kg"]

{"sheet":"EVROMAT strešné krytiny","index":22,"n_rows":70,"n_cols":11,"rows_kept":70,"cut":false,"hidden":false,"merged":[[66,8,69,8],[66,9,69,9],[54,8,57,8],[54,9,57,9],[58,8,61,8],[58,9,61,9],[62,8,65,8],[62,9,65,9],[42,8,45,8],[42,9,45,9],[46,8,49,8],[46,9,49,9],[50,8,53,8],[50,9,53,9],[34,8,37,8],[34,9,37,9],[38,8,41,8],[38,9,41,9],[7,1,7,9],[9,9,12,9],[19,1,19,9],[21,9,23,9],[32,1,32,9],[30,10,30,13],[31,10,31,13],[26,9,26,13],[27,10,27,13],[28,10,28,13],[29,10,29,13]]}
[1.75,null,null,null,null,null,null,"Vaša zľava v %"]
[null,null,null,null,null,null,null,0]
[null,null,null,null,null,null,null,"Ceny sú uvádzané bez DPH za m2 krycej plochy krytiny."]
[]
[]
[]
[]
[null,"Strešná krytina EVROVLNA"]
["PLU","Model","Cena ","Cena po zľave","Hrúbka (mm)","R.š. (mm)","K.š. (mm)","MJ","Objednané množstvá","Obrázok"]
[null,"EVROVLNA (mat. PES)",12.2,{"$f":"IFERROR(C10*(1-$H$2/100),\"-\")","v":12.2},"0,5 mm",1250,1120,"m2"]
[null,"EVROVLNA (mat. QUARTZ)",14.9,14.9,"0,5 mm",1250,1120,"m2"]
[null,"EVROVLNA (mat. STORM)",14.9,14.9,"0,5 mm",1250,1120,"m2"]
[null,"EVROVLNA",16.899999999999999,16.899999999999999,"0,5 mm",1250,1120,"m2"]
[null,"*strešné krytiny PES sú predávané s ochrannou fóliou. "]
[]
[]
[]
[]
[]
[null,"Strešná krytina EVROMODUL"]
["PLU","Model","Cena ","Cena po zľave","Hrúbka (mm)","R.š. (mm)","K.š. (mm)","MJ","Objednané množstvá","Obrázok"]
[null,"EVROMODUL (mat. PES)",10.7,{"$f":"C22*(1-$H$2/100)","v":10.7},0.5,1250,1140,"ks"]
[null,"EVROMODUL (mat. QUARTZ)",11.4,{"$f":"C23*(1-$H$2/100)","v":11.4},0.5,1250,1140,"ks"]
[null,"EVROMODUL (mat. STORM)",11.4,11.4,0.5,1250,1140,"ks"]
[null,"*strešné krytiny PES sú predávané s ochrannou fóliou. "]
[null,"Priečny rez a rozmery"]
[null,null,null,null,"Materiály","Záruka","Vrchná vrstva","Spodná vrstva",null,"Dostupné farebné prevedenia"]
[null,null,null,null,"PES","20 rokov","25 μm","7 μm",null,"Materiály","RAL"]
[null,null,null,null,"QUARTZ","30 rokov","45 μm","10 μm",null,"PES","3009, 3011, 5010, 7016, 8004, 8017, 8019,9005, 9006, 9010, Testa di Moro"]
[null,null,null,null,"STORM","40 rokov","50 μm","12 μm",null,"QUARTZ","3009, 7016, 8017, 9005"]
[null,null,null,null,"AL STUCO","60 rokov","-","-",null,"STORM","3009, 7016, 8017, 9005"]
[null,null,null,null,null,null,null,null,null,"AL STUCO",7016]
[null,"Oplechovania k strešným krytinám EVROVLNA a EVROMODUL"]
[null,"Model","Cena ","Cena po zľave","Materiál ","Dĺžka","MJ","Objednané množstvá","Obrázok","Nákres"]
[null,"Bočné lemovanie, r.š.310 mm",11.5,{"$f":"C35*(1-$H$2/100)","v":11.5},"PES","2 bm","ks"]
[null,"Bočné lemovanie, r.š.310 mm",12,12,"QUARTZ","2 bm","ks"]
[null,"Bočné lemovanie, r.š.310 mm",13,13,"STORM","2 bm","ks"]
[null,"Bočné lemovanie, r.š.310 mm",14,14,"AL STUCO","2 bm","ks"]
[null,"Čelo hrebenáča - nárožie",14.5,14.5,"PES",null,"ks"]
[null,"Čelo hrebenáča - nárožie",15,15,"QUARTZ",null,"ks"]
[null,"Čelo hrebenáča - nárožie",16,16,"STORM",null,"ks"]
[null,"Čelo hrebenáča - nárožie ",17,17,"AL STUCO",null,"ks"]
[null,"Čelo hrebenáča - štít ",4.5999999999999996,4.5999999999999996,"PES",null,"ks"]
[null,"Čelo hrebenáča - štít ",4.8,4.8,"QUARTZ",null,"ks"]
[null,"Čelo hrebenáča - štít",5.3,5.3,"STORM",null,"ks"]
[null,"Čelo hrebenáča - štít ",5.8,5.8,"AL STUCO",null,"ks"]
[null,"Hrebenáč oblý, r.š.312,5 mm",16.5,16.5,"PES","2 bm","ks"]
[null,"Hrebenáč oblý, r.š.312,5 mm",17,17,"QUARTZ","2 bm","ks"]
[null,"Hrebenáč oblý, r.š.312,5 mm",18,18,"STORM","2 bm","ks"]
[null,"Hrebenáč oblý, r.š.312,5 mm",19,19,"AL STUCO","2 bm","ks"]
[null,"Odkvapové lemovanie, r.š.208 mm",7.5,7.5,"PES","2 bm","ks"]
[null,"Odkvapové lemovanie, r.š.208 mm",7.8,7.8,"QUARTZ","2 bm","ks"]
[null,"Odkvapové lemovanie, r.š.208 mm",8.5,8.5,"STORM","2 bm","ks"]
[null,"Odkvapové lemovanie, r.š.208 mm",9.1999999999999993,9.1999999999999993,"AL STUCO","2 bm","ks"]
[null,"Pultové lemovanie, r.š.310 mm",10.199999999999999,10.199999999999999,"PES","2 bm","ks"]
[null,"Pultové lemovanie, r.š.310 mm",10.4,10.4,"QUARTZ","2 bm","ks"]
[null,"Pultové lemovanie, r.š.310 mm",11.2,11.2,"STORM","2 bm","ks"]
[null,"Pultové lemovanie, r.š.310 mm",12.4,12.4,"AL STUCO","2 bm","ks"]
[null,"Sneholap oblúkový",2.2000000000000002,2.2000000000000002,"PES",null,"ks"]
[null,"Sneholap oblúkový ",2.2999999999999998,2.2999999999999998,"QUARTZ",null,"ks"]
[null,"Sneholap oblúkový",2.4,2.4,"STORM",null,"ks"]
[null,"Sneholap oblúkový ",2.6,2.6,"AL STUCO",null,"ks"]
[null,"Úžľabie, r.š.625 mm",16.5,16.5,"PES","2 bm","ks"]
[null,"Úžľabie, r.š.625 mm",17.2,17.2,"QUARTZ","2 bm","ks"]
[null,"Úžľabie, r.š.625 mm",18.7,18.7,"STORM","2 bm","ks"]
[null,"Úžľabie, r.š.625 mm",22,22,"AL STUCO","2 bm","ks"]
[null,"Záveterná lišta štítová, r.š.310 mm ",11.5,11.5,"PES","2 bm","ks"]
[null,"Záveterná lišta štítová, r.š.310 mm ",12,12,"QUARTZ","2 bm","ks"]
[null,"Záveterná lišta štítová, r.š.310 mm  ",13,13,"STORM","2 bm","ks"]
[null,"Záveterná lišta štítová, r.š.310 mm  ",14,14,"AL STUCO","2 bm","ks"]